PDS_VERSION_ID = PDS3
/* FILE DATA ELEMENTS */
RECORD_TYPE = STREAM
/* POINTERS TO DATA OBJECTS */
^COMPRESSED_FILE = "H5546_0000_S13.JP2"
/* IDENTIFICATION DATA ELEMENTS */
DATA_SET_ID = "MEX-M-HRSC-5-REFDR-MAPPROJECTED-V3.0"
DATA_SET_NAME = "MARS EXPRESS HRSC MAP PROJECTED REFDR V3.0"
DETECTOR_ID = MEX_HRSC_S1
EVENT_TYPE = "MARS-REGIONAL-MAPPING-Im-Pf"
INSTRUMENT_HOST_ID = MEX
INSTRUMENT_HOST_NAME = "MARS EXPRESS"
INSTRUMENT_ID = HRSC
INSTRUMENT_NAME = "HIGH RESOLUTION STEREO CAMERA"
MISSION_NAME = "MARS EXPRESS"
MISSION_PHASE_NAME = ME_Phase_12
PROCESSING_LEVEL_ID = 3
PRODUCT_CREATION_TIME = 2016-05-15T06:04:46.000Z
PRODUCT_ID = "H5546_0000_S13.JP2"
RELEASE_ID = 0063
REVISION_ID = 0000
/* QUALITY DATA ELEMENTS */
DATA_QUALITY_ID = 1
DATA_QUALITY_DESC = "Data calculated based on original SPICE kernels"
/* TIME DATA ELEMENTS */
SPACECRAFT_CLOCK_START_COUNT = "1/0157350682.09058"
SPACECRAFT_CLOCK_STOP_COUNT = "1/0157350940.64229"
START_TIME = 2008-04-27T04:31:25.843Z
STOP_TIME = 2008-04-27T04:34:28.443Z
/* ORBITAL DATA ELEMENTS */
ASCENDING_NODE_LONGITUDE = 112.95
MAXIMUM_RESOLUTION = 30.7
FOOTPRINT_POINT_LATITUDE = (74.707,74.6633,74.6335,74.6015,74.531, 74.3594,74.1413,73.9227,73.7039,73.4848 ,73.2657,73.046,72.8263,72.6061,72.3856 ,72.0547,71.7234,71.3918,71.0596, 70.8379,70.6164,70.3943,70.1722,69.9497 ,69.6157,69.2818,69.0591,68.7245, 68.5014,68.2784,68.0546,67.831,67.4955, 67.1597,66.8236,66.5995,66.3361,66.069, 65.8011,65.3993,65.1311,64.7287,64.4601 ,64.1917,63.9237,63.6553,63.2531, 62.9846,62.716,62.5942,62.6143,62.6328, 62.6497,62.6639,62.6819,63.0933,63.4988 ,63.769,64.038,64.4434,64.7139,65.1199, 65.5225,65.792,66.1962,66.4661,66.7311, 66.9569,67.1827,67.4083,67.7466,67.972, 68.1974,68.4226,68.7604,68.9855,69.2106 ,69.4354,69.6603,69.8851,70.1098, 70.4468,70.6712,70.8953,71.1197,71.3438 ,71.6797,71.9035,72.2389,72.4626, 72.6861,72.9092,73.1324,73.3552,73.5778 ,73.8004,74.0225,74.2448,74.4668, 74.707)
FOOTPRINT_POINT_LONGITUDE = (175.648,174.519,173.829,173.145, 171.791,171.247,171.427,171.601,171.77, 171.935,172.095,172.25,172.401,172.548, 172.691,172.898,173.098,173.289,173.473 ,173.592,173.707,173.82,173.93,174.037, 174.193,174.343,174.44,174.581,174.673, 174.762,174.849,174.934,175.058,175.177 ,175.293,175.368,175.453,175.538, 175.621,175.74,175.817,175.929,176.001, 176.071,176.14,176.206,176.303,176.365, 176.426,176.741,177.199,177.658,178.119 ,178.553,179.193,179.372,179.305, 179.259,179.213,179.14,179.089,179.011, 178.934,178.88,178.795,178.737,178.679, 178.627,178.575,178.522,178.44,178.383, 178.326,178.267,178.177,178.114,178.051 ,177.986,177.919,177.851,177.781, 177.673,177.599,177.523,177.445,177.365 ,177.242,177.157,177.025,176.934, 176.841,176.745,176.646,176.546,176.442 ,176.335,176.226,176.113,175.997, 175.648)
ORBIT_NUMBER = 5546
ORBITAL_ECCENTRICITY = 0.568
ORBITAL_INCLINATION = 86.75
ORBITAL_SEMIMAJOR_AXIS = 8637.48
PERIAPSIS_ALTITUDE = 357.62
PERIAPSIS_ARGUMENT_ANGLE = 102.71
PERIAPSIS_TIME = 2008-04-27T04:31:19.000Z
SPACECRAFT_ORIENTATION = (0.0,-1.0,0.0)
^MEX_ORIENTATION_DESC = "MEX_ORIENTATION_DESC.TXT"
SPACECRAFT_POINTING_MODE = ACROSSTRACK
^MEX_POINTING_DESC = "MEX_POINTING_DESC.TXT"
RIGHT_ASCENSION = -1e+32
DECLINATION = -1e+32
OFFSET_ANGLE = 0.2
SPACECRAFT_SOLAR_DISTANCE = 2.49034e+08
TARGET_NAME = MARS
/* CAMERA DATA ELEMENTS */
DETECTOR_TEMPERATURE = 16.7393
FOCAL_PLANE_TEMPERATURE = 7.156
INST_CMPRS_NAME = "DISCRETE COSINE TRANSFORMATION (DCT)"
INST_CMPRS_RATIO = 11.9327
INST_CMPRS_QUALITY = 0
INST_CMPRS_QUANTZ_TBL_ID = 0
INSTRUMENT_TEMPERATURE = 10.6223
LENS_TEMPERATURE = 7.5638
MACROPIXEL_SIZE = 2
MISSING_FRAMES = 0
PIXEL_SUBSAMPLING_FLAG = N
SIGNAL_CHAIN_ID = 1
/* RADIOMETRIC DATA ELEMENTS */
BANDWIDTH = 180.0
CENTER_FILTER_WAVELENGTH = 677.0
RADIANCE_OFFSET = 4.08033
RADIANCE_SCALING_FACTOR = 0.0295914
REFLECTANCE_SCALING_FACTOR = 0.000957468
MEX:REFLECTANCE_OFFSET = 0.132024
/* IMAGE OBJECT DEFINITIONS */
OBJECT = IMAGE
  INTERCHANGE_FORMAT = BINARY
  LINES = 28476
  LINE_SAMPLES = 6687
  SAMPLE_TYPE = UNSIGNED_INTEGER
  SAMPLE_BITS = 8
  BANDS = 1
  BAND_STORAGE_TYPE = BAND_SEQUENTIAL
  MAXIMUM = 255
  MEAN = 63.0936
  MINIMUM = 1
  STANDARD_DEVIATION = 17.538
END_OBJECT = IMAGE
/* MAP OBJECT DEFINITIONS */
OBJECT = IMAGE_MAP_PROJECTION
  ^DATA_SET_MAP_PROJECTION_CATALOG= "DSMAP.CAT"
  A_AXIS_RADIUS = 3396.0
  B_AXIS_RADIUS = 3396.0
  C_AXIS_RADIUS = 3396.0
  CENTER_LATITUDE = 0.0
  CENTER_LONGITUDE = 176.0
  COORDINATE_SYSTEM_NAME = PLANETOGRAPHIC
  COORDINATE_SYSTEM_TYPE = "BODY-FIXED ROTATING"
  EASTERNMOST_LONGITUDE = 179.372
  FIRST_STANDARD_PARALLEL = "N/A"
  LINE_FIRST_PIXEL = 1
  LINE_LAST_PIXEL = 28476
  LINE_PROJECTION_OFFSET = 176859.75
  MAP_PROJECTION_ROTATION = 0.0
  MAP_PROJECTION_TYPE = SINUSOIDAL
  MAP_RESOLUTION = 2370.85521546667
  MAP_SCALE = 0.025
  MAXIMUM_LATITUDE = 74.70699999999999
  MINIMUM_LATITUDE = 62.5942
  POSITIVE_LONGITUDE_DIRECTION = EAST
  REFERENCE_LATITUDE = "N/A"
  REFERENCE_LONGITUDE = "N/A"
  SAMPLE_FIRST_PIXEL = 1
  SAMPLE_LAST_PIXEL = 6687
  SAMPLE_PROJECTION_OFFSET = 2994.25
  SECOND_STANDARD_PARALLEL = "N/A"
  WESTERNMOST_LONGITUDE = 171.247
END_OBJECT = IMAGE_MAP_PROJECTION
/* The JPEG2000 image data file associated with this label. */
OBJECT = COMPRESSED_FILE
  FILE_NAME = "H5546_0000_S13.JP2"
  RECORD_TYPE = UNDEFINED
  FILE_RECORDS = UNK
  ENCODING_TYPE = "JP2"
  INTERCHANGE_FORMAT = BINARY
  UNCOMPRESSED_FILE_NAME = "H5546_0000_S13.IMG"
  REQUIRED_STORAGE_BYTES = "190452447"
  ^DESCRIPTION = "JP2INFO.TXT"
END_OBJECT = COMPRESSED_FILE
END
