PDS_VERSION_ID = PDS3
/* FILE DATA ELEMENTS */
RECORD_TYPE = STREAM
/* POINTERS TO DATA OBJECTS */
^COMPRESSED_FILE = "H5551_0000_BL3.JP2"
/* IDENTIFICATION DATA ELEMENTS */
DATA_SET_ID = "MEX-M-HRSC-5-REFDR-MAPPROJECTED-V3.0"
DATA_SET_NAME = "MARS EXPRESS HRSC MAP PROJECTED REFDR V3.0"
DETECTOR_ID = MEX_HRSC_BLUE
EVENT_TYPE = "MARS-REGIONAL-MAPPING-Gl-La"
INSTRUMENT_HOST_ID = MEX
INSTRUMENT_HOST_NAME = "MARS EXPRESS"
INSTRUMENT_ID = HRSC
INSTRUMENT_NAME = "HIGH RESOLUTION STEREO CAMERA"
MISSION_NAME = "MARS EXPRESS"
MISSION_PHASE_NAME = ME_Phase_12
PROCESSING_LEVEL_ID = 3
PRODUCT_CREATION_TIME = 2016-05-15T06:04:46.000Z
PRODUCT_ID = "H5551_0000_BL3.JP2"
RELEASE_ID = 0063
REVISION_ID = 0000
/* QUALITY DATA ELEMENTS */
DATA_QUALITY_ID = 1
DATA_QUALITY_DESC = "Data calculated based on original SPICE kernels"
/* TIME DATA ELEMENTS */
SPACECRAFT_CLOCK_START_COUNT = "1/0157473665.07302"
SPACECRAFT_CLOCK_STOP_COUNT = "1/0157473897.47451"
START_TIME = 2008-04-28T14:41:49.394Z
STOP_TIME = 2008-04-28T14:44:32.002Z
/* ORBITAL DATA ELEMENTS */
ASCENDING_NODE_LONGITUDE = 112.85
MAXIMUM_RESOLUTION = 52.9
FOOTPRINT_POINT_LATITUDE = (85.3637,85.1779,85.0355,84.9273, 84.8004,84.5859,84.4208,84.2698,84.1156 ,83.9578,83.7968,83.633,83.3823,83.2121 ,83.0398,82.8654,82.6891,82.5111, 82.3314,82.1502,81.8757,81.6911,81.5053 ,81.3184,81.0362,80.8468,80.5611, 80.3696,80.1773,79.9843,79.7907,79.5963 ,79.3037,79.0102,78.8137,78.6167, 78.4192,78.1223,77.9238,77.725,77.5258, 77.3263,77.0264,76.8261,76.6256,76.3244 ,76.1233,75.922,75.6196,75.4177,75.3167 ,75.3555,75.4206,75.4936,75.5498, 75.7558,75.9618,76.2707,76.4764,76.6822 ,76.8878,77.0934,77.4014,77.7093, 77.9144,78.1193,78.3241,78.5287,78.7331 ,79.0393,79.243,79.4466,79.7511,79.9537 ,80.1565,80.3588,80.5609,80.863,81.0646 ,81.3651,81.6647,81.864,82.1619,82.3598 ,82.557,82.8515,83.0469,83.2413,83.4348 ,83.6272,83.8185,84.0086,84.2911, 84.5701,84.7533,84.9345,85.1136,85.2903 ,85.4972,85.3637)
FOOTPRINT_POINT_LONGITUDE = (367.256,364.464,362.56,361.226,359.769 ,358.98,360.711,362.166,363.567,364.881 ,366.128,367.308,368.967,370.003, 370.987,371.923,372.813,373.66,374.468, 375.237,376.326,377.01,377.664,378.29, 379.176,379.737,380.532,381.036,381.52, 381.986,382.43,382.861,383.477,384.05, 384.42,384.777,385.121,385.615,385.931, 386.235,386.53,386.815,387.225,387.487, 387.741,388.107,388.342,388.569,388.898 ,389.109,389.736,390.369,391.506, 392.931,394.151,394.006,393.856,393.624 ,393.462,393.296,393.124,392.946, 392.669,392.377,392.174,391.964,391.746 ,391.521,391.287,390.919,390.661, 390.393,389.969,389.671,389.364,389.042 ,388.708,388.175,387.804,387.207, 386.569,386.118,385.398,384.888,384.35, 383.487,382.872,382.221,381.531,380.799 ,380.021,379.194,377.852,376.37,375.292 ,374.136,372.897,371.564,369.84, 367.256)
ORBIT_NUMBER = 5551
ORBITAL_ECCENTRICITY = 0.568
ORBITAL_INCLINATION = 86.75
ORBITAL_SEMIMAJOR_AXIS = 8638.6
PERIAPSIS_ALTITUDE = 357.51
PERIAPSIS_ARGUMENT_ANGLE = 101.83
PERIAPSIS_TIME = 2008-04-28T14:43:49.000Z
SPACECRAFT_ORIENTATION = (0.0,-1.0,0.0)
^MEX_ORIENTATION_DESC = "MEX_ORIENTATION_DESC.TXT"
SPACECRAFT_POINTING_MODE = NADIR
^MEX_POINTING_DESC = "MEX_POINTING_DESC.TXT"
RIGHT_ASCENSION = -1e+32
DECLINATION = -1e+32
OFFSET_ANGLE = -1e+32
SPACECRAFT_SOLAR_DISTANCE = 2.49066e+08
TARGET_NAME = MARS
/* CAMERA DATA ELEMENTS */
DETECTOR_TEMPERATURE = 17.5549
FOCAL_PLANE_TEMPERATURE = 6.9521
INST_CMPRS_NAME = "DISCRETE COSINE TRANSFORMATION (DCT)"
INST_CMPRS_RATIO = 25.0813
INST_CMPRS_QUALITY = 0
INST_CMPRS_QUANTZ_TBL_ID = 0
INSTRUMENT_TEMPERATURE = 10.4184
LENS_TEMPERATURE = 7.3599
MACROPIXEL_SIZE = 4
MISSING_FRAMES = 0
PIXEL_SUBSAMPLING_FLAG = N
SIGNAL_CHAIN_ID = 2
/* RADIOMETRIC DATA ELEMENTS */
BANDWIDTH = 76.0
CENTER_FILTER_WAVELENGTH = 444.0
RADIANCE_OFFSET = 0.614223
RADIANCE_SCALING_FACTOR = 0.00704773
REFLECTANCE_SCALING_FACTOR = 0.000449197
MEX:REFLECTANCE_OFFSET = 0.0391484
/* IMAGE OBJECT DEFINITIONS */
OBJECT = IMAGE
  INTERCHANGE_FORMAT = BINARY
  LINES = 12138
  LINE_SAMPLES = 5610
  SAMPLE_TYPE = UNSIGNED_INTEGER
  SAMPLE_BITS = 8
  BANDS = 1
  BAND_STORAGE_TYPE = BAND_SEQUENTIAL
  MAXIMUM = 255
  MEAN = 168.07
  MINIMUM = 1
  STANDARD_DEVIATION = 23.3641
END_OBJECT = IMAGE
/* MAP OBJECT DEFINITIONS */
OBJECT = IMAGE_MAP_PROJECTION
  ^DATA_SET_MAP_PROJECTION_CATALOG= "DSMAP.CAT"
  A_AXIS_RADIUS = 3396.0
  B_AXIS_RADIUS = 3396.0
  C_AXIS_RADIUS = 3396.0
  CENTER_LATITUDE = 0.0
  CENTER_LONGITUDE = 25.0
  COORDINATE_SYSTEM_NAME = PLANETOGRAPHIC
  COORDINATE_SYSTEM_TYPE = "BODY-FIXED ROTATING"
  EASTERNMOST_LONGITUDE = 34.151
  FIRST_STANDARD_PARALLEL = "N/A"
  LINE_FIRST_PIXEL = 1
  LINE_LAST_PIXEL = 12138
  LINE_PROJECTION_OFFSET = 101383.875
  MAP_PROJECTION_ROTATION = 0.0
  MAP_PROJECTION_TYPE = SINUSOIDAL
  MAP_RESOLUTION = 1185.42760773333
  MAP_SCALE = 0.05
  MAXIMUM_LATITUDE = 85.49720000000001
  MINIMUM_LATITUDE = 75.3167
  POSITIVE_LONGITUDE_DIRECTION = EAST
  REFERENCE_LATITUDE = "N/A"
  REFERENCE_LONGITUDE = "N/A"
  SAMPLE_FIRST_PIXEL = 1
  SAMPLE_LAST_PIXEL = 5610
  SAMPLE_PROJECTION_OFFSET = 2933.375
  SECOND_STANDARD_PARALLEL = "N/A"
  WESTERNMOST_LONGITUDE = -1.02
END_OBJECT = IMAGE_MAP_PROJECTION
/* The JPEG2000 image data file associated with this label. */
OBJECT = COMPRESSED_FILE
  FILE_NAME = "H5551_0000_BL3.JP2"
  RECORD_TYPE = UNDEFINED
  FILE_RECORDS = UNK
  ENCODING_TYPE = "JP2"
  INTERCHANGE_FORMAT = BINARY
  UNCOMPRESSED_FILE_NAME = "H5551_0000_BL3.IMG"
  REQUIRED_STORAGE_BYTES = "68122230"
  ^DESCRIPTION = "JP2INFO.TXT"
END_OBJECT = COMPRESSED_FILE
END
