PDS_VERSION_ID = PDS3
/* FILE DATA ELEMENTS */
RECORD_TYPE = STREAM
/* POINTERS TO DATA OBJECTS */
^COMPRESSED_FILE = "H5554_0000_BL3.JP2"
/* IDENTIFICATION DATA ELEMENTS */
DATA_SET_ID = "MEX-M-HRSC-5-REFDR-MAPPROJECTED-V3.0"
DATA_SET_NAME = "MARS EXPRESS HRSC MAP PROJECTED REFDR V3.0"
DETECTOR_ID = MEX_HRSC_BLUE
EVENT_TYPE = "MARS-REGIONAL-MAPPING-Im-Gl-La"
INSTRUMENT_HOST_ID = MEX
INSTRUMENT_HOST_NAME = "MARS EXPRESS"
INSTRUMENT_ID = HRSC
INSTRUMENT_NAME = "HIGH RESOLUTION STEREO CAMERA"
MISSION_NAME = "MARS EXPRESS"
MISSION_PHASE_NAME = ME_Phase_12
PROCESSING_LEVEL_ID = 3
PRODUCT_CREATION_TIME = 2016-05-15T06:04:46.000Z
PRODUCT_ID = "H5554_0000_BL3.JP2"
RELEASE_ID = 0063
REVISION_ID = 0000
/* QUALITY DATA ELEMENTS */
DATA_QUALITY_ID = 1
DATA_QUALITY_DESC = "Data calculated based on original SPICE kernels"
/* TIME DATA ELEMENTS */
SPACECRAFT_CLOCK_START_COUNT = "1/0157547588.08264"
SPACECRAFT_CLOCK_STOP_COUNT = "1/0157547809.06072"
START_TIME = 2008-04-29T11:13:51.478Z
STOP_TIME = 2008-04-29T11:16:23.422Z
/* ORBITAL DATA ELEMENTS */
ASCENDING_NODE_LONGITUDE = 112.8
MAXIMUM_RESOLUTION = 57.5
FOOTPRINT_POINT_LATITUDE = (84.2448,84.1483,84.0477,83.9434, 83.8354,83.6858,83.5355,83.3828,83.2276 ,83.0706,82.9114,82.6694,82.506,82.341, 82.1745,82.0065,81.8375,81.5816,81.3232 ,81.1497,80.9752,80.7999,80.6237, 80.4467,80.269,80.0906,79.8217,79.5515, 79.3706,79.1892,79.0073,78.8249,78.5504 ,78.2751,77.9988,77.8142,77.6292,77.444 ,77.2584,77.0725,76.8864,76.6067, 76.3265,76.0458,75.8584,75.6708,75.3891 ,75.2011,74.9188,74.7535,74.7909, 74.8434,74.8773,74.9147,74.9682,75.0206 ,75.3086,75.5006,75.6926,75.8845, 76.1722,76.4598,76.6514,76.9385,77.1298 ,77.3212,77.5125,77.799,77.9898,78.1805 ,78.4662,78.6565,78.8465,79.1313, 79.3209,79.5102,79.6993,79.9825,80.1708 ,80.4528,80.6403,80.8276,81.1075, 81.3865,81.6642,81.8491,82.0333,82.2166 ,82.3996,82.6727,82.8539,83.0345,83.303 ,83.481,83.6579,83.8336,84.0081,84.1811 ,84.3527,84.2448)
FOOTPRINT_POINT_LONGITUDE = (72.3399,70.8539,69.4135,68.0199, 66.6702,64.5929,65.7099,66.7746,67.7857 ,68.7556,69.6786,70.9907,71.8191, 72.6092,73.3613,74.0774,74.7809,75.7685 ,76.6836,77.276,77.8406,78.3786,78.9002 ,79.4032,79.8881,80.3534,81.0199, 81.6514,82.0546,82.4436,82.8189,83.1819 ,83.7037,84.2006,84.6731,84.976,85.2692 ,85.5533,85.8294,86.0973,86.3565, 86.7309,87.089,87.4316,87.6522,87.8664, 88.1774,88.3772,88.6674,88.8319,89.3984 ,90.2343,90.8074,91.4708,92.4919, 93.5753,93.3709,93.2302,93.0854,92.9365 ,92.7053,92.464,92.2971,92.0368,91.8565 ,91.6717,91.4807,91.1823,90.9753, 90.7614,90.427,90.1946,89.9539,89.5772, 89.3146,89.0422,88.7597,88.3156,88.0051 ,87.516,87.1731,86.8164,86.2522,85.6508 ,85.0081,84.5564,84.0833,83.5865,83.067 ,82.2382,81.6507,81.0334,80.042,79.3368 ,78.5915,77.8039,76.9699,76.0861, 75.1482,72.3399)
ORBIT_NUMBER = 5554
ORBITAL_ECCENTRICITY = 0.568
ORBITAL_INCLINATION = 86.76
ORBITAL_SEMIMAJOR_AXIS = 8638.04
PERIAPSIS_ALTITUDE = 356.74
PERIAPSIS_ARGUMENT_ANGLE = 101.29
PERIAPSIS_TIME = 2008-04-29T11:15:25.000Z
SPACECRAFT_ORIENTATION = (0.0,-1.0,0.0)
^MEX_ORIENTATION_DESC = "MEX_ORIENTATION_DESC.TXT"
SPACECRAFT_POINTING_MODE = ACROSSTRACK
^MEX_POINTING_DESC = "MEX_POINTING_DESC.TXT"
RIGHT_ASCENSION = -1e+32
DECLINATION = -1e+32
OFFSET_ANGLE = -0.18
SPACECRAFT_SOLAR_DISTANCE = 2.49084e+08
TARGET_NAME = MARS
/* CAMERA DATA ELEMENTS */
DETECTOR_TEMPERATURE = 17.5549
FOCAL_PLANE_TEMPERATURE = 7.156
INST_CMPRS_NAME = "DISCRETE COSINE TRANSFORMATION (DCT)"
INST_CMPRS_RATIO = 17.6345
INST_CMPRS_QUALITY = 0
INST_CMPRS_QUANTZ_TBL_ID = 0
INSTRUMENT_TEMPERATURE = 10.4184
LENS_TEMPERATURE = 7.3599
MACROPIXEL_SIZE = 4
MISSING_FRAMES = 0
PIXEL_SUBSAMPLING_FLAG = N
SIGNAL_CHAIN_ID = 2
/* RADIOMETRIC DATA ELEMENTS */
BANDWIDTH = 76.0
CENTER_FILTER_WAVELENGTH = 444.0
RADIANCE_OFFSET = 0.651636
RADIANCE_SCALING_FACTOR = 0.0104347
REFLECTANCE_SCALING_FACTOR = 0.000665162
MEX:REFLECTANCE_OFFSET = 0.0415387
/* IMAGE OBJECT DEFINITIONS */
OBJECT = IMAGE
  INTERCHANGE_FORMAT = BINARY
  LINES = 11429
  LINE_SAMPLES = 5220
  SAMPLE_TYPE = UNSIGNED_INTEGER
  SAMPLE_BITS = 8
  BANDS = 1
  BAND_STORAGE_TYPE = BAND_SEQUENTIAL
  MAXIMUM = 255
  MEAN = 123.558
  MINIMUM = 1
  STANDARD_DEVIATION = 38.2259
END_OBJECT = IMAGE
/* MAP OBJECT DEFINITIONS */
OBJECT = IMAGE_MAP_PROJECTION
  ^DATA_SET_MAP_PROJECTION_CATALOG= "DSMAP.CAT"
  A_AXIS_RADIUS = 3396.0
  B_AXIS_RADIUS = 3396.0
  C_AXIS_RADIUS = 3396.0
  CENTER_LATITUDE = 0.0
  CENTER_LONGITUDE = 85.0
  COORDINATE_SYSTEM_NAME = PLANETOGRAPHIC
  COORDINATE_SYSTEM_TYPE = "BODY-FIXED ROTATING"
  EASTERNMOST_LONGITUDE = 93.5753
  FIRST_STANDARD_PARALLEL = "N/A"
  LINE_FIRST_PIXEL = 1
  LINE_LAST_PIXEL = 11429
  LINE_PROJECTION_OFFSET = 100057.625
  MAP_PROJECTION_ROTATION = 0.0
  MAP_PROJECTION_TYPE = SINUSOIDAL
  MAP_RESOLUTION = 1185.42760773333
  MAP_SCALE = 0.05
  MAXIMUM_LATITUDE = 84.3527
  MINIMUM_LATITUDE = 74.7535
  POSITIVE_LONGITUDE_DIRECTION = EAST
  REFERENCE_LATITUDE = "N/A"
  REFERENCE_LONGITUDE = "N/A"
  SAMPLE_FIRST_PIXEL = 1
  SAMPLE_LAST_PIXEL = 5220
  SAMPLE_PROJECTION_OFFSET = 2609.125
  SECOND_STANDARD_PARALLEL = "N/A"
  WESTERNMOST_LONGITUDE = 64.5929
END_OBJECT = IMAGE_MAP_PROJECTION
/* The JPEG2000 image data file associated with this label. */
OBJECT = COMPRESSED_FILE
  FILE_NAME = "H5554_0000_BL3.JP2"
  RECORD_TYPE = UNDEFINED
  FILE_RECORDS = UNK
  ENCODING_TYPE = "JP2"
  INTERCHANGE_FORMAT = BINARY
  UNCOMPRESSED_FILE_NAME = "H5554_0000_BL3.IMG"
  REQUIRED_STORAGE_BYTES = "59685480"
  ^DESCRIPTION = "JP2INFO.TXT"
END_OBJECT = COMPRESSED_FILE
END
