PDS_VERSION_ID = PDS3
/* FILE DATA ELEMENTS */
RECORD_TYPE = STREAM
/* POINTERS TO DATA OBJECTS */
^COMPRESSED_FILE = "H5554_0000_P13.JP2"
/* IDENTIFICATION DATA ELEMENTS */
DATA_SET_ID = "MEX-M-HRSC-5-REFDR-MAPPROJECTED-V3.0"
DATA_SET_NAME = "MARS EXPRESS HRSC MAP PROJECTED REFDR V3.0"
DETECTOR_ID = MEX_HRSC_P1
EVENT_TYPE = "MARS-REGIONAL-MAPPING-Im-Gl-La"
INSTRUMENT_HOST_ID = MEX
INSTRUMENT_HOST_NAME = "MARS EXPRESS"
INSTRUMENT_ID = HRSC
INSTRUMENT_NAME = "HIGH RESOLUTION STEREO CAMERA"
MISSION_NAME = "MARS EXPRESS"
MISSION_PHASE_NAME = ME_Phase_12
PROCESSING_LEVEL_ID = 3
PRODUCT_CREATION_TIME = 2016-05-15T06:04:46.000Z
PRODUCT_ID = "H5554_0000_P13.JP2"
RELEASE_ID = 0063
REVISION_ID = 0000
/* QUALITY DATA ELEMENTS */
DATA_QUALITY_ID = 1
DATA_QUALITY_DESC = "Data calculated based on original SPICE kernels"
/* TIME DATA ELEMENTS */
SPACECRAFT_CLOCK_START_COUNT = "1/0157547588.08264"
SPACECRAFT_CLOCK_STOP_COUNT = "1/0157547809.06072"
START_TIME = 2008-04-29T11:13:23.533Z
STOP_TIME = 2008-04-29T11:15:56.659Z
/* ORBITAL DATA ELEMENTS */
ASCENDING_NODE_LONGITUDE = 112.8
MAXIMUM_RESOLUTION = 29.5
FOOTPRINT_POINT_LATITUDE = (84.4978,84.3272,84.2128,84.1007, 83.9842,83.7783,83.5865,83.4359,83.2823 ,83.127,82.8898,82.7293,82.5677,82.4037 ,82.2379,82.0697,81.8183,81.6478, 81.4748,81.3007,81.1277,80.8645,80.6876 ,80.5105,80.3328,80.1539,79.8841, 79.6128,79.4312,79.2489,79.0659,78.8824 ,78.6984,78.4213,78.2361,77.9571, 77.7707,77.5837,77.3964,77.115,76.9268, 76.7382,76.4544,76.2648,76.0749,75.8847 ,75.5989,75.3125,75.0256,74.7535, 74.8065,74.8736,74.9171,74.9628,75.0178 ,75.2137,75.4089,75.6042,75.7994, 75.9944,76.1891,76.384,76.5784,76.8701, 77.0644,77.3548,77.5481,77.7414,77.9345 ,78.2237,78.4164,78.7045,78.8963, 79.0879,79.3745,79.5653,79.7558,80.0409 ,80.3251,80.5142,80.7028,80.8909, 81.0789,81.3596,81.5458,81.7328,81.9177 ,82.1026,82.3783,82.652,82.8337,83.0139 ,83.1944,83.3727,83.5505,83.7269,83.902 ,84.1621,84.3336,84.4978)
FOOTPRINT_POINT_LONGITUDE = (74.1041,71.333,69.6693,68.1622,66.7102 ,64.3769,65.1632,66.245,67.2785,68.2652 ,69.6638,70.545,71.3878,72.1946,72.967, 73.7068,74.7596,75.4255,76.0641,76.677, 77.2666,78.1077,78.6414,79.1555,79.6506 ,80.1274,80.8102,81.457,81.8695,82.2677 ,82.6523,83.024,83.3834,83.9004,84.2313 ,84.7078,85.0131,85.3088,85.5956, 86.0099,86.2756,86.5334,86.906,87.1453, 87.378,87.604,87.9315,88.2455,88.547, 89.1107,89.8835,90.9329,91.6663,92.4949 ,93.5739,93.4365,93.2967,93.1523, 93.0038,92.8512,92.6946,92.5326,92.3666 ,92.107,91.9273,91.6491,91.4564,91.2568 ,91.0509,90.7291,90.5053,90.1561, 89.9129,89.6611,89.2665,88.9911,88.7055 ,88.2562,87.7806,87.4471,87.1001, 86.7395,86.3616,85.7657,85.3482,84.9043 ,84.4482,83.9668,83.2037,82.386,81.8043 ,81.1971,80.5491,79.8745,79.1585, 78.4037,77.6063,76.3209,75.3992, 74.1041)
ORBIT_NUMBER = 5554
ORBITAL_ECCENTRICITY = 0.568
ORBITAL_INCLINATION = 86.76
ORBITAL_SEMIMAJOR_AXIS = 8638.04
PERIAPSIS_ALTITUDE = 356.74
PERIAPSIS_ARGUMENT_ANGLE = 101.29
PERIAPSIS_TIME = 2008-04-29T11:15:25.000Z
SPACECRAFT_ORIENTATION = (0.0,-1.0,0.0)
^MEX_ORIENTATION_DESC = "MEX_ORIENTATION_DESC.TXT"
SPACECRAFT_POINTING_MODE = ACROSSTRACK
^MEX_POINTING_DESC = "MEX_POINTING_DESC.TXT"
RIGHT_ASCENSION = -1e+32
DECLINATION = -1e+32
OFFSET_ANGLE = -0.18
SPACECRAFT_SOLAR_DISTANCE = 2.49084e+08
TARGET_NAME = MARS
/* CAMERA DATA ELEMENTS */
DETECTOR_TEMPERATURE = 16.7393
FOCAL_PLANE_TEMPERATURE = 7.156
INST_CMPRS_NAME = "DISCRETE COSINE TRANSFORMATION (DCT)"
INST_CMPRS_RATIO = 9.19604
INST_CMPRS_QUALITY = 0
INST_CMPRS_QUANTZ_TBL_ID = 0
INSTRUMENT_TEMPERATURE = 10.4184
LENS_TEMPERATURE = 7.3599
MACROPIXEL_SIZE = 2
MISSING_FRAMES = 0
PIXEL_SUBSAMPLING_FLAG = N
SIGNAL_CHAIN_ID = 3
/* RADIOMETRIC DATA ELEMENTS */
BANDWIDTH = 174.0
CENTER_FILTER_WAVELENGTH = 675.0
RADIANCE_OFFSET = 2.76457
RADIANCE_SCALING_FACTOR = 0.038801
REFLECTANCE_SCALING_FACTOR = 0.00129485
MEX:REFLECTANCE_OFFSET = 0.0922579
/* IMAGE OBJECT DEFINITIONS */
OBJECT = IMAGE
  INTERCHANGE_FORMAT = BINARY
  LINES = 22857
  LINE_SAMPLES = 10440
  SAMPLE_TYPE = UNSIGNED_INTEGER
  SAMPLE_BITS = 8
  BANDS = 1
  BAND_STORAGE_TYPE = BAND_SEQUENTIAL
  MAXIMUM = 255
  MEAN = 148.371
  MINIMUM = 1
  STANDARD_DEVIATION = 45.3876
END_OBJECT = IMAGE
/* MAP OBJECT DEFINITIONS */
OBJECT = IMAGE_MAP_PROJECTION
  ^DATA_SET_MAP_PROJECTION_CATALOG= "DSMAP.CAT"
  A_AXIS_RADIUS = 3396.0
  B_AXIS_RADIUS = 3396.0
  C_AXIS_RADIUS = 3396.0
  CENTER_LATITUDE = 0.0
  CENTER_LONGITUDE = 85.0
  COORDINATE_SYSTEM_NAME = PLANETOGRAPHIC
  COORDINATE_SYSTEM_TYPE = "BODY-FIXED ROTATING"
  EASTERNMOST_LONGITUDE = 93.57389999999999
  FIRST_STANDARD_PARALLEL = "N/A"
  LINE_FIRST_PIXEL = 1
  LINE_LAST_PIXEL = 22857
  LINE_PROJECTION_OFFSET = 200115.75
  MAP_PROJECTION_ROTATION = 0.0
  MAP_PROJECTION_TYPE = SINUSOIDAL
  MAP_RESOLUTION = 2370.85521546667
  MAP_SCALE = 0.025
  MAXIMUM_LATITUDE = 84.4978
  MINIMUM_LATITUDE = 74.7535
  POSITIVE_LONGITUDE_DIRECTION = EAST
  REFERENCE_LATITUDE = "N/A"
  REFERENCE_LONGITUDE = "N/A"
  SAMPLE_FIRST_PIXEL = 1
  SAMPLE_LAST_PIXEL = 10440
  SAMPLE_PROJECTION_OFFSET = 5218.75
  SECOND_STANDARD_PARALLEL = "N/A"
  WESTERNMOST_LONGITUDE = 64.37690000000001
END_OBJECT = IMAGE_MAP_PROJECTION
/* The JPEG2000 image data file associated with this label. */
OBJECT = COMPRESSED_FILE
  FILE_NAME = "H5554_0000_P13.JP2"
  RECORD_TYPE = UNDEFINED
  FILE_RECORDS = UNK
  ENCODING_TYPE = "JP2"
  INTERCHANGE_FORMAT = BINARY
  UNCOMPRESSED_FILE_NAME = "H5554_0000_P13.IMG"
  REQUIRED_STORAGE_BYTES = "238658400"
  ^DESCRIPTION = "JP2INFO.TXT"
END_OBJECT = COMPRESSED_FILE
END
