PDS_VERSION_ID = PDS3
/* FILE DATA ELEMENTS */
RECORD_TYPE = STREAM
/* POINTERS TO DATA OBJECTS */
^COMPRESSED_FILE = "H5557_0000_GR3.JP2"
/* IDENTIFICATION DATA ELEMENTS */
DATA_SET_ID = "MEX-M-HRSC-5-REFDR-MAPPROJECTED-V3.0"
DATA_SET_NAME = "MARS EXPRESS HRSC MAP PROJECTED REFDR V3.0"
DETECTOR_ID = MEX_HRSC_GREEN
EVENT_TYPE = "MARS-REGIONAL-COLOR-Vo-Gl-Eo"
INSTRUMENT_HOST_ID = MEX
INSTRUMENT_HOST_NAME = "MARS EXPRESS"
INSTRUMENT_ID = HRSC
INSTRUMENT_NAME = "HIGH RESOLUTION STEREO CAMERA"
MISSION_NAME = "MARS EXPRESS"
MISSION_PHASE_NAME = ME_Phase_12
PROCESSING_LEVEL_ID = 3
PRODUCT_CREATION_TIME = 2016-05-15T06:04:46.000Z
PRODUCT_ID = "H5557_0000_GR3.JP2"
RELEASE_ID = 0063
REVISION_ID = 0000
/* QUALITY DATA ELEMENTS */
DATA_QUALITY_ID = 1
DATA_QUALITY_DESC = "Data calculated based on original SPICE kernels"
/* TIME DATA ELEMENTS */
SPACECRAFT_CLOCK_START_COUNT = "1/0157621452.08244"
SPACECRAFT_CLOCK_STOP_COUNT = "1/0157621707.14783"
START_TIME = 2008-04-30T07:44:45.020Z
STOP_TIME = 2008-04-30T07:47:50.283Z
/* ORBITAL DATA ELEMENTS */
ASCENDING_NODE_LONGITUDE = 112.73
MAXIMUM_RESOLUTION = 57.9
FOOTPRINT_POINT_LATITUDE = (86.101,85.7331,85.431,85.105,84.9552, 84.7933,84.6242,84.445,84.1746,84.0101, 83.8401,83.6651,83.4883,83.3077,83.1236 ,82.9364,82.7465,82.5539,82.359,82.1617 ,81.9625,81.7612,81.5582,81.3535, 81.1472,80.9395,80.7304,80.5201,80.3085 ,80.0958,79.8822,79.6675,79.4519, 79.2354,79.0182,78.8001,78.4717,78.2519 ,78.0315,77.6999,77.478,77.2557,77.0329 ,76.8096,76.586,76.3619,76.025,75.8, 75.5747,75.3491,75.1231,74.8935,74.9818 ,75.0864,75.2699,75.5007,75.7315, 75.9621,76.1926,76.4229,76.768,76.9978, 77.2274,77.5715,77.915,78.1436,78.4861, 78.714,78.9416,79.1689,79.3957,79.6222, 79.8482,80.0738,80.2988,80.5234,80.7474 ,80.9707,81.1935,81.4155,81.6367, 81.8572,82.0768,82.2954,82.5129,82.7293 ,82.9446,83.1585,83.3709,83.6865,83.998 ,84.3048,84.606,84.8033,84.9973,85.2054 ,85.4268,85.7461,85.9489,86.101)
FOOTPRINT_POINT_LONGITUDE = (115.233,111.12,108.366,106.154,108.84, 111.362,113.737,115.959,118.909,120.504 ,122.008,123.426,124.777,126.054, 127.263,128.407,129.492,130.52,131.496, 132.423,133.303,134.14,134.936,135.695, 136.417,137.106,137.764,138.392,138.992 ,139.566,140.115,140.641,141.145, 141.628,142.092,142.537,143.171,143.574 ,143.961,144.516,144.868,145.208, 145.535,145.851,146.155,146.45,146.873, 147.143,147.404,147.656,147.901,148.518 ,149.855,151.647,152.882,152.708, 152.528,152.342,152.149,151.95,151.639, 151.421,151.196,150.841,150.467,150.205 ,149.792,149.503,149.201,148.887, 148.559,148.216,147.859,147.484,147.092 ,146.682,146.251,145.798,145.323, 144.823,144.296,143.74,143.154,142.534, 141.878,141.183,140.445,139.661,138.826 ,137.47,135.971,134.305,132.452,131.097 ,129.641,127.915,125.855,122.367, 119.752,115.233)
ORBIT_NUMBER = 5557
ORBITAL_ECCENTRICITY = 0.568
ORBITAL_INCLINATION = 86.75
ORBITAL_SEMIMAJOR_AXIS = 8637.16
PERIAPSIS_ALTITUDE = 358.57
PERIAPSIS_ARGUMENT_ANGLE = 100.78
PERIAPSIS_TIME = 2008-04-30T07:46:57.000Z
SPACECRAFT_ORIENTATION = (0.0,-1.0,0.0)
^MEX_ORIENTATION_DESC = "MEX_ORIENTATION_DESC.TXT"
SPACECRAFT_POINTING_MODE = ACROSSTRACK
^MEX_POINTING_DESC = "MEX_POINTING_DESC.TXT"
RIGHT_ASCENSION = -1e+32
DECLINATION = -1e+32
OFFSET_ANGLE = -0.25
SPACECRAFT_SOLAR_DISTANCE = 2.49101e+08
TARGET_NAME = MARS
/* CAMERA DATA ELEMENTS */
DETECTOR_TEMPERATURE = 17.9627
FOCAL_PLANE_TEMPERATURE = 6.9521
INST_CMPRS_NAME = "DISCRETE COSINE TRANSFORMATION (DCT)"
INST_CMPRS_RATIO = 7.0046
INST_CMPRS_QUALITY = 0
INST_CMPRS_QUANTZ_TBL_ID = 0
INSTRUMENT_TEMPERATURE = 10.4184
LENS_TEMPERATURE = 7.3599
MACROPIXEL_SIZE = 4
MISSING_FRAMES = 0
PIXEL_SUBSAMPLING_FLAG = N
SIGNAL_CHAIN_ID = 2
/* RADIOMETRIC DATA ELEMENTS */
BANDWIDTH = 88.0
CENTER_FILTER_WAVELENGTH = 538.0
RADIANCE_OFFSET = 1.95865
RADIANCE_SCALING_FACTOR = 0.0131257
REFLECTANCE_SCALING_FACTOR = 0.000701232
MEX:REFLECTANCE_OFFSET = 0.104639
/* IMAGE OBJECT DEFINITIONS */
OBJECT = IMAGE
  INTERCHANGE_FORMAT = BINARY
  LINES = 13343
  LINE_SAMPLES = 6869
  SAMPLE_TYPE = UNSIGNED_INTEGER
  SAMPLE_BITS = 8
  BANDS = 1
  BAND_STORAGE_TYPE = BAND_SEQUENTIAL
  MAXIMUM = 255
  MEAN = 132.125
  MINIMUM = 1
  STANDARD_DEVIATION = 43.7545
END_OBJECT = IMAGE
/* MAP OBJECT DEFINITIONS */
OBJECT = IMAGE_MAP_PROJECTION
  ^DATA_SET_MAP_PROJECTION_CATALOG= "DSMAP.CAT"
  A_AXIS_RADIUS = 3396.0
  B_AXIS_RADIUS = 3396.0
  C_AXIS_RADIUS = 3396.0
  CENTER_LATITUDE = 0.0
  CENTER_LONGITUDE = 142.0
  COORDINATE_SYSTEM_NAME = PLANETOGRAPHIC
  COORDINATE_SYSTEM_TYPE = "BODY-FIXED ROTATING"
  EASTERNMOST_LONGITUDE = 152.882
  FIRST_STANDARD_PARALLEL = "N/A"
  LINE_FIRST_PIXEL = 1
  LINE_LAST_PIXEL = 13343
  LINE_PROJECTION_OFFSET = 102123.875
  MAP_PROJECTION_ROTATION = 0.0
  MAP_PROJECTION_TYPE = SINUSOIDAL
  MAP_RESOLUTION = 1185.42760773333
  MAP_SCALE = 0.05
  MAXIMUM_LATITUDE = 86.101
  MINIMUM_LATITUDE = 74.8935
  POSITIVE_LONGITUDE_DIRECTION = EAST
  REFERENCE_LATITUDE = "N/A"
  REFERENCE_LONGITUDE = "N/A"
  SAMPLE_FIRST_PIXEL = 1
  SAMPLE_LAST_PIXEL = 6869
  SAMPLE_PROJECTION_OFFSET = 3566.875
  SECOND_STANDARD_PARALLEL = "N/A"
  WESTERNMOST_LONGITUDE = 106.154
END_OBJECT = IMAGE_MAP_PROJECTION
/* The JPEG2000 image data file associated with this label. */
OBJECT = COMPRESSED_FILE
  FILE_NAME = "H5557_0000_GR3.JP2"
  RECORD_TYPE = UNDEFINED
  FILE_RECORDS = UNK
  ENCODING_TYPE = "JP2"
  INTERCHANGE_FORMAT = BINARY
  UNCOMPRESSED_FILE_NAME = "H5557_0000_GR3.IMG"
  REQUIRED_STORAGE_BYTES = "91687412"
  ^DESCRIPTION = "JP2INFO.TXT"
END_OBJECT = COMPRESSED_FILE
END
