PDS_VERSION_ID = PDS3
/* FILE DATA ELEMENTS */
RECORD_TYPE = STREAM
/* POINTERS TO DATA OBJECTS */
^COMPRESSED_FILE = "H5559_0000_S13.JP2"
/* IDENTIFICATION DATA ELEMENTS */
DATA_SET_ID = "MEX-M-HRSC-5-REFDR-MAPPROJECTED-V3.0"
DATA_SET_NAME = "MARS EXPRESS HRSC MAP PROJECTED REFDR V3.0"
DETECTOR_ID = MEX_HRSC_S1
EVENT_TYPE = "MARS-REGIONAL-MAPPING-Vo-Gl-Pf"
INSTRUMENT_HOST_ID = MEX
INSTRUMENT_HOST_NAME = "MARS EXPRESS"
INSTRUMENT_ID = HRSC
INSTRUMENT_NAME = "HIGH RESOLUTION STEREO CAMERA"
MISSION_NAME = "MARS EXPRESS"
MISSION_PHASE_NAME = ME_Phase_12
PROCESSING_LEVEL_ID = 3
PRODUCT_CREATION_TIME = 2016-05-15T06:04:46.000Z
PRODUCT_ID = "H5559_0000_S13.JP2"
RELEASE_ID = 0063
REVISION_ID = 0000
/* QUALITY DATA ELEMENTS */
DATA_QUALITY_ID = 2
DATA_QUALITY_DESC = "Data calculated based on photogrammetrically improved orbit and attitude data"
/* TIME DATA ELEMENTS */
SPACECRAFT_CLOCK_START_COUNT = "1/0157670797.07300"
SPACECRAFT_CLOCK_STOP_COUNT = "1/0157671059.28921"
START_TIME = 2008-04-30T21:26:40.793Z
STOP_TIME = 2008-04-30T21:29:52.425Z
/* ORBITAL DATA ELEMENTS */
ASCENDING_NODE_LONGITUDE = 112.7
MAXIMUM_RESOLUTION = 30.7
FOOTPRINT_POINT_LATITUDE = (82.088,81.9459,81.8441,81.6762,81.4257 ,81.2093,80.9917,80.7674,80.4351, 80.2125,79.9889,79.7643,79.538,79.3106, 78.968,78.7385,78.3924,78.1609,77.9292, 77.696,77.4616,77.2296,76.8761,76.6394, 76.4009,76.1636,75.8068,75.5683,75.2096 ,74.97,74.7298,74.3689,74.1277,73.8864, 73.6448,73.4026,73.16,72.9172,72.674, 72.4306,72.1869,71.8207,71.5764,71.2093 ,70.842,70.5967,70.2284,69.9827,69.7367 ,69.6048,69.641,69.6927,69.7278,69.7587 ,69.8004,70.049,70.4217,70.6702,70.9184 ,71.1665,71.5384,71.7864,72.0338, 72.2814,72.6524,72.8997,73.1466,73.3932 ,73.6398,73.886,74.132,74.5008,74.7463, 74.9916,75.2365,75.4815,75.848,76.0923, 76.3361,76.701,77.0654,77.3076,77.5493, 77.7909,78.0324,78.2732,78.5139,78.7539 ,78.9926,79.2323,79.5909,79.8284, 80.1837,80.4199,80.6553,80.8898,81.24, 81.4727,81.8202,82.088)
FOOTPRINT_POINT_LONGITUDE = (303.531,301.054,299.471,297.132, 295.946,296.698,297.413,298.096,299.058 ,299.663,300.24,300.791,301.319,301.824 ,302.541,302.995,303.641,304.05,304.443 ,304.821,305.184,305.535,306.035, 306.354,306.66,306.956,307.381,307.652, 308.041,308.29,308.53,308.876,309.098, 309.312,309.52,309.721,309.916,310.105, 310.289,310.467,310.639,310.889,311.049 ,311.281,311.503,311.646,311.853, 311.987,312.116,312.519,313.059,313.888 ,314.502,315.081,315.926,315.834, 315.691,315.593,315.492,315.388,315.227 ,315.115,315.001,314.883,314.7,314.573, 314.442,314.308,314.169,314.026,313.879 ,313.649,313.489,313.324,313.153, 312.976,312.7,312.507,312.308,311.995, 311.664,311.434,311.194,310.945,310.684 ,310.414,310.131,309.837,309.532,309.21 ,308.699,308.34,307.77,307.366,306.941, 306.496,305.783,305.275,304.458, 303.531)
ORBIT_NUMBER = 5559
ORBITAL_ECCENTRICITY = 0.567
ORBITAL_INCLINATION = 86.76
ORBITAL_SEMIMAJOR_AXIS = 8635.49
PERIAPSIS_ALTITUDE = 357.95
PERIAPSIS_ARGUMENT_ANGLE = 100.44
PERIAPSIS_TIME = 2008-04-30T21:27:58.000Z
SPACECRAFT_ORIENTATION = (0.0,-1.0,0.0)
^MEX_ORIENTATION_DESC = "MEX_ORIENTATION_DESC.TXT"
SPACECRAFT_POINTING_MODE = ACROSSTRACK
^MEX_POINTING_DESC = "MEX_POINTING_DESC.TXT"
RIGHT_ASCENSION = -1e+32
DECLINATION = -1e+32
OFFSET_ANGLE = -0.18
SPACECRAFT_SOLAR_DISTANCE = 2.49111e+08
TARGET_NAME = MARS
/* CAMERA DATA ELEMENTS */
DETECTOR_TEMPERATURE = 14.9042
FOCAL_PLANE_TEMPERATURE = 7.156
INST_CMPRS_NAME = "DISCRETE COSINE TRANSFORMATION (DCT)"
INST_CMPRS_RATIO = 8.59066
INST_CMPRS_QUALITY = 0
INST_CMPRS_QUANTZ_TBL_ID = 0
INSTRUMENT_TEMPERATURE = 10.6223
LENS_TEMPERATURE = 7.5638
MACROPIXEL_SIZE = 2
MISSING_FRAMES = 0
PIXEL_SUBSAMPLING_FLAG = N
SIGNAL_CHAIN_ID = 1
/* RADIOMETRIC DATA ELEMENTS */
BANDWIDTH = 180.0
CENTER_FILTER_WAVELENGTH = 677.0
RADIANCE_OFFSET = 3.20217
RADIANCE_SCALING_FACTOR = 0.0366261
REFLECTANCE_SCALING_FACTOR = 0.00118582
MEX:REFLECTANCE_OFFSET = 0.103675
/* IMAGE OBJECT DEFINITIONS */
OBJECT = IMAGE
  INTERCHANGE_FORMAT = BINARY
  LINES = 29225
  LINE_SAMPLES = 9679
  SAMPLE_TYPE = UNSIGNED_INTEGER
  SAMPLE_BITS = 8
  BANDS = 1
  BAND_STORAGE_TYPE = BAND_SEQUENTIAL
  MAXIMUM = 255
  MEAN = 104.974
  MINIMUM = 1
  STANDARD_DEVIATION = 77.7611
END_OBJECT = IMAGE
/* MAP OBJECT DEFINITIONS */
OBJECT = IMAGE_MAP_PROJECTION
  ^DATA_SET_MAP_PROJECTION_CATALOG= "DSMAP.CAT"
  A_AXIS_RADIUS = 3396.0
  B_AXIS_RADIUS = 3396.0
  C_AXIS_RADIUS = 3396.0
  CENTER_LATITUDE = 0.0
  CENTER_LONGITUDE = 310.0
  COORDINATE_SYSTEM_NAME = PLANETOGRAPHIC
  COORDINATE_SYSTEM_TYPE = "BODY-FIXED ROTATING"
  EASTERNMOST_LONGITUDE = 315.926
  FIRST_STANDARD_PARALLEL = "N/A"
  LINE_FIRST_PIXEL = 1
  LINE_LAST_PIXEL = 29225
  LINE_PROJECTION_OFFSET = 194311.25
  MAP_PROJECTION_ROTATION = 0.0
  MAP_PROJECTION_TYPE = SINUSOIDAL
  MAP_RESOLUTION = 2370.85521546667
  MAP_SCALE = 0.025
  MAXIMUM_LATITUDE = 82.08799999999999
  MINIMUM_LATITUDE = 69.6048
  POSITIVE_LONGITUDE_DIRECTION = EAST
  REFERENCE_LATITUDE = "N/A"
  REFERENCE_LONGITUDE = "N/A"
  SAMPLE_FIRST_PIXEL = 1
  SAMPLE_LAST_PIXEL = 9679
  SAMPLE_PROJECTION_OFFSET = 4887.75
  SECOND_STANDARD_PARALLEL = "N/A"
  WESTERNMOST_LONGITUDE = 295.946
END_OBJECT = IMAGE_MAP_PROJECTION
/* The JPEG2000 image data file associated with this label. */
OBJECT = COMPRESSED_FILE
  FILE_NAME = "H5559_0000_S13.JP2"
  RECORD_TYPE = UNDEFINED
  FILE_RECORDS = UNK
  ENCODING_TYPE = "JP2"
  INTERCHANGE_FORMAT = BINARY
  UNCOMPRESSED_FILE_NAME = "H5559_0000_S13.IMG"
  REQUIRED_STORAGE_BYTES = "282897812"
  ^DESCRIPTION = "JP2INFO.TXT"
END_OBJECT = COMPRESSED_FILE
END
