PDS_VERSION_ID = PDS3
/* FILE DATA ELEMENTS */
RECORD_TYPE = STREAM
/* POINTERS TO DATA OBJECTS */
^COMPRESSED_FILE = "H5566_0000_S23.JP2"
/* IDENTIFICATION DATA ELEMENTS */
DATA_SET_ID = "MEX-M-HRSC-5-REFDR-MAPPROJECTED-V3.0"
DATA_SET_NAME = "MARS EXPRESS HRSC MAP PROJECTED REFDR V3.0"
DETECTOR_ID = MEX_HRSC_S2
EVENT_TYPE = "MARS-REGIONAL-MAPPING-Gl-Pf-Eo"
INSTRUMENT_HOST_ID = MEX
INSTRUMENT_HOST_NAME = "MARS EXPRESS"
INSTRUMENT_ID = HRSC
INSTRUMENT_NAME = "HIGH RESOLUTION STEREO CAMERA"
MISSION_NAME = "MARS EXPRESS"
MISSION_PHASE_NAME = ME_Phase_12
PROCESSING_LEVEL_ID = 3
PRODUCT_CREATION_TIME = 2016-05-15T06:04:46.000Z
PRODUCT_ID = "H5566_0000_S23.JP2"
RELEASE_ID = 0063
REVISION_ID = 0000
/* QUALITY DATA ELEMENTS */
DATA_QUALITY_ID = 2
DATA_QUALITY_DESC = "Data calculated based on photogrammetrically improved orbit and attitude data"
/* TIME DATA ELEMENTS */
SPACECRAFT_CLOCK_START_COUNT = "1/0157843258.09051"
SPACECRAFT_CLOCK_STOP_COUNT = "1/0157843471.49364"
START_TIME = 2008-05-02T21:22:06.955Z
STOP_TIME = 2008-05-02T21:24:33.448Z
/* ORBITAL DATA ELEMENTS */
ASCENDING_NODE_LONGITUDE = 112.56
MAXIMUM_RESOLUTION = 30.9
FOOTPRINT_POINT_LATITUDE = (80.2667,80.1879,80.1318,80.0731, 79.9677,80.0589,79.8944,79.7298,79.5649 ,79.3997,79.2339,79.0678,78.902,78.6523 ,78.4025,78.2355,78.0684,77.9012, 77.7338,77.5665,77.3989,77.2312,77.0634 ,76.8955,76.7275,76.5594,76.3913, 76.2232,76.0549,75.8867,75.6346,75.4663 ,75.2977,74.961,74.7088,74.344,74.1432, 73.9425,73.7417,73.5409,73.3402,73.0394 ,72.839,72.6385,72.4383,72.238,72.0378, 71.8378,71.6378,71.4379,71.2383,71.1246 ,71.1913,71.2415,71.2711,71.3081, 71.6107,71.9138,72.116,72.3186,72.5211, 72.8255,73.0285,73.3333,73.5366,73.7401 ,73.9439,74.1476,74.3514,74.5555, 74.8472,75.1039,75.3608,75.5321,75.7036 ,75.9608,76.1322,76.3039,76.5617, 76.7333,76.9052,77.0769,77.2488,77.4209 ,77.5929,77.7649,77.9367,78.108,78.3668 ,78.7092,78.9675,79.1397,79.3115, 79.4833,79.6549,79.8248,79.9957,80.1662 ,80.3371,80.2667)
FOOTPRINT_POINT_LONGITUDE = (328.217,326.64,325.605,324.584,322.891 ,321.9,322.265,322.617,322.957,323.286, 323.605,323.915,324.213,324.644,325.054 ,325.318,325.574,325.823,326.064, 326.298,326.525,326.746,326.961,327.17, 327.373,327.571,327.764,327.951,328.133 ,328.311,328.568,328.735,328.897,329.21 ,329.434,329.744,329.908,330.067, 330.222,330.372,330.519,330.731,330.868 ,331.001,331.131,331.257,331.38,331.5, 331.617,331.732,331.843,332.362,333.579 ,334.603,335.263,336.148,336.031,335.91 ,335.827,335.742,335.655,335.52,335.427 ,335.283,335.184,335.082,334.978,334.87 ,334.759,334.646,334.478,334.324, 334.165,334.055,333.943,333.768,333.648 ,333.526,333.335,333.203,333.068, 332.929,332.786,332.64,332.489,332.333, 332.173,332.007,331.75,331.387,331.101, 330.902,330.696,330.484,330.264,330.035 ,329.799,329.554,329.3,328.217)
ORBIT_NUMBER = 5566
ORBITAL_ECCENTRICITY = 0.567
ORBITAL_INCLINATION = 86.76
ORBITAL_SEMIMAJOR_AXIS = 8634.94
PERIAPSIS_ALTITUDE = 358.23
PERIAPSIS_ARGUMENT_ANGLE = 99.19
PERIAPSIS_TIME = 2008-05-02T21:21:33.000Z
SPACECRAFT_ORIENTATION = (0.0,-1.0,0.0)
^MEX_ORIENTATION_DESC = "MEX_ORIENTATION_DESC.TXT"
SPACECRAFT_POINTING_MODE = ACROSSTRACK
^MEX_POINTING_DESC = "MEX_POINTING_DESC.TXT"
RIGHT_ASCENSION = -1e+32
DECLINATION = -1e+32
OFFSET_ANGLE = 0.15
SPACECRAFT_SOLAR_DISTANCE = 2.49145e+08
TARGET_NAME = MARS
/* CAMERA DATA ELEMENTS */
DETECTOR_TEMPERATURE = 17.9627
FOCAL_PLANE_TEMPERATURE = 6.9521
INST_CMPRS_NAME = "DISCRETE COSINE TRANSFORMATION (DCT)"
INST_CMPRS_RATIO = 7.68985
INST_CMPRS_QUALITY = 0
INST_CMPRS_QUANTZ_TBL_ID = 0
INSTRUMENT_TEMPERATURE = 10.8262
LENS_TEMPERATURE = 7.5638
MACROPIXEL_SIZE = 2
MISSING_FRAMES = 0
PIXEL_SUBSAMPLING_FLAG = N
SIGNAL_CHAIN_ID = 1
/* RADIOMETRIC DATA ELEMENTS */
BANDWIDTH = 178.0
CENTER_FILTER_WAVELENGTH = 679.0
RADIANCE_OFFSET = 3.22514
RADIANCE_SCALING_FACTOR = 0.0332
REFLECTANCE_SCALING_FACTOR = 0.00109136
MEX:REFLECTANCE_OFFSET = 0.106018
/* IMAGE OBJECT DEFINITIONS */
OBJECT = IMAGE
  INTERCHANGE_FORMAT = BINARY
  LINES = 22174
  LINE_SAMPLES = 7420
  SAMPLE_TYPE = UNSIGNED_INTEGER
  SAMPLE_BITS = 8
  BANDS = 1
  BAND_STORAGE_TYPE = BAND_SEQUENTIAL
  MAXIMUM = 255
  MEAN = 140.779
  MINIMUM = 1
  STANDARD_DEVIATION = 72.9073
END_OBJECT = IMAGE
/* MAP OBJECT DEFINITIONS */
OBJECT = IMAGE_MAP_PROJECTION
  ^DATA_SET_MAP_PROJECTION_CATALOG= "DSMAP.CAT"
  A_AXIS_RADIUS = 3396.0
  B_AXIS_RADIUS = 3396.0
  C_AXIS_RADIUS = 3396.0
  CENTER_LATITUDE = 0.0
  CENTER_LONGITUDE = 331.0
  COORDINATE_SYSTEM_NAME = PLANETOGRAPHIC
  COORDINATE_SYSTEM_TYPE = "BODY-FIXED ROTATING"
  EASTERNMOST_LONGITUDE = 336.148
  FIRST_STANDARD_PARALLEL = "N/A"
  LINE_FIRST_PIXEL = 1
  LINE_LAST_PIXEL = 22174
  LINE_PROJECTION_OFFSET = 190705.25
  MAP_PROJECTION_ROTATION = 0.0
  MAP_PROJECTION_TYPE = SINUSOIDAL
  MAP_RESOLUTION = 2370.85521546667
  MAP_SCALE = 0.025
  MAXIMUM_LATITUDE = 80.33710000000001
  MINIMUM_LATITUDE = 71.1246
  POSITIVE_LONGITUDE_DIRECTION = EAST
  REFERENCE_LATITUDE = "N/A"
  REFERENCE_LONGITUDE = "N/A"
  SAMPLE_FIRST_PIXEL = 1
  SAMPLE_LAST_PIXEL = 7420
  SAMPLE_PROJECTION_OFFSET = 3662.75
  SECOND_STANDARD_PARALLEL = "N/A"
  WESTERNMOST_LONGITUDE = 321.9
END_OBJECT = IMAGE_MAP_PROJECTION
/* The JPEG2000 image data file associated with this label. */
OBJECT = COMPRESSED_FILE
  FILE_NAME = "H5566_0000_S23.JP2"
  RECORD_TYPE = UNDEFINED
  FILE_RECORDS = UNK
  ENCODING_TYPE = "JP2"
  INTERCHANGE_FORMAT = BINARY
  UNCOMPRESSED_FILE_NAME = "H5566_0000_S23.IMG"
  REQUIRED_STORAGE_BYTES = "164560760"
  ^DESCRIPTION = "JP2INFO.TXT"
END_OBJECT = COMPRESSED_FILE
END
