PDS_VERSION_ID = PDS3
/* FILE DATA ELEMENTS */
RECORD_TYPE = STREAM
/* POINTERS TO DATA OBJECTS */
^COMPRESSED_FILE = "H5567_0000_ND3.JP2"
/* IDENTIFICATION DATA ELEMENTS */
DATA_SET_ID = "MEX-M-HRSC-5-REFDR-MAPPROJECTED-V3.0"
DATA_SET_NAME = "MARS EXPRESS HRSC MAP PROJECTED REFDR V3.0"
DETECTOR_ID = MEX_HRSC_NADIR
EVENT_TYPE = "MARS-REGIONAL-MAPPING-Gl-Eo-La"
INSTRUMENT_HOST_ID = MEX
INSTRUMENT_HOST_NAME = "MARS EXPRESS"
INSTRUMENT_ID = HRSC
INSTRUMENT_NAME = "HIGH RESOLUTION STEREO CAMERA"
MISSION_NAME = "MARS EXPRESS"
MISSION_PHASE_NAME = ME_Phase_12
PROCESSING_LEVEL_ID = 3
PRODUCT_CREATION_TIME = 2016-05-15T06:04:46.000Z
PRODUCT_ID = "H5567_0000_ND3.JP2"
RELEASE_ID = 0063
REVISION_ID = 0000
/* QUALITY DATA ELEMENTS */
DATA_QUALITY_ID = 1
DATA_QUALITY_DESC = "Data calculated based on original SPICE kernels"
/* TIME DATA ELEMENTS */
SPACECRAFT_CLOCK_START_COUNT = "1/0157867730.09056"
SPACECRAFT_CLOCK_STOP_COUNT = "1/0157867932.23623"
START_TIME = 2008-05-03T04:09:29.545Z
STOP_TIME = 2008-05-03T04:11:41.538Z
/* ORBITAL DATA ELEMENTS */
ASCENDING_NODE_LONGITUDE = 112.54
MAXIMUM_RESOLUTION = 14.4
FOOTPRINT_POINT_LATITUDE = (87.126,86.8549,86.5459,86.3429,86.1148 ,86.037,86.0676,86.0887,86.0995,86.1025 ,86.0945,86.0765,86.0492,86.0133,85.968 ,85.8838,85.7666,85.629,85.43,85.249, 85.0546,84.9539,84.7383,84.5128,84.3964 ,84.2776,84.1565,84.0334,83.9082, 83.7812,83.6524,83.5221,83.3903,83.257, 83.1223,82.9864,82.8492,82.711,82.5716, 82.4313,82.29,82.1477,82.0047,81.8608, 81.7161,81.5707,81.4534,81.5391,81.6158 ,81.6937,81.7676,81.8664,82.0603, 82.2154,82.3701,82.5245,82.6784,82.8318 ,82.9847,83.1371,83.2889,83.4401, 83.5906,83.7405,83.8896,84.038,84.1855, 84.3321,84.4775,84.693,84.8356,84.977, 85.1865,85.3237,85.5266,85.6594,85.79, 85.9182,86.0438,86.1665,86.286,86.4022, 86.5143,86.6221,86.7251,86.8234,86.9161 ,87.0825,87.1674,87.2423,87.3056,87.356 ,87.3925,87.4149,87.4228,87.4162,87.395 ,87.3597,87.3113,87.126)
FOOTPRINT_POINT_LONGITUDE = (136.251,137.849,139.353,140.199,141.04 ,144.133,146.905,149.715,152.55,155.396 ,158.239,161.063,163.856,166.608, 169.304,173.198,177.364,181.295,185.851 ,189.183,192.277,193.75,196.472,198.989 ,200.172,201.305,202.391,203.432, 204.429,205.386,206.303,207.184,208.03, 208.842,209.623,210.372,211.092,211.785 ,212.452,213.094,213.712,214.308, 214.882,215.435,215.969,216.484,217.446 ,218.669,219.836,221.104,222.396, 224.293,224.715,224.327,223.922,223.501 ,223.062,222.604,222.126,221.627, 221.104,220.557,219.985,219.385,218.756 ,218.096,217.402,216.671,215.9,214.653, 213.774,212.846,211.354,210.277,208.549 ,207.308,205.989,204.586,203.094, 201.505,199.814,198.013,196.092,194.044 ,191.864,189.549,187.091,181.731,178.3, 174.62,170.754,166.723,162.558,158.3, 153.992,149.684,145.424,141.257,137.219 ,136.251)
ORBIT_NUMBER = 5567
ORBITAL_ECCENTRICITY = 0.568
ORBITAL_INCLINATION = 86.76
ORBITAL_SEMIMAJOR_AXIS = 8634.21
PERIAPSIS_ALTITUDE = 357.41
PERIAPSIS_ARGUMENT_ANGLE = 99.01
PERIAPSIS_TIME = 2008-05-03T04:12:02.000Z
SPACECRAFT_ORIENTATION = (0.0,-1.0,0.0)
^MEX_ORIENTATION_DESC = "MEX_ORIENTATION_DESC.TXT"
SPACECRAFT_POINTING_MODE = NADIR
^MEX_POINTING_DESC = "MEX_POINTING_DESC.TXT"
RIGHT_ASCENSION = -1e+32
DECLINATION = -1e+32
OFFSET_ANGLE = -1e+32
SPACECRAFT_SOLAR_DISTANCE = 2.49149e+08
TARGET_NAME = MARS
/* CAMERA DATA ELEMENTS */
DETECTOR_TEMPERATURE = 17.9627
FOCAL_PLANE_TEMPERATURE = 6.9521
INST_CMPRS_NAME = "DISCRETE COSINE TRANSFORMATION (DCT)"
INST_CMPRS_RATIO = 6.39882
INST_CMPRS_QUALITY = 0
INST_CMPRS_QUANTZ_TBL_ID = 0
INSTRUMENT_TEMPERATURE = 10.6223
LENS_TEMPERATURE = 7.7677
MACROPIXEL_SIZE = 1
MISSING_FRAMES = 0
PIXEL_SUBSAMPLING_FLAG = N
SIGNAL_CHAIN_ID = 0
/* RADIOMETRIC DATA ELEMENTS */
BANDWIDTH = 177.0
CENTER_FILTER_WAVELENGTH = 677.5
RADIANCE_OFFSET = 2.64003
RADIANCE_SCALING_FACTOR = 0.0391116
REFLECTANCE_SCALING_FACTOR = 0.00128975
MEX:REFLECTANCE_OFFSET = 0.0870584
/* IMAGE OBJECT DEFINITIONS */
OBJECT = IMAGE
  INTERCHANGE_FORMAT = BINARY
  LINES = 23058
  LINE_SAMPLES = 38920
  SAMPLE_TYPE = UNSIGNED_INTEGER
  SAMPLE_BITS = 8
  BANDS = 1
  BAND_STORAGE_TYPE = BAND_SEQUENTIAL
  MAXIMUM = 255
  MEAN = 142.837
  MINIMUM = 1
  STANDARD_DEVIATION = 19.5214
END_OBJECT = IMAGE
/* MAP OBJECT DEFINITIONS */
OBJECT = IMAGE_MAP_PROJECTION
  ^DATA_SET_MAP_PROJECTION_CATALOG= "DSMAP.CAT"
  A_AXIS_RADIUS = 3396.0
  B_AXIS_RADIUS = 3396.0
  C_AXIS_RADIUS = 3396.0
  CENTER_LATITUDE = 90.0
  CENTER_LONGITUDE = 0.0
  COORDINATE_SYSTEM_NAME = PLANETOGRAPHIC
  COORDINATE_SYSTEM_TYPE = "BODY-FIXED ROTATING"
  EASTERNMOST_LONGITUDE = 224.715
  FIRST_STANDARD_PARALLEL = "N/A"
  LINE_FIRST_PIXEL = 1
  LINE_LAST_PIXEL = 23058
  LINE_PROJECTION_OFFSET = 32375.0
  MAP_PROJECTION_ROTATION = 0
  MAP_PROJECTION_TYPE = STEREOGRAPHIC
  MAP_RESOLUTION = 4741.71043093333
  MAP_SCALE = 0.0125
  MAXIMUM_LATITUDE = 87.4228
  MINIMUM_LATITUDE = 81.4534
  POSITIVE_LONGITUDE_DIRECTION = EAST
  REFERENCE_LATITUDE = "N/A"
  REFERENCE_LONGITUDE = "N/A"
  SAMPLE_FIRST_PIXEL = 1
  SAMPLE_LAST_PIXEL = 38920
  SAMPLE_PROJECTION_OFFSET = 27147.0
  SECOND_STANDARD_PARALLEL = "N/A"
  WESTERNMOST_LONGITUDE = 136.251
END_OBJECT = IMAGE_MAP_PROJECTION
/* The JPEG2000 image data file associated with this label. */
OBJECT = COMPRESSED_FILE
  FILE_NAME = "H5567_0000_ND3.JP2"
  RECORD_TYPE = UNDEFINED
  FILE_RECORDS = UNK
  ENCODING_TYPE = "JP2"
  INTERCHANGE_FORMAT = BINARY
  UNCOMPRESSED_FILE_NAME = "H5567_0000_ND3.IMG"
  REQUIRED_STORAGE_BYTES = "897534120"
  ^DESCRIPTION = "JP2INFO.TXT"
END_OBJECT = COMPRESSED_FILE
END
