PDS_VERSION_ID = PDS3
/* FILE DATA ELEMENTS */
RECORD_TYPE = STREAM
/* POINTERS TO DATA OBJECTS */
^COMPRESSED_FILE = "H5568_0000_IR3.JP2"
/* IDENTIFICATION DATA ELEMENTS */
DATA_SET_ID = "MEX-M-HRSC-5-REFDR-MAPPROJECTED-V3.0"
DATA_SET_NAME = "MARS EXPRESS HRSC MAP PROJECTED REFDR V3.0"
DETECTOR_ID = MEX_HRSC_IR
EVENT_TYPE = "MARS-REGIONAL-MAPPING-Gl-Eo-La"
INSTRUMENT_HOST_ID = MEX
INSTRUMENT_HOST_NAME = "MARS EXPRESS"
INSTRUMENT_ID = HRSC
INSTRUMENT_NAME = "HIGH RESOLUTION STEREO CAMERA"
MISSION_NAME = "MARS EXPRESS"
MISSION_PHASE_NAME = ME_Phase_12
PROCESSING_LEVEL_ID = 3
PRODUCT_CREATION_TIME = 2016-05-15T06:04:46.000Z
PRODUCT_ID = "H5568_0000_IR3.JP2"
RELEASE_ID = 0063
REVISION_ID = 0000
/* QUALITY DATA ELEMENTS */
DATA_QUALITY_ID = 1
DATA_QUALITY_DESC = "Data calculated based on original SPICE kernels"
/* TIME DATA ELEMENTS */
SPACECRAFT_CLOCK_START_COUNT = "1/0157892438.09066"
SPACECRAFT_CLOCK_STOP_COUNT = "1/0157892661.23773"
START_TIME = 2008-05-03T11:00:47.761Z
STOP_TIME = 2008-05-03T11:03:21.480Z
/* ORBITAL DATA ELEMENTS */
ASCENDING_NODE_LONGITUDE = 112.52
MAXIMUM_RESOLUTION = 60.5
FOOTPRINT_POINT_LATITUDE = (84.9646,84.6893,84.5451,84.3967, 84.2443,84.0875,83.8222,83.6826,83.5376 ,83.3864,83.2334,83.0749,82.922,82.7819 ,82.5694,82.3502,82.2031,82.0529, 81.9008,81.7466,81.5916,81.3566,81.198, 81.0381,80.8767,80.6325,80.3852,80.2189 ,80.0517,79.7991,79.5445,79.2884, 79.1159,78.943,78.769,78.5068,78.2431, 77.9788,77.7123,77.5338,77.3552,77.176, 76.9959,76.8155,76.6349,76.3631,76.1812 ,75.9079,75.7252,75.4821,75.5975, 75.6629,75.7496,75.8674,76.0166,76.2047 ,76.3927,76.5805,76.768,76.955,77.142, 77.3288,77.5155,77.7018,77.8877,78.0732 ,78.3507,78.5351,78.8112,78.9947, 79.1777,79.3604,79.5426,79.8149,79.9959 ,80.1764,80.3563,80.5355,80.7141, 80.8921,81.1578,81.334,81.5093,81.6838, 81.9439,82.2014,82.457,82.7099,82.877, 83.0424,83.2076,83.3725,83.5321,83.7699 ,83.9358,84.1197,84.3898,84.6499, 84.8184,84.9646)
FOOTPRINT_POINT_LONGITUDE = (99.0256,96.3615,95.1122,93.9166, 92.7724,91.6753,91.2018,92.8357,94.3985 ,95.8933,97.3192,98.6821,99.9061, 100.954,102.452,103.865,104.763,105.627 ,106.459,107.26,108.032,109.138,109.843 ,110.522,111.177,112.117,113.008, 113.577,114.127,114.918,115.67,116.386, 116.843,117.287,117.716,118.334,118.925 ,119.491,120.03,120.376,120.713,121.04, 121.357,121.666,121.966,122.401,122.681 ,123.087,123.348,123.685,124.859, 125.563,126.547,127.994,128.607,128.406 ,128.199,127.986,127.768,127.543, 127.311,127.072,126.827,126.573,126.312 ,126.043,125.623,125.332,124.877, 124.561,124.234,123.896,123.547,122.999 ,122.617,122.221,121.81,121.384,120.941 ,120.481,119.757,119.249,118.721, 118.171,117.3,116.373,115.383,114.324, 113.576,112.794,111.97,111.101,110.201, 108.759,107.672,106.374,104.267,101.962 ,100.295,99.0256)
ORBIT_NUMBER = 5568
ORBITAL_ECCENTRICITY = 0.567
ORBITAL_INCLINATION = 86.75
ORBITAL_SEMIMAJOR_AXIS = 8636.63
PERIAPSIS_ALTITUDE = 358.76
PERIAPSIS_ARGUMENT_ANGLE = 98.85
PERIAPSIS_TIME = 2008-05-03T11:02:35.000Z
SPACECRAFT_ORIENTATION = (0.0,-1.0,0.0)
^MEX_ORIENTATION_DESC = "MEX_ORIENTATION_DESC.TXT"
SPACECRAFT_POINTING_MODE = ACROSSTRACK
^MEX_POINTING_DESC = "MEX_POINTING_DESC.TXT"
RIGHT_ASCENSION = -1e+32
DECLINATION = -1e+32
OFFSET_ANGLE = -0.916
SPACECRAFT_SOLAR_DISTANCE = 2.49153e+08
TARGET_NAME = MARS
/* CAMERA DATA ELEMENTS */
DETECTOR_TEMPERATURE = 16.7393
FOCAL_PLANE_TEMPERATURE = 7.3599
INST_CMPRS_NAME = "DISCRETE COSINE TRANSFORMATION (DCT)"
INST_CMPRS_RATIO = 12.0283
INST_CMPRS_QUALITY = 0
INST_CMPRS_QUANTZ_TBL_ID = 0
INSTRUMENT_TEMPERATURE = 10.6223
LENS_TEMPERATURE = 6.9521
MACROPIXEL_SIZE = 4
MISSING_FRAMES = 0
PIXEL_SUBSAMPLING_FLAG = N
SIGNAL_CHAIN_ID = 2
/* RADIOMETRIC DATA ELEMENTS */
BANDWIDTH = 81.0
CENTER_FILTER_WAVELENGTH = 955.5
RADIANCE_OFFSET = 0.728145
RADIANCE_SCALING_FACTOR = 0.00920743
REFLECTANCE_SCALING_FACTOR = 0.00123311
MEX:REFLECTANCE_OFFSET = 0.0975169
/* IMAGE OBJECT DEFINITIONS */
OBJECT = IMAGE
  INTERCHANGE_FORMAT = BINARY
  LINES = 11024
  LINE_SAMPLES = 6448
  SAMPLE_TYPE = UNSIGNED_INTEGER
  SAMPLE_BITS = 8
  BANDS = 1
  BAND_STORAGE_TYPE = BAND_SEQUENTIAL
  MAXIMUM = 255
  MEAN = 163.18
  MINIMUM = 1
  STANDARD_DEVIATION = 46.0826
END_OBJECT = IMAGE
/* MAP OBJECT DEFINITIONS */
OBJECT = IMAGE_MAP_PROJECTION
  ^DATA_SET_MAP_PROJECTION_CATALOG= "DSMAP.CAT"
  A_AXIS_RADIUS = 3396.0
  B_AXIS_RADIUS = 3396.0
  C_AXIS_RADIUS = 3396.0
  CENTER_LATITUDE = 0.0
  CENTER_LONGITUDE = 118.0
  COORDINATE_SYSTEM_NAME = PLANETOGRAPHIC
  COORDINATE_SYSTEM_TYPE = "BODY-FIXED ROTATING"
  EASTERNMOST_LONGITUDE = 128.607
  FIRST_STANDARD_PARALLEL = "N/A"
  LINE_FIRST_PIXEL = 1
  LINE_LAST_PIXEL = 11024
  LINE_PROJECTION_OFFSET = 100596.125
  MAP_PROJECTION_ROTATION = 0.0
  MAP_PROJECTION_TYPE = SINUSOIDAL
  MAP_RESOLUTION = 1185.42760773333
  MAP_SCALE = 0.05
  MAXIMUM_LATITUDE = 84.9646
  MINIMUM_LATITUDE = 75.4821
  POSITIVE_LONGITUDE_DIRECTION = EAST
  REFERENCE_LATITUDE = "N/A"
  REFERENCE_LONGITUDE = "N/A"
  SAMPLE_FIRST_PIXEL = 1
  SAMPLE_LAST_PIXEL = 6448
  SAMPLE_PROJECTION_OFFSET = 3320.625
  SECOND_STANDARD_PARALLEL = "N/A"
  WESTERNMOST_LONGITUDE = 91.20180000000001
END_OBJECT = IMAGE_MAP_PROJECTION
/* The JPEG2000 image data file associated with this label. */
OBJECT = COMPRESSED_FILE
  FILE_NAME = "H5568_0000_IR3.JP2"
  RECORD_TYPE = UNDEFINED
  FILE_RECORDS = UNK
  ENCODING_TYPE = "JP2"
  INTERCHANGE_FORMAT = BINARY
  UNCOMPRESSED_FILE_NAME = "H5568_0000_IR3.IMG"
  REQUIRED_STORAGE_BYTES = "71114992"
  ^DESCRIPTION = "JP2INFO.TXT"
END_OBJECT = COMPRESSED_FILE
END
