PDS_VERSION_ID = PDS3
/* FILE DATA ELEMENTS */
RECORD_TYPE = STREAM
/* POINTERS TO DATA OBJECTS */
^COMPRESSED_FILE = "H5568_0000_ND3.JP2"
/* IDENTIFICATION DATA ELEMENTS */
DATA_SET_ID = "MEX-M-HRSC-5-REFDR-MAPPROJECTED-V3.0"
DATA_SET_NAME = "MARS EXPRESS HRSC MAP PROJECTED REFDR V3.0"
DETECTOR_ID = MEX_HRSC_NADIR
EVENT_TYPE = "MARS-REGIONAL-MAPPING-Gl-Eo-La"
INSTRUMENT_HOST_ID = MEX
INSTRUMENT_HOST_NAME = "MARS EXPRESS"
INSTRUMENT_ID = HRSC
INSTRUMENT_NAME = "HIGH RESOLUTION STEREO CAMERA"
MISSION_NAME = "MARS EXPRESS"
MISSION_PHASE_NAME = ME_Phase_12
PROCESSING_LEVEL_ID = 3
PRODUCT_CREATION_TIME = 2016-05-15T06:04:46.000Z
PRODUCT_ID = "H5568_0000_ND3.JP2"
RELEASE_ID = 0063
REVISION_ID = 0000
/* QUALITY DATA ELEMENTS */
DATA_QUALITY_ID = 1
DATA_QUALITY_DESC = "Data calculated based on original SPICE kernels"
/* TIME DATA ELEMENTS */
SPACECRAFT_CLOCK_START_COUNT = "1/0157892438.09066"
SPACECRAFT_CLOCK_STOP_COUNT = "1/0157892661.23773"
START_TIME = 2008-05-03T11:01:15.917Z
STOP_TIME = 2008-05-03T11:03:48.928Z
/* ORBITAL DATA ELEMENTS */
ASCENDING_NODE_LONGITUDE = 112.52
MAXIMUM_RESOLUTION = 14.5
FOOTPRINT_POINT_LATITUDE = (84.5909,84.3012,84.1493,83.9425, 83.7355,83.482,83.2166,82.9377,82.7204, 82.4991,82.2716,82.1177,81.9616,81.8034 ,81.644,81.483,81.3205,81.1565,80.9911, 80.8244,80.6564,80.4873,80.3169,80.1455 ,79.9732,79.7999,79.6257,79.4507,79.275 ,79.0983,78.8319,78.6534,78.4743, 78.2946,78.1143,77.8431,77.6614,77.4793 ,77.2967,77.1138,76.9303,76.7465, 76.3778,76.0076,75.6363,75.6265,75.6897 ,75.7495,75.8294,75.8809,76.1909, 76.3819,76.5727,76.7633,76.9538,77.1441 ,77.3342,77.524,77.7136,77.903,78.0922, 78.281,78.4696,78.6578,78.8457,79.0333, 79.2205,79.4073,79.5937,79.7797,79.9652 ,80.1503,80.3348,80.5187,80.7021, 80.8849,81.0669,81.2483,81.429,81.6088, 81.7878,81.9658,82.1429,82.319,82.4939, 82.6676,82.8401,83.0112,83.1808,83.3491 ,83.5152,83.6798,83.8422,84.0024, 84.1604,84.3159,84.4688,84.6922,84.837, 84.5909)
FOOTPRINT_POINT_LONGITUDE = (97.091,94.388,93.116,91.5198,92.3123, 95.0155,97.5254,99.8315,101.435,102.956 ,104.38,105.286,106.154,106.987,107.792 ,108.567,109.313,110.032,110.724,111.39 ,112.032,112.65,113.246,113.82,114.375, 114.911,115.429,115.93,116.415,116.881, 117.552,117.981,118.396,118.799,119.189 ,119.754,120.113,120.463,120.802, 121.132,121.45,121.761,122.356,122.917, 123.448,124.773,125.588,126.4,127.563, 128.367,128.437,128.226,128.009,127.786 ,127.556,127.319,127.075,126.824, 126.564,126.297,126.02,125.734,125.439, 125.134,124.818,124.491,124.153,123.802 ,123.439,123.063,122.672,122.267, 121.846,121.408,120.953,120.479,119.986 ,119.472,118.937,118.378,117.795, 117.185,116.548,115.881,115.184,114.453 ,113.686,112.882,112.039,111.155,110.22 ,109.239,108.203,107.113,105.964, 104.752,103.474,101.418,99.9486,97.091)
ORBIT_NUMBER = 5568
ORBITAL_ECCENTRICITY = 0.567
ORBITAL_INCLINATION = 86.75
ORBITAL_SEMIMAJOR_AXIS = 8636.63
PERIAPSIS_ALTITUDE = 358.76
PERIAPSIS_ARGUMENT_ANGLE = 98.85
PERIAPSIS_TIME = 2008-05-03T11:02:35.000Z
SPACECRAFT_ORIENTATION = (0.0,-1.0,0.0)
^MEX_ORIENTATION_DESC = "MEX_ORIENTATION_DESC.TXT"
SPACECRAFT_POINTING_MODE = ACROSSTRACK
^MEX_POINTING_DESC = "MEX_POINTING_DESC.TXT"
RIGHT_ASCENSION = -1e+32
DECLINATION = -1e+32
OFFSET_ANGLE = -0.916
SPACECRAFT_SOLAR_DISTANCE = 2.49153e+08
TARGET_NAME = MARS
/* CAMERA DATA ELEMENTS */
DETECTOR_TEMPERATURE = 17.7588
FOCAL_PLANE_TEMPERATURE = 7.3599
INST_CMPRS_NAME = "DISCRETE COSINE TRANSFORMATION (DCT)"
INST_CMPRS_RATIO = 6.60203
INST_CMPRS_QUALITY = 0
INST_CMPRS_QUANTZ_TBL_ID = 0
INSTRUMENT_TEMPERATURE = 10.6223
LENS_TEMPERATURE = 6.9521
MACROPIXEL_SIZE = 1
MISSING_FRAMES = 0
PIXEL_SUBSAMPLING_FLAG = N
SIGNAL_CHAIN_ID = 0
/* RADIOMETRIC DATA ELEMENTS */
BANDWIDTH = 177.0
CENTER_FILTER_WAVELENGTH = 677.5
RADIANCE_OFFSET = 2.73082
RADIANCE_SCALING_FACTOR = 0.0376191
REFLECTANCE_SCALING_FACTOR = 0.00124058
MEX:REFLECTANCE_OFFSET = 0.0900553
/* IMAGE OBJECT DEFINITIONS */
OBJECT = IMAGE
  INTERCHANGE_FORMAT = BINARY
  LINES = 44096
  LINE_SAMPLES = 25789
  SAMPLE_TYPE = UNSIGNED_INTEGER
  SAMPLE_BITS = 8
  BANDS = 1
  BAND_STORAGE_TYPE = BAND_SEQUENTIAL
  MAXIMUM = 255
  MEAN = 156.548
  MINIMUM = 1
  STANDARD_DEVIATION = 46.3744
END_OBJECT = IMAGE
/* MAP OBJECT DEFINITIONS */
OBJECT = IMAGE_MAP_PROJECTION
  ^DATA_SET_MAP_PROJECTION_CATALOG= "DSMAP.CAT"
  A_AXIS_RADIUS = 3396.0
  B_AXIS_RADIUS = 3396.0
  C_AXIS_RADIUS = 3396.0
  CENTER_LATITUDE = 0.0
  CENTER_LONGITUDE = 118.0
  COORDINATE_SYSTEM_NAME = PLANETOGRAPHIC
  COORDINATE_SYSTEM_TYPE = "BODY-FIXED ROTATING"
  EASTERNMOST_LONGITUDE = 128.437
  FIRST_STANDARD_PARALLEL = "N/A"
  LINE_FIRST_PIXEL = 1
  LINE_LAST_PIXEL = 44096
  LINE_PROJECTION_OFFSET = 402386.0
  MAP_PROJECTION_ROTATION = 0.0
  MAP_PROJECTION_TYPE = SINUSOIDAL
  MAP_RESOLUTION = 4741.71043093333
  MAP_SCALE = 0.0125
  MAXIMUM_LATITUDE = 84.837
  MINIMUM_LATITUDE = 75.62649999999999
  POSITIVE_LONGITUDE_DIRECTION = EAST
  REFERENCE_LATITUDE = "N/A"
  REFERENCE_LONGITUDE = "N/A"
  SAMPLE_FIRST_PIXEL = 1
  SAMPLE_LAST_PIXEL = 25789
  SAMPLE_PROJECTION_OFFSET = 13284.0
  SECOND_STANDARD_PARALLEL = "N/A"
  WESTERNMOST_LONGITUDE = 91.5198
END_OBJECT = IMAGE_MAP_PROJECTION
/* The JPEG2000 image data file associated with this label. */
OBJECT = COMPRESSED_FILE
  FILE_NAME = "H5568_0000_ND3.JP2"
  RECORD_TYPE = UNDEFINED
  FILE_RECORDS = UNK
  ENCODING_TYPE = "JP2"
  INTERCHANGE_FORMAT = BINARY
  UNCOMPRESSED_FILE_NAME = "H5568_0000_ND3.IMG"
  REQUIRED_STORAGE_BYTES = "1137269111"
  ^DESCRIPTION = "JP2INFO.TXT"
END_OBJECT = COMPRESSED_FILE
END
