PDS_VERSION_ID = PDS3
/* FILE DATA ELEMENTS */
RECORD_TYPE = STREAM
/* POINTERS TO DATA OBJECTS */
^COMPRESSED_FILE = "H5568_0000_S23.JP2"
/* IDENTIFICATION DATA ELEMENTS */
DATA_SET_ID = "MEX-M-HRSC-5-REFDR-MAPPROJECTED-V3.0"
DATA_SET_NAME = "MARS EXPRESS HRSC MAP PROJECTED REFDR V3.0"
DETECTOR_ID = MEX_HRSC_S2
EVENT_TYPE = "MARS-REGIONAL-MAPPING-Gl-Eo-La"
INSTRUMENT_HOST_ID = MEX
INSTRUMENT_HOST_NAME = "MARS EXPRESS"
INSTRUMENT_ID = HRSC
INSTRUMENT_NAME = "HIGH RESOLUTION STEREO CAMERA"
MISSION_NAME = "MARS EXPRESS"
MISSION_PHASE_NAME = ME_Phase_12
PROCESSING_LEVEL_ID = 3
PRODUCT_CREATION_TIME = 2016-05-15T06:04:46.000Z
PRODUCT_ID = "H5568_0000_S23.JP2"
RELEASE_ID = 0063
REVISION_ID = 0000
/* QUALITY DATA ELEMENTS */
DATA_QUALITY_ID = 1
DATA_QUALITY_DESC = "Data calculated based on original SPICE kernels"
/* TIME DATA ELEMENTS */
SPACECRAFT_CLOCK_START_COUNT = "1/0157892438.09066"
SPACECRAFT_CLOCK_STOP_COUNT = "1/0157892661.23773"
START_TIME = 2008-05-03T11:01:49.328Z
STOP_TIME = 2008-05-03T11:04:23.056Z
/* ORBITAL DATA ELEMENTS */
ASCENDING_NODE_LONGITUDE = 112.52
MAXIMUM_RESOLUTION = 30.9
FOOTPRINT_POINT_LATITUDE = (84.4884,84.3601,84.2271,84.0892, 83.8825,83.702,83.5767,83.4481,83.3158, 83.1805,83.0425,82.9017,82.686,82.5387, 82.3145,82.1622,82.0084,81.7742,81.6158 ,81.4558,81.2944,81.1316,80.9676, 80.8024,80.5525,80.3004,80.1312,79.8756 ,79.6182,79.4455,79.2721,79.0984, 78.8366,78.6615,78.3978,78.133,77.9554, 77.7779,77.6002,77.4219,77.1537,76.8853 ,76.7058,76.436,76.2559,76.0413,75.8258 ,75.61,75.6635,75.7282,75.7738,75.8416, 75.9893,76.2113,76.4333,76.6414,76.8274 ,77.0132,77.1988,77.3842,77.5692, 77.7544,77.9395,78.1246,78.3095,78.4943 ,78.6789,78.8632,79.0474,79.2314, 79.5066,79.6897,79.8726,80.146,80.3277, 80.5091,80.69,80.8704,81.05,81.3187, 81.497,81.6745,81.8511,82.0273,82.2896, 82.4631,82.7213,82.8918,83.0614,83.2283 ,83.3924,83.5583,83.7202,83.8827, 84.0407,84.1965,84.426,84.5766,84.7223, 84.4884)
FOOTPRINT_POINT_LONGITUDE = (98.2673,96.8206,95.4216,94.0678, 92.1967,92.6577,94.0202,95.3129,96.583, 97.7962,98.9458,100.058,101.628,102.643 ,104.066,104.976,105.841,107.082, 107.874,108.638,109.373,110.08,110.761, 111.416,112.354,113.241,113.807,114.618 ,115.389,115.882,116.36,116.817,117.476 ,117.897,118.504,119.083,119.458, 119.818,120.165,120.504,120.993,121.459 ,121.759,122.195,122.475,122.798,123.11 ,123.414,124.773,125.869,126.7,128.038, 128.705,128.466,128.219,127.98,127.759, 127.531,127.297,127.056,126.808,126.552 ,126.287,126.014,125.732,125.44,125.138 ,124.826,124.503,124.168,123.644, 123.279,122.9,122.305,121.889,121.457, 121.007,120.54,120.053,119.284,118.744, 118.181,117.593,116.977,116.0,115.312, 114.217,113.443,112.629,111.782,110.902 ,109.95,108.965,107.905,106.81,105.654, 103.794,102.454,101.06,98.2673)
ORBIT_NUMBER = 5568
ORBITAL_ECCENTRICITY = 0.567
ORBITAL_INCLINATION = 86.75
ORBITAL_SEMIMAJOR_AXIS = 8636.63
PERIAPSIS_ALTITUDE = 358.76
PERIAPSIS_ARGUMENT_ANGLE = 98.85
PERIAPSIS_TIME = 2008-05-03T11:02:35.000Z
SPACECRAFT_ORIENTATION = (0.0,-1.0,0.0)
^MEX_ORIENTATION_DESC = "MEX_ORIENTATION_DESC.TXT"
SPACECRAFT_POINTING_MODE = ACROSSTRACK
^MEX_POINTING_DESC = "MEX_POINTING_DESC.TXT"
RIGHT_ASCENSION = -1e+32
DECLINATION = -1e+32
OFFSET_ANGLE = -0.916
SPACECRAFT_SOLAR_DISTANCE = 2.49153e+08
TARGET_NAME = MARS
/* CAMERA DATA ELEMENTS */
DETECTOR_TEMPERATURE = 17.9627
FOCAL_PLANE_TEMPERATURE = 7.3599
INST_CMPRS_NAME = "DISCRETE COSINE TRANSFORMATION (DCT)"
INST_CMPRS_RATIO = 10.051
INST_CMPRS_QUALITY = 0
INST_CMPRS_QUANTZ_TBL_ID = 0
INSTRUMENT_TEMPERATURE = 10.6223
LENS_TEMPERATURE = 6.9521
MACROPIXEL_SIZE = 2
MISSING_FRAMES = 0
PIXEL_SUBSAMPLING_FLAG = N
SIGNAL_CHAIN_ID = 1
/* RADIOMETRIC DATA ELEMENTS */
BANDWIDTH = 178.0
CENTER_FILTER_WAVELENGTH = 679.0
RADIANCE_OFFSET = 3.57069
RADIANCE_SCALING_FACTOR = 0.0383945
REFLECTANCE_SCALING_FACTOR = 0.00126221
MEX:REFLECTANCE_OFFSET = 0.117385
/* IMAGE OBJECT DEFINITIONS */
OBJECT = IMAGE
  INTERCHANGE_FORMAT = BINARY
  LINES = 22048
  LINE_SAMPLES = 12895
  SAMPLE_TYPE = UNSIGNED_INTEGER
  SAMPLE_BITS = 8
  BANDS = 1
  BAND_STORAGE_TYPE = BAND_SEQUENTIAL
  MAXIMUM = 255
  MEAN = 156.088
  MINIMUM = 1
  STANDARD_DEVIATION = 45.7194
END_OBJECT = IMAGE
/* MAP OBJECT DEFINITIONS */
OBJECT = IMAGE_MAP_PROJECTION
  ^DATA_SET_MAP_PROJECTION_CATALOG= "DSMAP.CAT"
  A_AXIS_RADIUS = 3396.0
  B_AXIS_RADIUS = 3396.0
  C_AXIS_RADIUS = 3396.0
  CENTER_LATITUDE = 0.0
  CENTER_LONGITUDE = 118.0
  COORDINATE_SYSTEM_NAME = PLANETOGRAPHIC
  COORDINATE_SYSTEM_TYPE = "BODY-FIXED ROTATING"
  EASTERNMOST_LONGITUDE = 128.705
  FIRST_STANDARD_PARALLEL = "N/A"
  LINE_FIRST_PIXEL = 1
  LINE_LAST_PIXEL = 22048
  LINE_PROJECTION_OFFSET = 201192.75
  MAP_PROJECTION_ROTATION = 0.0
  MAP_PROJECTION_TYPE = SINUSOIDAL
  MAP_RESOLUTION = 2370.85521546667
  MAP_SCALE = 0.025
  MAXIMUM_LATITUDE = 84.7223
  MINIMUM_LATITUDE = 75.61
  POSITIVE_LONGITUDE_DIRECTION = EAST
  REFERENCE_LATITUDE = "N/A"
  REFERENCE_LONGITUDE = "N/A"
  SAMPLE_FIRST_PIXEL = 1
  SAMPLE_LAST_PIXEL = 12895
  SAMPLE_PROJECTION_OFFSET = 6641.75
  SECOND_STANDARD_PARALLEL = "N/A"
  WESTERNMOST_LONGITUDE = 92.19670000000001
END_OBJECT = IMAGE_MAP_PROJECTION
/* The JPEG2000 image data file associated with this label. */
OBJECT = COMPRESSED_FILE
  FILE_NAME = "H5568_0000_S23.JP2"
  RECORD_TYPE = UNDEFINED
  FILE_RECORDS = UNK
  ENCODING_TYPE = "JP2"
  INTERCHANGE_FORMAT = BINARY
  UNCOMPRESSED_FILE_NAME = "H5568_0000_S23.IMG"
  REQUIRED_STORAGE_BYTES = "284347645"
  ^DESCRIPTION = "JP2INFO.TXT"
END_OBJECT = COMPRESSED_FILE
END
