PDS_VERSION_ID = PDS3
/* FILE DATA ELEMENTS */
RECORD_TYPE = STREAM
/* POINTERS TO DATA OBJECTS */
^COMPRESSED_FILE = "H5569_0000_GR3.JP2"
/* IDENTIFICATION DATA ELEMENTS */
DATA_SET_ID = "MEX-M-HRSC-5-REFDR-MAPPROJECTED-V3.0"
DATA_SET_NAME = "MARS EXPRESS HRSC MAP PROJECTED REFDR V3.0"
DETECTOR_ID = MEX_HRSC_GREEN
EVENT_TYPE = "MARS-REGIONAL-MAPPING-Gl-La"
INSTRUMENT_HOST_ID = MEX
INSTRUMENT_HOST_NAME = "MARS EXPRESS"
INSTRUMENT_ID = HRSC
INSTRUMENT_NAME = "HIGH RESOLUTION STEREO CAMERA"
MISSION_NAME = "MARS EXPRESS"
MISSION_PHASE_NAME = ME_Phase_12
PROCESSING_LEVEL_ID = 3
PRODUCT_CREATION_TIME = 2016-05-15T06:04:46.000Z
PRODUCT_ID = "H5569_0000_GR3.JP2"
RELEASE_ID = 0063
REVISION_ID = 0000
/* QUALITY DATA ELEMENTS */
DATA_QUALITY_ID = 1
DATA_QUALITY_DESC = "Data calculated based on original SPICE kernels"
/* TIME DATA ELEMENTS */
SPACECRAFT_CLOCK_START_COUNT = "1/0157917068.08239"
SPACECRAFT_CLOCK_STOP_COUNT = "1/0157917301.63387"
START_TIME = 2008-05-03T17:51:40.248Z
STOP_TIME = 2008-05-03T17:54:24.149Z
/* ORBITAL DATA ELEMENTS */
ASCENDING_NODE_LONGITUDE = 112.49
MAXIMUM_RESOLUTION = 51.9
FOOTPRINT_POINT_LATITUDE = (84.9134,84.65,84.371,84.0464,83.8497, 83.7135,83.5733,83.4294,83.2073,83.0556 ,82.901,82.7437,82.5838,82.4215,82.181, 82.0135,81.7588,81.5869,81.4131,81.1497 ,80.9725,80.7938,80.6132,80.4322, 80.1586,79.9751,79.7898,79.5102,79.3227 ,79.1364,78.9468,78.7581,78.5684, 78.3781,78.1873,77.9959,77.804,77.6116, 77.4187,77.1285,76.9344,76.74,76.4475, 76.2522,75.9584,75.7622,75.5657,75.2704 ,75.0732,75.1206,75.1751,75.2547, 75.3021,75.4709,75.6729,75.8747,76.1771 ,76.3785,76.6804,76.8814,77.0822, 77.2828,77.5833,77.8833,78.1826,78.3819 ,78.6801,78.978,79.1761,79.3737,79.5707 ,79.7678,79.9641,80.2574,80.4528, 80.6472,80.9378,81.1306,81.3228,81.5142 ,81.7047,81.8944,82.0831,82.2708, 82.4575,82.643,82.8272,83.0936,83.2743, 83.4535,83.6309,83.8063,83.9798,84.1509 ,84.3198,84.5679,84.7299,84.8883, 85.0432,84.9134)
FOOTPRINT_POINT_LONGITUDE = (358.596,355.877,353.38,352.382,354.637 ,356.06,357.421,358.722,360.568,361.734 ,362.848,363.914,364.934,365.91,367.259 ,368.136,369.384,370.173,370.929, 372.006,372.689,373.344,373.97,374.576, 375.442,375.994,376.519,377.272,377.75, 378.226,378.667,379.104,379.524,379.929 ,380.322,380.702,381.069,381.425,381.77 ,382.266,382.584,382.893,383.338, 383.624,384.037,384.303,384.56,384.933, 385.173,386.424,387.159,388.305,389.037 ,390.055,389.869,389.677,389.379, 389.173,388.852,388.629,388.4,388.163, 387.792,387.403,386.994,386.709,386.263 ,385.793,385.465,385.124,384.77,384.403 ,384.021,383.419,382.997,382.557, 381.862,381.373,380.862,380.328,379.769 ,379.184,378.571,377.927,377.252, 376.543,375.797,374.637,373.79,372.895, 371.951,370.952,369.896,368.778,367.593 ,365.679,364.302,362.841,361.287, 358.596)
ORBIT_NUMBER = 5569
ORBITAL_ECCENTRICITY = 0.568
ORBITAL_INCLINATION = 86.75
ORBITAL_SEMIMAJOR_AXIS = 8636.55
PERIAPSIS_ALTITUDE = 358.35
PERIAPSIS_ARGUMENT_ANGLE = 98.67
PERIAPSIS_TIME = 2008-05-03T17:53:03.000Z
SPACECRAFT_ORIENTATION = (0.0,-1.0,0.0)
^MEX_ORIENTATION_DESC = "MEX_ORIENTATION_DESC.TXT"
SPACECRAFT_POINTING_MODE = ACROSSTRACK
^MEX_POINTING_DESC = "MEX_POINTING_DESC.TXT"
RIGHT_ASCENSION = -1e+32
DECLINATION = -1e+32
OFFSET_ANGLE = -0.7
SPACECRAFT_SOLAR_DISTANCE = 2.49157e+08
TARGET_NAME = MARS
/* CAMERA DATA ELEMENTS */
DETECTOR_TEMPERATURE = 17.9627
FOCAL_PLANE_TEMPERATURE = 7.156
INST_CMPRS_NAME = "DISCRETE COSINE TRANSFORMATION (DCT)"
INST_CMPRS_RATIO = 12.1102
INST_CMPRS_QUALITY = 0
INST_CMPRS_QUANTZ_TBL_ID = 0
INSTRUMENT_TEMPERATURE = 10.4184
LENS_TEMPERATURE = 7.5638
MACROPIXEL_SIZE = 4
MISSING_FRAMES = 29
PIXEL_SUBSAMPLING_FLAG = N
SIGNAL_CHAIN_ID = 2
/* RADIOMETRIC DATA ELEMENTS */
BANDWIDTH = 88.0
CENTER_FILTER_WAVELENGTH = 538.0
RADIANCE_OFFSET = 0.946912
RADIANCE_SCALING_FACTOR = 0.018799
REFLECTANCE_SCALING_FACTOR = 0.00100477
MEX:REFLECTANCE_OFFSET = 0.0506109
/* IMAGE OBJECT DEFINITIONS */
OBJECT = IMAGE
  INTERCHANGE_FORMAT = BINARY
  LINES = 11891
  LINE_SAMPLES = 6411
  SAMPLE_TYPE = UNSIGNED_INTEGER
  SAMPLE_BITS = 8
  BANDS = 1
  BAND_STORAGE_TYPE = BAND_SEQUENTIAL
  MAXIMUM = 255
  MEAN = 147.842
  MINIMUM = 1
  STANDARD_DEVIATION = 30.5575
END_OBJECT = IMAGE
/* MAP OBJECT DEFINITIONS */
OBJECT = IMAGE_MAP_PROJECTION
  ^DATA_SET_MAP_PROJECTION_CATALOG= "DSMAP.CAT"
  A_AXIS_RADIUS = 3396.0
  B_AXIS_RADIUS = 3396.0
  C_AXIS_RADIUS = 3396.0
  CENTER_LATITUDE = 0.0
  CENTER_LONGITUDE = 20.0
  COORDINATE_SYSTEM_NAME = PLANETOGRAPHIC
  COORDINATE_SYSTEM_TYPE = "BODY-FIXED ROTATING"
  EASTERNMOST_LONGITUDE = 30.055
  FIRST_STANDARD_PARALLEL = "N/A"
  LINE_FIRST_PIXEL = 1
  LINE_LAST_PIXEL = 11891
  LINE_PROJECTION_OFFSET = 100862.125
  MAP_PROJECTION_ROTATION = 0.0
  MAP_PROJECTION_TYPE = SINUSOIDAL
  MAP_RESOLUTION = 1185.42760773333
  MAP_SCALE = 0.05
  MAXIMUM_LATITUDE = 85.0432
  MINIMUM_LATITUDE = 75.0732
  POSITIVE_LONGITUDE_DIRECTION = EAST
  REFERENCE_LATITUDE = "N/A"
  REFERENCE_LONGITUDE = "N/A"
  SAMPLE_FIRST_PIXEL = 1
  SAMPLE_LAST_PIXEL = 6411
  SAMPLE_PROJECTION_OFFSET = 3360.625
  SECOND_STANDARD_PARALLEL = "N/A"
  WESTERNMOST_LONGITUDE = -7.618
END_OBJECT = IMAGE_MAP_PROJECTION
/* The JPEG2000 image data file associated with this label. */
OBJECT = COMPRESSED_FILE
  FILE_NAME = "H5569_0000_GR3.JP2"
  RECORD_TYPE = UNDEFINED
  FILE_RECORDS = UNK
  ENCODING_TYPE = "JP2"
  INTERCHANGE_FORMAT = BINARY
  UNCOMPRESSED_FILE_NAME = "H5569_0000_GR3.IMG"
  REQUIRED_STORAGE_BYTES = "76265256"
  ^DESCRIPTION = "JP2INFO.TXT"
END_OBJECT = COMPRESSED_FILE
END
