PDS_VERSION_ID = PDS3
/* FILE DATA ELEMENTS */
RECORD_TYPE = STREAM
/* POINTERS TO DATA OBJECTS */
^COMPRESSED_FILE = "H5570_0000_ND3.JP2"
/* IDENTIFICATION DATA ELEMENTS */
DATA_SET_ID = "MEX-M-HRSC-5-REFDR-MAPPROJECTED-V3.0"
DATA_SET_NAME = "MARS EXPRESS HRSC MAP PROJECTED REFDR V3.0"
DETECTOR_ID = MEX_HRSC_NADIR
EVENT_TYPE = "MARS-REGIONAL-MAPPING-Fl-Gl-La"
INSTRUMENT_HOST_ID = MEX
INSTRUMENT_HOST_NAME = "MARS EXPRESS"
INSTRUMENT_ID = HRSC
INSTRUMENT_NAME = "HIGH RESOLUTION STEREO CAMERA"
MISSION_NAME = "MARS EXPRESS"
MISSION_PHASE_NAME = ME_Phase_12
PROCESSING_LEVEL_ID = 3
PRODUCT_CREATION_TIME = 2016-05-15T06:04:46.000Z
PRODUCT_ID = "H5570_0000_ND3.JP2"
RELEASE_ID = 0063
REVISION_ID = 0000
/* QUALITY DATA ELEMENTS */
DATA_QUALITY_ID = 1
DATA_QUALITY_DESC = "Data calculated based on original SPICE kernels"
/* TIME DATA ELEMENTS */
SPACECRAFT_CLOCK_START_COUNT = "1/0157941753.07304"
SPACECRAFT_CLOCK_STOP_COUNT = "1/0157942029.31557"
START_TIME = 2008-05-04T00:43:09.639Z
STOP_TIME = 2008-05-04T00:46:34.648Z
/* ORBITAL DATA ELEMENTS */
ASCENDING_NODE_LONGITUDE = 112.48
MAXIMUM_RESOLUTION = 14.4
FOOTPRINT_POINT_LATITUDE = (82.7911,82.6392,82.4944,82.3144, 81.9907,81.772,81.4392,81.2158,80.9909, 80.7642,80.5359,80.3063,80.0755,79.8435 ,79.6104,79.3764,79.1413,78.9054, 78.6687,78.4313,78.1931,77.9542,77.7147 ,77.4747,77.2341,76.993,76.7515,76.5095 ,76.2671,76.0244,75.7812,75.5377,75.294 ,75.05,74.5611,74.0714,73.581,73.0899, 72.8064,72.513,72.2195,71.9258,71.632, 71.3382,71.0443,70.7504,70.4565,70.1625 ,69.7497,69.8193,69.8673,69.9125, 70.2331,70.5303,70.8277,71.1251,71.4227 ,71.7203,72.018,72.3157,72.6135,72.9113 ,73.348,73.8471,74.0966,74.3461,74.5955 ,74.8449,75.0942,75.3435,75.5927, 75.8417,76.0907,76.3395,76.5882,76.8366 ,77.085,77.3332,77.5812,77.8289,78.0764 ,78.3236,78.5705,78.817,79.0633,79.3091 ,79.5546,79.7995,80.044,80.2879,80.5312 ,80.774,81.0159,81.2572,81.4978,81.7375 ,81.9763,82.214,82.45,82.7911)
FOOTPRINT_POINT_LONGITUDE = (279.73,277.148,274.973,272.566,272.201 ,273.115,274.386,275.188,275.952, 276.675,277.361,278.014,278.637,279.23, 279.797,280.338,280.854,281.348,281.821 ,282.274,282.708,283.123,283.522, 283.904,284.272,284.626,284.966,285.293 ,285.608,285.911,286.202,286.484, 286.755,287.018,287.516,287.98,288.414, 288.821,289.044,289.267,289.481,289.688 ,289.886,290.078,290.264,290.442, 290.615,290.782,291.444,292.599,293.484 ,294.408,294.809,294.686,294.56,294.429 ,294.294,294.154,294.009,293.859, 293.704,293.543,293.295,292.996,292.838 ,292.676,292.508,292.334,292.154, 291.968,291.775,291.575,291.367,291.152 ,290.929,290.695,290.454,290.204, 289.942,289.67,289.386,289.09,288.78, 288.457,288.119,287.764,287.393,287.004 ,286.595,286.165,285.712,285.237, 284.733,284.202,283.642,283.049,282.422 ,281.757,281.04,279.73)
ORBIT_NUMBER = 5570
ORBITAL_ECCENTRICITY = 0.567
ORBITAL_INCLINATION = 86.75
ORBITAL_SEMIMAJOR_AXIS = 8635.08
PERIAPSIS_ALTITUDE = 358.43
PERIAPSIS_ARGUMENT_ANGLE = 98.52
PERIAPSIS_TIME = 2008-05-04T00:43:39.000Z
SPACECRAFT_ORIENTATION = (0.0,-1.0,0.0)
^MEX_ORIENTATION_DESC = "MEX_ORIENTATION_DESC.TXT"
SPACECRAFT_POINTING_MODE = ACROSSTRACK
^MEX_POINTING_DESC = "MEX_POINTING_DESC.TXT"
RIGHT_ASCENSION = -1e+32
DECLINATION = -1e+32
OFFSET_ANGLE = -0.269
SPACECRAFT_SOLAR_DISTANCE = 2.49161e+08
TARGET_NAME = MARS
/* CAMERA DATA ELEMENTS */
DETECTOR_TEMPERATURE = 17.9627
FOCAL_PLANE_TEMPERATURE = 7.156
INST_CMPRS_NAME = "DISCRETE COSINE TRANSFORMATION (DCT)"
INST_CMPRS_RATIO = 6.85852
INST_CMPRS_QUALITY = 0
INST_CMPRS_QUANTZ_TBL_ID = 0
INSTRUMENT_TEMPERATURE = 10.8262
LENS_TEMPERATURE = 7.7677
MACROPIXEL_SIZE = 1
MISSING_FRAMES = 0
PIXEL_SUBSAMPLING_FLAG = N
SIGNAL_CHAIN_ID = 0
/* RADIOMETRIC DATA ELEMENTS */
BANDWIDTH = 177.0
CENTER_FILTER_WAVELENGTH = 677.5
RADIANCE_OFFSET = 2.17069
RADIANCE_SCALING_FACTOR = 0.0384214
REFLECTANCE_SCALING_FACTOR = 0.00126712
MEX:REFLECTANCE_OFFSET = 0.0715883
/* IMAGE OBJECT DEFINITIONS */
OBJECT = IMAGE
  INTERCHANGE_FORMAT = BINARY
  LINES = 61927
  LINE_SAMPLES = 21684
  SAMPLE_TYPE = UNSIGNED_INTEGER
  SAMPLE_BITS = 8
  BANDS = 1
  BAND_STORAGE_TYPE = BAND_SEQUENTIAL
  MAXIMUM = 255
  MEAN = 78.2925
  MINIMUM = 1
  STANDARD_DEVIATION = 60.2329
END_OBJECT = IMAGE
/* MAP OBJECT DEFINITIONS */
OBJECT = IMAGE_MAP_PROJECTION
  ^DATA_SET_MAP_PROJECTION_CATALOG= "DSMAP.CAT"
  A_AXIS_RADIUS = 3396.0
  B_AXIS_RADIUS = 3396.0
  C_AXIS_RADIUS = 3396.0
  CENTER_LATITUDE = 0.0
  CENTER_LONGITUDE = 288.0
  COORDINATE_SYSTEM_NAME = PLANETOGRAPHIC
  COORDINATE_SYSTEM_TYPE = "BODY-FIXED ROTATING"
  EASTERNMOST_LONGITUDE = 294.809
  FIRST_STANDARD_PARALLEL = "N/A"
  LINE_FIRST_PIXEL = 1
  LINE_LAST_PIXEL = 61927
  LINE_PROJECTION_OFFSET = 392571.0
  MAP_PROJECTION_ROTATION = 0.0
  MAP_PROJECTION_TYPE = SINUSOIDAL
  MAP_RESOLUTION = 4741.71043093333
  MAP_SCALE = 0.0125
  MAXIMUM_LATITUDE = 82.7911
  MINIMUM_LATITUDE = 69.7497
  POSITIVE_LONGITUDE_DIRECTION = EAST
  REFERENCE_LATITUDE = "N/A"
  REFERENCE_LONGITUDE = "N/A"
  SAMPLE_FIRST_PIXEL = 1
  SAMPLE_LAST_PIXEL = 21684
  SAMPLE_PROJECTION_OFFSET = 10487.0
  SECOND_STANDARD_PARALLEL = "N/A"
  WESTERNMOST_LONGITUDE = 272.201
END_OBJECT = IMAGE_MAP_PROJECTION
/* The JPEG2000 image data file associated with this label. */
OBJECT = COMPRESSED_FILE
  FILE_NAME = "H5570_0000_ND3.JP2"
  RECORD_TYPE = UNDEFINED
  FILE_RECORDS = UNK
  ENCODING_TYPE = "JP2"
  INTERCHANGE_FORMAT = BINARY
  UNCOMPRESSED_FILE_NAME = "H5570_0000_ND3.IMG"
  REQUIRED_STORAGE_BYTES = "1342890120"
  ^DESCRIPTION = "JP2INFO.TXT"
END_OBJECT = COMPRESSED_FILE
END
