PDS_VERSION_ID = PDS3
/* FILE DATA ELEMENTS */
RECORD_TYPE = STREAM
/* POINTERS TO DATA OBJECTS */
^COMPRESSED_FILE = "H5570_0000_S13.JP2"
/* IDENTIFICATION DATA ELEMENTS */
DATA_SET_ID = "MEX-M-HRSC-5-REFDR-MAPPROJECTED-V3.0"
DATA_SET_NAME = "MARS EXPRESS HRSC MAP PROJECTED REFDR V3.0"
DETECTOR_ID = MEX_HRSC_S1
EVENT_TYPE = "MARS-REGIONAL-MAPPING-Fl-Gl-La"
INSTRUMENT_HOST_ID = MEX
INSTRUMENT_HOST_NAME = "MARS EXPRESS"
INSTRUMENT_ID = HRSC
INSTRUMENT_NAME = "HIGH RESOLUTION STEREO CAMERA"
MISSION_NAME = "MARS EXPRESS"
MISSION_PHASE_NAME = ME_Phase_12
PROCESSING_LEVEL_ID = 3
PRODUCT_CREATION_TIME = 2016-05-15T06:04:46.000Z
PRODUCT_ID = "H5570_0000_S13.JP2"
RELEASE_ID = 0063
REVISION_ID = 0000
/* QUALITY DATA ELEMENTS */
DATA_QUALITY_ID = 1
DATA_QUALITY_DESC = "Data calculated based on original SPICE kernels"
/* TIME DATA ELEMENTS */
SPACECRAFT_CLOCK_START_COUNT = "1/0157941753.07304"
SPACECRAFT_CLOCK_STOP_COUNT = "1/0157942029.31557"
START_TIME = 2008-05-04T00:42:36.780Z
STOP_TIME = 2008-05-04T00:46:00.384Z
/* ORBITAL DATA ELEMENTS */
ASCENDING_NODE_LONGITUDE = 112.48
MAXIMUM_RESOLUTION = 30.7
FOOTPRINT_POINT_LATITUDE = (82.8464,82.6731,82.4836,82.3375,81.966 ,81.7444,81.518,81.1773,80.9509,80.7211 ,80.4892,80.2556,80.0212,79.7853, 79.5481,79.3099,79.0703,78.83,78.5883, 78.346,78.1028,77.8584,77.4904,77.1208, 76.7498,76.5017,76.1287,75.8784,75.628, 75.3773,75.1262,74.8745,74.6224,74.3697 ,74.1165,73.7361,73.4822,73.1006, 72.8459,72.5911,72.3356,72.0799,71.8239 ,71.4394,71.1828,70.9259,70.6257, 70.1649,69.8573,69.7384,69.8169,69.8674 ,70.0831,70.5496,70.8604,71.1664, 71.4265,71.6865,71.9467,72.206,72.4656, 72.725,72.9843,73.2431,73.502,73.7604, 74.019,74.2768,74.5346,74.9209,75.1783, 75.435,75.6918,75.9482,76.3322,76.5879, 76.8454,77.0984,77.3527,77.6068,77.9873 ,78.3666,78.745,79.1222,79.3729,79.6229 ,79.8729,80.1221,80.3709,80.6185,80.864 ,81.1119,81.3566,81.5996,81.8409,82.08, 82.3229,82.5632,82.801,82.8464)
FOOTPRINT_POINT_LONGITUDE = (277.993,275.386,272.892,271.166, 272.283,273.206,274.082,275.31,276.075, 276.803,277.495,278.154,278.782,279.38, 279.951,280.496,281.017,281.515,281.992 ,282.448,282.886,283.305,283.902, 284.465,284.994,285.331,285.812,286.118 ,286.413,286.697,286.971,287.236, 287.491,287.738,287.976,288.319,288.538 ,288.854,289.056,289.252,289.441, 289.625,289.803,290.06,290.225,290.385, 290.565,290.831,291.0,291.752,292.931, 293.78,294.839,294.65,294.519,294.385, 294.268,294.147,294.022,293.894,293.761 ,293.625,293.484,293.339,293.189, 293.035,292.874,292.71,292.539,292.271, 292.085,291.893,291.692,291.485,291.159 ,290.931,290.691,290.448,290.192, 289.925,289.503,289.054,288.574,288.061 ,287.698,287.319,286.918,286.498, 286.055,285.59,285.104,284.58,284.034, 283.459,282.853,282.214,281.512,280.771 ,279.986,277.993)
ORBIT_NUMBER = 5570
ORBITAL_ECCENTRICITY = 0.567
ORBITAL_INCLINATION = 86.75
ORBITAL_SEMIMAJOR_AXIS = 8635.08
PERIAPSIS_ALTITUDE = 358.43
PERIAPSIS_ARGUMENT_ANGLE = 98.52
PERIAPSIS_TIME = 2008-05-04T00:43:39.000Z
SPACECRAFT_ORIENTATION = (0.0,-1.0,0.0)
^MEX_ORIENTATION_DESC = "MEX_ORIENTATION_DESC.TXT"
SPACECRAFT_POINTING_MODE = ACROSSTRACK
^MEX_POINTING_DESC = "MEX_POINTING_DESC.TXT"
RIGHT_ASCENSION = -1e+32
DECLINATION = -1e+32
OFFSET_ANGLE = -0.269
SPACECRAFT_SOLAR_DISTANCE = 2.49161e+08
TARGET_NAME = MARS
/* CAMERA DATA ELEMENTS */
DETECTOR_TEMPERATURE = 16.7393
FOCAL_PLANE_TEMPERATURE = 7.156
INST_CMPRS_NAME = "DISCRETE COSINE TRANSFORMATION (DCT)"
INST_CMPRS_RATIO = 10.6247
INST_CMPRS_QUALITY = 0
INST_CMPRS_QUANTZ_TBL_ID = 0
INSTRUMENT_TEMPERATURE = 10.8262
LENS_TEMPERATURE = 7.7677
MACROPIXEL_SIZE = 2
MISSING_FRAMES = 0
PIXEL_SUBSAMPLING_FLAG = N
SIGNAL_CHAIN_ID = 1
/* RADIOMETRIC DATA ELEMENTS */
BANDWIDTH = 180.0
CENTER_FILTER_WAVELENGTH = 677.0
RADIANCE_OFFSET = 3.07422
RADIANCE_SCALING_FACTOR = 0.0385784
REFLECTANCE_SCALING_FACTOR = 0.00124953
MEX:REFLECTANCE_OFFSET = 0.099572
/* IMAGE OBJECT DEFINITIONS */
OBJECT = IMAGE
  INTERCHANGE_FORMAT = BINARY
  LINES = 30964
  LINE_SAMPLES = 10842
  SAMPLE_TYPE = UNSIGNED_INTEGER
  SAMPLE_BITS = 8
  BANDS = 1
  BAND_STORAGE_TYPE = BAND_SEQUENTIAL
  MAXIMUM = 255
  MEAN = 79.3523
  MINIMUM = 1
  STANDARD_DEVIATION = 64.4741
END_OBJECT = IMAGE
/* MAP OBJECT DEFINITIONS */
OBJECT = IMAGE_MAP_PROJECTION
  ^DATA_SET_MAP_PROJECTION_CATALOG= "DSMAP.CAT"
  A_AXIS_RADIUS = 3396.0
  B_AXIS_RADIUS = 3396.0
  C_AXIS_RADIUS = 3396.0
  CENTER_LATITUDE = 0.0
  CENTER_LONGITUDE = 288.0
  COORDINATE_SYSTEM_NAME = PLANETOGRAPHIC
  COORDINATE_SYSTEM_TYPE = "BODY-FIXED ROTATING"
  EASTERNMOST_LONGITUDE = 294.839
  FIRST_STANDARD_PARALLEL = "N/A"
  LINE_FIRST_PIXEL = 1
  LINE_LAST_PIXEL = 30964
  LINE_PROJECTION_OFFSET = 196285.25
  MAP_PROJECTION_ROTATION = 0.0
  MAP_PROJECTION_TYPE = SINUSOIDAL
  MAP_RESOLUTION = 2370.85521546667
  MAP_SCALE = 0.025
  MAXIMUM_LATITUDE = 82.8464
  MINIMUM_LATITUDE = 69.7384
  POSITIVE_LONGITUDE_DIRECTION = EAST
  REFERENCE_LATITUDE = "N/A"
  REFERENCE_LONGITUDE = "N/A"
  SAMPLE_FIRST_PIXEL = 1
  SAMPLE_LAST_PIXEL = 10842
  SAMPLE_PROJECTION_OFFSET = 5243.25
  SECOND_STANDARD_PARALLEL = "N/A"
  WESTERNMOST_LONGITUDE = 271.166
END_OBJECT = IMAGE_MAP_PROJECTION
/* The JPEG2000 image data file associated with this label. */
OBJECT = COMPRESSED_FILE
  FILE_NAME = "H5570_0000_S13.JP2"
  RECORD_TYPE = UNDEFINED
  FILE_RECORDS = UNK
  ENCODING_TYPE = "JP2"
  INTERCHANGE_FORMAT = BINARY
  UNCOMPRESSED_FILE_NAME = "H5570_0000_S13.IMG"
  REQUIRED_STORAGE_BYTES = "335744214"
  ^DESCRIPTION = "JP2INFO.TXT"
END_OBJECT = COMPRESSED_FILE
END
