PDS_VERSION_ID = PDS3
/* FILE DATA ELEMENTS */
RECORD_TYPE = STREAM
/* POINTERS TO DATA OBJECTS */
^COMPRESSED_FILE = "H5571_0000_ND3.JP2"
/* IDENTIFICATION DATA ELEMENTS */
DATA_SET_ID = "MEX-M-HRSC-5-REFDR-MAPPROJECTED-V3.0"
DATA_SET_NAME = "MARS EXPRESS HRSC MAP PROJECTED REFDR V3.0"
DETECTOR_ID = MEX_HRSC_NADIR
EVENT_TYPE = "MARS-REGIONAL-COLOR-Vo-Eo-La"
INSTRUMENT_HOST_ID = MEX
INSTRUMENT_HOST_NAME = "MARS EXPRESS"
INSTRUMENT_ID = HRSC
INSTRUMENT_NAME = "HIGH RESOLUTION STEREO CAMERA"
MISSION_NAME = "MARS EXPRESS"
MISSION_PHASE_NAME = ME_Phase_12
PROCESSING_LEVEL_ID = 3
PRODUCT_CREATION_TIME = 2016-05-15T06:04:46.000Z
PRODUCT_ID = "H5571_0000_ND3.JP2"
RELEASE_ID = 0063
REVISION_ID = 0000
/* QUALITY DATA ELEMENTS */
DATA_QUALITY_ID = 1
DATA_QUALITY_DESC = "Data calculated based on original SPICE kernels"
/* TIME DATA ELEMENTS */
SPACECRAFT_CLOCK_START_COUNT = "1/0157966345.07302"
SPACECRAFT_CLOCK_STOP_COUNT = "1/0157966532.32108"
START_TIME = 2008-05-04T07:33:02.014Z
STOP_TIME = 2008-05-04T07:35:01.031Z
/* ORBITAL DATA ELEMENTS */
ASCENDING_NODE_LONGITUDE = 112.45
MAXIMUM_RESOLUTION = 14.4
FOOTPRINT_POINT_LATITUDE = (85.0425,84.8874,84.7008,84.573,84.4248 ,84.233,84.0021,83.7644,83.5207,83.2718 ,83.0179,82.8894,82.7598,82.6292, 82.4978,82.3654,82.2323,82.0983,81.9636 ,81.8282,81.6922,81.5555,81.4181, 81.2802,81.0724,80.9332,80.7934,80.583, 80.4422,80.301,80.1593,80.0173,79.875, 79.7322,79.5892,79.4458,79.3022,79.1583 ,78.9418,78.7972,78.6524,78.5073, 78.2165,77.9249,77.7057,77.5634,77.6527 ,77.7251,77.7682,77.8174,77.8645,78.015 ,78.1654,78.3158,78.4661,78.6164, 78.7665,78.9164,79.0663,79.216,79.3657, 79.5152,79.6646,79.8139,79.963,80.112, 80.2608,80.4094,80.5579,80.7062,80.9283 ,81.0761,81.2974,81.4446,81.6649, 81.8115,81.9577,82.1037,82.2493,82.3946 ,82.5395,82.6841,82.8282,82.9719, 83.1151,83.2579,83.4001,83.5417,83.6827 ,83.8232,83.9629,84.1019,84.2401, 84.3775,84.514,84.6495,84.784,84.9173, 85.0494,85.0425)
FOOTPRINT_POINT_LONGITUDE = (169.891,167.357,164.677,163.027, 161.271,161.412,163.384,165.207,166.893 ,168.457,169.905,170.59,171.25,171.887, 172.501,173.093,173.665,174.217,174.75, 175.265,175.763,176.245,176.711,177.162 ,177.811,178.227,178.63,179.212,179.585 ,179.947,180.298,180.639,180.97,181.291 ,181.604,181.907,182.202,182.489, 182.905,183.173,183.435,183.688,184.178 ,184.643,184.976,185.551,186.96,188.213 ,189.018,190.004,191.024,190.871, 190.714,190.553,190.388,190.219,190.044 ,189.864,189.678,189.488,189.292,189.09 ,188.883,188.669,188.449,188.222, 187.988,187.747,187.498,187.241,186.84, 186.561,186.125,185.821,185.346,185.015 ,184.671,184.315,183.945,183.562, 183.163,182.748,182.317,181.867,181.399 ,180.911,180.401,179.869,179.314, 178.733,178.125,177.488,176.821,176.12, 175.385,174.613,173.802,172.945,172.044 ,169.891)
ORBIT_NUMBER = 5571
ORBITAL_ECCENTRICITY = 0.567
ORBITAL_INCLINATION = 86.75
ORBITAL_SEMIMAJOR_AXIS = 8634.62
PERIAPSIS_ALTITUDE = 358.11
PERIAPSIS_ARGUMENT_ANGLE = 98.33
PERIAPSIS_TIME = 2008-05-04T07:34:06.000Z
SPACECRAFT_ORIENTATION = (0.0,-1.0,0.0)
^MEX_ORIENTATION_DESC = "MEX_ORIENTATION_DESC.TXT"
SPACECRAFT_POINTING_MODE = NADIR
^MEX_POINTING_DESC = "MEX_POINTING_DESC.TXT"
RIGHT_ASCENSION = -1e+32
DECLINATION = -1e+32
OFFSET_ANGLE = -1e+32
SPACECRAFT_SOLAR_DISTANCE = 2.49165e+08
TARGET_NAME = MARS
/* CAMERA DATA ELEMENTS */
DETECTOR_TEMPERATURE = 17.5549
FOCAL_PLANE_TEMPERATURE = 7.3599
INST_CMPRS_NAME = "DISCRETE COSINE TRANSFORMATION (DCT)"
INST_CMPRS_RATIO = 5.23612
INST_CMPRS_QUALITY = 0
INST_CMPRS_QUANTZ_TBL_ID = 0
INSTRUMENT_TEMPERATURE = 10.4184
LENS_TEMPERATURE = 6.3404
MACROPIXEL_SIZE = 1
MISSING_FRAMES = 0
PIXEL_SUBSAMPLING_FLAG = N
SIGNAL_CHAIN_ID = 0
/* RADIOMETRIC DATA ELEMENTS */
BANDWIDTH = 177.0
CENTER_FILTER_WAVELENGTH = 677.5
RADIANCE_OFFSET = 3.92117
RADIANCE_SCALING_FACTOR = 0.0285575
REFLECTANCE_SCALING_FACTOR = 0.00094184
MEX:REFLECTANCE_OFFSET = 0.129322
/* IMAGE OBJECT DEFINITIONS */
OBJECT = IMAGE
  INTERCHANGE_FORMAT = BINARY
  LINES = 35830
  LINE_SAMPLES = 19248
  SAMPLE_TYPE = UNSIGNED_INTEGER
  SAMPLE_BITS = 8
  BANDS = 1
  BAND_STORAGE_TYPE = BAND_SEQUENTIAL
  MAXIMUM = 255
  MEAN = 170.555
  MINIMUM = 1
  STANDARD_DEVIATION = 27.5854
END_OBJECT = IMAGE
/* MAP OBJECT DEFINITIONS */
OBJECT = IMAGE_MAP_PROJECTION
  ^DATA_SET_MAP_PROJECTION_CATALOG= "DSMAP.CAT"
  A_AXIS_RADIUS = 3396.0
  B_AXIS_RADIUS = 3396.0
  C_AXIS_RADIUS = 3396.0
  CENTER_LATITUDE = 0.0
  CENTER_LONGITUDE = 181.0
  COORDINATE_SYSTEM_NAME = PLANETOGRAPHIC
  COORDINATE_SYSTEM_TYPE = "BODY-FIXED ROTATING"
  EASTERNMOST_LONGITUDE = 191.024
  FIRST_STANDARD_PARALLEL = "N/A"
  LINE_FIRST_PIXEL = 1
  LINE_LAST_PIXEL = 35830
  LINE_PROJECTION_OFFSET = 403551.0
  MAP_PROJECTION_ROTATION = 0.0
  MAP_PROJECTION_TYPE = SINUSOIDAL
  MAP_RESOLUTION = 4741.71043093333
  MAP_SCALE = 0.0125
  MAXIMUM_LATITUDE = 85.04940000000001
  MINIMUM_LATITUDE = 77.5634
  POSITIVE_LONGITUDE_DIRECTION = EAST
  REFERENCE_LATITUDE = "N/A"
  REFERENCE_LONGITUDE = "N/A"
  SAMPLE_FIRST_PIXEL = 1
  SAMPLE_LAST_PIXEL = 19248
  SAMPLE_PROJECTION_OFFSET = 9440.0
  SECOND_STANDARD_PARALLEL = "N/A"
  WESTERNMOST_LONGITUDE = 161.271
END_OBJECT = IMAGE_MAP_PROJECTION
/* The JPEG2000 image data file associated with this label. */
OBJECT = COMPRESSED_FILE
  FILE_NAME = "H5571_0000_ND3.JP2"
  RECORD_TYPE = UNDEFINED
  FILE_RECORDS = UNK
  ENCODING_TYPE = "JP2"
  INTERCHANGE_FORMAT = BINARY
  UNCOMPRESSED_FILE_NAME = "H5571_0000_ND3.IMG"
  REQUIRED_STORAGE_BYTES = "689713584"
  ^DESCRIPTION = "JP2INFO.TXT"
END_OBJECT = COMPRESSED_FILE
END
