PDS_VERSION_ID = PDS3
/* FILE DATA ELEMENTS */
RECORD_TYPE = STREAM
/* POINTERS TO DATA OBJECTS */
^COMPRESSED_FILE = "H5574_0000_BL3.JP2"
/* IDENTIFICATION DATA ELEMENTS */
DATA_SET_ID = "MEX-M-HRSC-5-REFDR-MAPPROJECTED-V3.0"
DATA_SET_NAME = "MARS EXPRESS HRSC MAP PROJECTED REFDR V3.0"
DETECTOR_ID = MEX_HRSC_BLUE
EVENT_TYPE = "MARS-REGIONAL-COLOR-Vo-Eo-Ts"
INSTRUMENT_HOST_ID = MEX
INSTRUMENT_HOST_NAME = "MARS EXPRESS"
INSTRUMENT_ID = HRSC
INSTRUMENT_NAME = "HIGH RESOLUTION STEREO CAMERA"
MISSION_NAME = "MARS EXPRESS"
MISSION_PHASE_NAME = ME_Phase_12
PROCESSING_LEVEL_ID = 3
PRODUCT_CREATION_TIME = 2016-05-15T06:04:46.000Z
PRODUCT_ID = "H5574_0000_BL3.JP2"
RELEASE_ID = 0063
REVISION_ID = 0000
/* QUALITY DATA ELEMENTS */
DATA_QUALITY_ID = 1
DATA_QUALITY_DESC = "Data calculated based on original SPICE kernels"
/* TIME DATA ELEMENTS */
SPACECRAFT_CLOCK_START_COUNT = "1/0158040277.07287"
SPACECRAFT_CLOCK_STOP_COUNT = "1/0158040467.28920"
START_TIME = 2008-05-05T04:05:19.564Z
STOP_TIME = 2008-05-05T04:07:20.503Z
/* ORBITAL DATA ELEMENTS */
ASCENDING_NODE_LONGITUDE = 112.4
MAXIMUM_RESOLUTION = 57.8
FOOTPRINT_POINT_LATITUDE = (83.04,82.9528,82.8615,82.7662,82.667, 82.5637,82.4358,82.2715,82.0842,81.9579 ,81.8306,81.7023,81.5731,81.443,81.312, 81.1802,81.0476,80.9143,80.7802,80.5779 ,80.3741,80.2375,80.1003,79.9626, 79.8243,79.6856,79.5463,79.4066,79.2665 ,79.0556,78.9145,78.702,78.56,78.4176, 78.2749,78.1319,77.9168,77.7731,77.557, 77.4126,77.2679,77.1231,76.978,76.8327, 76.6872,76.3957,76.1034,75.8105,75.5904 ,75.4755,75.5312,75.6153,75.6633, 75.7003,75.7406,75.9008,76.2016,76.3522 ,76.5025,76.6528,76.8033,76.9536, 77.1036,77.2536,77.4784,77.6281,77.7778 ,78.002,78.1513,78.3004,78.4494,78.5982 ,78.8212,79.0438,79.192,79.3399,79.4877 ,79.6352,79.7825,79.9296,80.0764, 80.2961,80.4423,80.588,80.7335,80.8786, 81.0956,81.3117,81.4553,81.5985,81.7412 ,81.8834,82.025,82.1661,82.3066,82.4466 ,82.5859,82.7935,82.931,83.04)
FOOTPRINT_POINT_LONGITUDE = (233.332,232.086,230.858,229.651, 228.465,227.3,225.943,225.924,226.946, 227.599,228.232,228.847,229.442,230.018 ,230.577,231.12,231.646,232.156,232.651 ,233.366,234.051,234.491,234.919, 235.334,235.738,236.13,236.512,236.882, 237.243,237.77,238.11,238.598,238.915, 239.224,239.525,239.82,240.244,240.521, 240.921,241.183,241.434,241.68,241.922, 242.157,242.387,242.833,243.259,243.666 ,243.958,245.05,245.814,247.052,247.812 ,248.428,249.137,249.146,248.843, 248.686,248.525,248.361,248.192,248.019 ,247.843,247.662,247.383,247.191, 246.994,246.689,246.479,246.264,246.043 ,245.816,245.464,245.098,244.845, 244.585,244.317,244.042,243.759,243.467 ,243.167,242.698,242.374,242.04,241.695 ,241.339,240.783,240.199,239.793, 239.373,238.938,238.488,238.022,237.54, 237.039,236.519,235.979,235.131,234.538 ,233.332)
ORBIT_NUMBER = 5574
ORBITAL_ECCENTRICITY = 0.567
ORBITAL_INCLINATION = 86.75
ORBITAL_SEMIMAJOR_AXIS = 8634.41
PERIAPSIS_ALTITUDE = 357.99
PERIAPSIS_ARGUMENT_ANGLE = 97.79
PERIAPSIS_TIME = 2008-05-05T04:05:41.000Z
SPACECRAFT_ORIENTATION = (0.0,-1.0,0.0)
^MEX_ORIENTATION_DESC = "MEX_ORIENTATION_DESC.TXT"
SPACECRAFT_POINTING_MODE = ACROSSTRACK
^MEX_POINTING_DESC = "MEX_POINTING_DESC.TXT"
RIGHT_ASCENSION = -1e+32
DECLINATION = -1e+32
OFFSET_ANGLE = -0.75
SPACECRAFT_SOLAR_DISTANCE = 2.49175e+08
TARGET_NAME = MARS
/* CAMERA DATA ELEMENTS */
DETECTOR_TEMPERATURE = 18.1666
FOCAL_PLANE_TEMPERATURE = 7.156
INST_CMPRS_NAME = "DISCRETE COSINE TRANSFORMATION (DCT)"
INST_CMPRS_RATIO = 13.982
INST_CMPRS_QUALITY = 0
INST_CMPRS_QUANTZ_TBL_ID = 0
INSTRUMENT_TEMPERATURE = 10.6223
LENS_TEMPERATURE = 7.3599
MACROPIXEL_SIZE = 4
MISSING_FRAMES = 0
PIXEL_SUBSAMPLING_FLAG = N
SIGNAL_CHAIN_ID = 2
/* RADIOMETRIC DATA ELEMENTS */
BANDWIDTH = 76.0
CENTER_FILTER_WAVELENGTH = 444.0
RADIANCE_OFFSET = 0.570181
RADIANCE_SCALING_FACTOR = 0.00702745
REFLECTANCE_SCALING_FACTOR = 0.000448295
MEX:REFLECTANCE_OFFSET = 0.036373
/* IMAGE OBJECT DEFINITIONS */
OBJECT = IMAGE
  INTERCHANGE_FORMAT = BINARY
  LINES = 9118
  LINE_SAMPLES = 4818
  SAMPLE_TYPE = UNSIGNED_INTEGER
  SAMPLE_BITS = 8
  BANDS = 1
  BAND_STORAGE_TYPE = BAND_SEQUENTIAL
  MAXIMUM = 255
  MEAN = 150.689
  MINIMUM = 2
  STANDARD_DEVIATION = 46.3466
END_OBJECT = IMAGE
/* MAP OBJECT DEFINITIONS */
OBJECT = IMAGE_MAP_PROJECTION
  ^DATA_SET_MAP_PROJECTION_CATALOG= "DSMAP.CAT"
  A_AXIS_RADIUS = 3396.0
  B_AXIS_RADIUS = 3396.0
  C_AXIS_RADIUS = 3396.0
  CENTER_LATITUDE = 0.0
  CENTER_LONGITUDE = 241.0
  COORDINATE_SYSTEM_NAME = PLANETOGRAPHIC
  COORDINATE_SYSTEM_TYPE = "BODY-FIXED ROTATING"
  EASTERNMOST_LONGITUDE = 249.146
  FIRST_STANDARD_PARALLEL = "N/A"
  LINE_FIRST_PIXEL = 1
  LINE_LAST_PIXEL = 9118
  LINE_PROJECTION_OFFSET = 98524.625
  MAP_PROJECTION_ROTATION = 0.0
  MAP_PROJECTION_TYPE = SINUSOIDAL
  MAP_RESOLUTION = 1185.42760773333
  MAP_SCALE = 0.05
  MAXIMUM_LATITUDE = 83.04000000000001
  MINIMUM_LATITUDE = 75.4755
  POSITIVE_LONGITUDE_DIRECTION = EAST
  REFERENCE_LATITUDE = "N/A"
  REFERENCE_LONGITUDE = "N/A"
  SAMPLE_FIRST_PIXEL = 1
  SAMPLE_LAST_PIXEL = 4818
  SAMPLE_PROJECTION_OFFSET = 2385.625
  SECOND_STANDARD_PARALLEL = "N/A"
  WESTERNMOST_LONGITUDE = 225.924
END_OBJECT = IMAGE_MAP_PROJECTION
/* The JPEG2000 image data file associated with this label. */
OBJECT = COMPRESSED_FILE
  FILE_NAME = "H5574_0000_BL3.JP2"
  RECORD_TYPE = UNDEFINED
  FILE_RECORDS = UNK
  ENCODING_TYPE = "JP2"
  INTERCHANGE_FORMAT = BINARY
  UNCOMPRESSED_FILE_NAME = "H5574_0000_BL3.IMG"
  REQUIRED_STORAGE_BYTES = "43954614"
  ^DESCRIPTION = "JP2INFO.TXT"
END_OBJECT = COMPRESSED_FILE
END
