PDS_VERSION_ID = PDS3
/* FILE DATA ELEMENTS */
RECORD_TYPE = STREAM
/* POINTERS TO DATA OBJECTS */
^COMPRESSED_FILE = "H5580_0000_P23.JP2"
/* IDENTIFICATION DATA ELEMENTS */
DATA_SET_ID = "MEX-M-HRSC-5-REFDR-MAPPROJECTED-V3.0"
DATA_SET_NAME = "MARS EXPRESS HRSC MAP PROJECTED REFDR V3.0"
DETECTOR_ID = MEX_HRSC_P2
EVENT_TYPE = "MARS-REGIONAL-MAPPING-Gl-Pf-La"
INSTRUMENT_HOST_ID = MEX
INSTRUMENT_HOST_NAME = "MARS EXPRESS"
INSTRUMENT_ID = HRSC
INSTRUMENT_NAME = "HIGH RESOLUTION STEREO CAMERA"
MISSION_NAME = "MARS EXPRESS"
MISSION_PHASE_NAME = ME_Phase_12
PROCESSING_LEVEL_ID = 3
PRODUCT_CREATION_TIME = 2016-05-15T06:04:46.000Z
PRODUCT_ID = "H5580_0000_P23.JP2"
RELEASE_ID = 0063
REVISION_ID = 0000
/* QUALITY DATA ELEMENTS */
DATA_QUALITY_ID = 1
DATA_QUALITY_DESC = "Data calculated based on original SPICE kernels"
/* TIME DATA ELEMENTS */
SPACECRAFT_CLOCK_START_COUNT = "1/0158188100.08254"
SPACECRAFT_CLOCK_STOP_COUNT = "1/0158188366.30870"
START_TIME = 2008-05-06T21:09:17.642Z
STOP_TIME = 2008-05-06T21:12:34.770Z
/* ORBITAL DATA ELEMENTS */
ASCENDING_NODE_LONGITUDE = 112.27
MAXIMUM_RESOLUTION = 26.3
FOOTPRINT_POINT_LATITUDE = (81.8369,81.7429,81.6009,81.5056, 81.1199,80.9103,80.7,80.4914,80.2791, 80.0646,79.8514,79.5303,79.3157,79.1032 ,78.8864,78.5631,78.347,78.1299,77.9127 ,77.5862,77.368,77.1497,76.9314,76.7128 ,76.4941,76.1139,75.8523,75.5907, 75.3291,75.0673,74.8055,74.5437,74.2819 ,74.02,73.7582,73.4964,73.2347,72.9731, 72.7116,72.4501,72.1889,71.9278,71.6668 ,71.406,71.0151,70.7547,70.4945,70.1046 ,69.7151,69.6314,69.6632,69.6983, 69.7307,69.7568,70.0187,70.2809,70.5434 ,70.8062,71.0692,71.3326,71.5962,71.86, 72.1241,72.3884,72.6529,72.9177,73.1826 ,73.4479,73.8461,74.2445,74.6447, 75.0431,75.3098,75.5765,75.8428,76.1096 ,76.3763,76.7691,77.1047,77.4402, 77.6636,77.887,78.1105,78.3344,78.6696, 78.8932,79.1143,79.3369,79.6702,79.8923 ,80.1147,80.3369,80.5589,80.7805,81.002 ,81.2234,81.4442,81.6647,81.8847, 81.8369)
FOOTPRINT_POINT_LONGITUDE = (363.007,361.262,358.907,357.476, 357.796,358.402,358.979,359.514,360.042 ,360.554,361.034,361.715,362.145, 362.546,362.947,363.508,363.864,364.209 ,364.539,365.013,365.315,365.606, 365.886,366.156,366.416,366.848,367.13, 367.401,367.661,367.911,368.152,368.384 ,368.607,368.822,369.029,369.229, 369.422,369.608,369.787,369.961,370.129 ,370.291,370.447,370.599,370.817, 370.957,371.092,371.287,371.473,372.84, 373.472,374.226,374.982,375.638,375.55, 375.459,375.366,375.27,375.171,375.069, 374.964,374.856,374.744,374.628,374.509 ,374.385,374.258,374.126,373.919, 373.701,373.472,373.228,373.058,372.882 ,372.698,372.507,372.308,372.0,371.721, 371.427,371.221,371.007,370.785,370.555 ,370.191,369.936,369.667,369.389, 368.948,368.637,368.313,367.973,367.617 ,367.244,366.851,366.439,366.005, 365.547,365.064,363.007)
ORBIT_NUMBER = 5580
ORBITAL_ECCENTRICITY = 0.567
ORBITAL_INCLINATION = 86.74
ORBITAL_SEMIMAJOR_AXIS = 8635.39
PERIAPSIS_ALTITUDE = 359.01
PERIAPSIS_ARGUMENT_ANGLE = 96.73
PERIAPSIS_TIME = 2008-05-06T21:08:43.000Z
SPACECRAFT_ORIENTATION = (0.0,-1.0,0.0)
^MEX_ORIENTATION_DESC = "MEX_ORIENTATION_DESC.TXT"
SPACECRAFT_POINTING_MODE = ACROSSTRACK
^MEX_POINTING_DESC = "MEX_POINTING_DESC.TXT"
RIGHT_ASCENSION = -1e+32
DECLINATION = -1e+32
OFFSET_ANGLE = 0.1
SPACECRAFT_SOLAR_DISTANCE = 2.49193e+08
TARGET_NAME = MARS
/* CAMERA DATA ELEMENTS */
DETECTOR_TEMPERATURE = 17.9627
FOCAL_PLANE_TEMPERATURE = 7.156
INST_CMPRS_NAME = "DISCRETE COSINE TRANSFORMATION (DCT)"
INST_CMPRS_RATIO = 6.53222
INST_CMPRS_QUALITY = 0
INST_CMPRS_QUANTZ_TBL_ID = 0
INSTRUMENT_TEMPERATURE = 10.8262
LENS_TEMPERATURE = 7.5638
MACROPIXEL_SIZE = 2
MISSING_FRAMES = 0
PIXEL_SUBSAMPLING_FLAG = N
SIGNAL_CHAIN_ID = 3
/* RADIOMETRIC DATA ELEMENTS */
BANDWIDTH = 177.0
CENTER_FILTER_WAVELENGTH = 676.5
RADIANCE_OFFSET = 4.901
RADIANCE_SCALING_FACTOR = 0.0287361
REFLECTANCE_SCALING_FACTOR = 0.000946146
MEX:REFLECTANCE_OFFSET = 0.161367
/* IMAGE OBJECT DEFINITIONS */
OBJECT = IMAGE
  INTERCHANGE_FORMAT = BINARY
  LINES = 29520
  LINE_SAMPLES = 9154
  SAMPLE_TYPE = UNSIGNED_INTEGER
  SAMPLE_BITS = 8
  BANDS = 1
  BAND_STORAGE_TYPE = BAND_SEQUENTIAL
  MAXIMUM = 255
  MEAN = 136.691
  MINIMUM = 1
  STANDARD_DEVIATION = 45.6037
END_OBJECT = IMAGE
/* MAP OBJECT DEFINITIONS */
OBJECT = IMAGE_MAP_PROJECTION
  ^DATA_SET_MAP_PROJECTION_CATALOG= "DSMAP.CAT"
  A_AXIS_RADIUS = 3396.0
  B_AXIS_RADIUS = 3396.0
  C_AXIS_RADIUS = 3396.0
  CENTER_LATITUDE = 0.0
  CENTER_LONGITUDE = 10.0
  COORDINATE_SYSTEM_NAME = PLANETOGRAPHIC
  COORDINATE_SYSTEM_TYPE = "BODY-FIXED ROTATING"
  EASTERNMOST_LONGITUDE = 15.638
  FIRST_STANDARD_PARALLEL = "N/A"
  LINE_FIRST_PIXEL = 1
  LINE_LAST_PIXEL = 29520
  LINE_PROJECTION_OFFSET = 194428.75
  MAP_PROJECTION_ROTATION = 0.0
  MAP_PROJECTION_TYPE = SINUSOIDAL
  MAP_RESOLUTION = 2370.85521546667
  MAP_SCALE = 0.025
  MAXIMUM_LATITUDE = 81.8847
  MINIMUM_LATITUDE = 69.6314
  POSITIVE_LONGITUDE_DIRECTION = EAST
  REFERENCE_LATITUDE = "N/A"
  REFERENCE_LONGITUDE = "N/A"
  SAMPLE_FIRST_PIXEL = 1
  SAMPLE_LAST_PIXEL = 9154
  SAMPLE_PROJECTION_OFFSET = 4678.25
  SECOND_STANDARD_PARALLEL = "N/A"
  WESTERNMOST_LONGITUDE = -2.524
END_OBJECT = IMAGE_MAP_PROJECTION
/* The JPEG2000 image data file associated with this label. */
OBJECT = COMPRESSED_FILE
  FILE_NAME = "H5580_0000_P23.JP2"
  RECORD_TYPE = UNDEFINED
  FILE_RECORDS = UNK
  ENCODING_TYPE = "JP2"
  INTERCHANGE_FORMAT = BINARY
  UNCOMPRESSED_FILE_NAME = "H5580_0000_P23.IMG"
  REQUIRED_STORAGE_BYTES = "270262696"
  ^DESCRIPTION = "JP2INFO.TXT"
END_OBJECT = COMPRESSED_FILE
END
