PDS_VERSION_ID = PDS3
/* FILE DATA ELEMENTS */
RECORD_TYPE = STREAM
/* POINTERS TO DATA OBJECTS */
^COMPRESSED_FILE = "H5582_0000_BL3.JP2"
/* IDENTIFICATION DATA ELEMENTS */
DATA_SET_ID = "MEX-M-HRSC-5-REFDR-MAPPROJECTED-V3.0"
DATA_SET_NAME = "MARS EXPRESS HRSC MAP PROJECTED REFDR V3.0"
DETECTOR_ID = MEX_HRSC_BLUE
EVENT_TYPE = "MARS-REGIONAL-MAPPING-Vo-Eo-Ts"
INSTRUMENT_HOST_ID = MEX
INSTRUMENT_HOST_NAME = "MARS EXPRESS"
INSTRUMENT_ID = HRSC
INSTRUMENT_NAME = "HIGH RESOLUTION STEREO CAMERA"
MISSION_NAME = "MARS EXPRESS"
MISSION_PHASE_NAME = ME_Phase_12
PROCESSING_LEVEL_ID = 3
PRODUCT_CREATION_TIME = 2016-05-15T06:04:46.000Z
PRODUCT_ID = "H5582_0000_BL3.JP2"
RELEASE_ID = 0063
REVISION_ID = 0000
/* QUALITY DATA ELEMENTS */
DATA_QUALITY_ID = 1
DATA_QUALITY_DESC = "Data calculated based on original SPICE kernels"
/* TIME DATA ELEMENTS */
SPACECRAFT_CLOCK_START_COUNT = "1/0158237298.09042"
SPACECRAFT_CLOCK_STOP_COUNT = "1/0158237509.00534"
START_TIME = 2008-05-07T10:49:00.434Z
STOP_TIME = 2008-05-07T10:51:22.642Z
/* ORBITAL DATA ELEMENTS */
ASCENDING_NODE_LONGITUDE = 112.23
MAXIMUM_RESOLUTION = 57.9
FOOTPRINT_POINT_LATITUDE = (85.9167,85.7116,85.5561,85.3019, 85.1601,84.9905,84.8118,84.688,84.4957, 84.2966,84.1606,83.9518,83.8096,83.6652 ,83.5188,83.2958,83.069,82.9158,82.7612 ,82.6053,82.4481,82.2897,82.1303, 81.9698,81.8083,81.646,81.4828,81.3187, 81.154,80.9885,80.8223,80.6555,80.4043, 80.2361,80.0674,79.8981,79.7285,79.5584 ,79.3878,79.217,79.0457,78.8741,78.7022 ,78.53,78.3574,78.1846,78.0116,77.6647, 77.3171,77.3677,77.4633,77.5224,77.5642 ,77.774,77.9525,78.131,78.3093,78.4876, 78.6657,78.8438,79.1106,79.2884,79.5547 ,79.7321,79.9092,80.0862,80.263,80.4396 ,80.6159,80.792,80.9679,81.1434,81.3187 ,81.4937,81.6684,81.8427,82.0166, 82.1901,82.3631,82.5357,82.7077,82.8792 ,83.0501,83.2203,83.3898,83.5585, 83.7264,83.8935,84.1421,84.3878,84.6313 ,84.7919,85.0272,85.2599,85.4127, 85.5625,85.7104,85.9257,86.0655, 85.9167)
FOOTPRINT_POINT_LONGITUDE = (138.83,136.064,134.207,131.529,129.832 ,132.352,134.7,136.175,138.251,140.18, 141.405,143.133,144.217,145.251,146.239 ,147.637,148.943,149.766,150.554, 151.309,152.031,152.723,153.387,154.023 ,154.634,155.22,155.784,156.326,156.847 ,157.348,157.831,158.296,158.961, 159.386,159.795,160.191,160.573,160.942 ,161.299,161.644,161.978,162.301, 162.613,162.916,163.211,163.495,163.771 ,164.298,164.795,166.269,167.923, 169.059,169.93,170.431,170.25,170.064, 169.872,169.673,169.469,169.257,168.927 ,168.697,168.337,168.087,167.827, 167.558,167.279,166.989,166.688,166.376 ,166.051,165.713,165.361,164.995, 164.613,164.215,163.799,163.364,162.909 ,162.434,161.935,161.412,160.864, 160.287,159.68,159.042,158.369,157.659, 156.518,155.273,153.919,152.946,151.354 ,149.615,148.359,147.014,145.58,143.23, 141.524,138.83)
ORBIT_NUMBER = 5582
ORBITAL_ECCENTRICITY = 0.567
ORBITAL_INCLINATION = 86.75
ORBITAL_SEMIMAJOR_AXIS = 8634.83
PERIAPSIS_ALTITUDE = 359.17
PERIAPSIS_ARGUMENT_ANGLE = 96.4
PERIAPSIS_TIME = 2008-05-07T10:49:48.000Z
SPACECRAFT_ORIENTATION = (0.0,-1.0,0.0)
^MEX_ORIENTATION_DESC = "MEX_ORIENTATION_DESC.TXT"
SPACECRAFT_POINTING_MODE = NADIR
^MEX_POINTING_DESC = "MEX_POINTING_DESC.TXT"
RIGHT_ASCENSION = -1e+32
DECLINATION = -1e+32
OFFSET_ANGLE = -1e+32
SPACECRAFT_SOLAR_DISTANCE = 2.49198e+08
TARGET_NAME = MARS
/* CAMERA DATA ELEMENTS */
DETECTOR_TEMPERATURE = 17.7588
FOCAL_PLANE_TEMPERATURE = 6.9521
INST_CMPRS_NAME = "DISCRETE COSINE TRANSFORMATION (DCT)"
INST_CMPRS_RATIO = 7.14884
INST_CMPRS_QUALITY = 0
INST_CMPRS_QUANTZ_TBL_ID = 0
INSTRUMENT_TEMPERATURE = 10.8262
LENS_TEMPERATURE = 7.5638
MACROPIXEL_SIZE = 4
MISSING_FRAMES = 0
PIXEL_SUBSAMPLING_FLAG = N
SIGNAL_CHAIN_ID = 2
/* RADIOMETRIC DATA ELEMENTS */
BANDWIDTH = 76.0
CENTER_FILTER_WAVELENGTH = 444.0
RADIANCE_OFFSET = 0.868848
RADIANCE_SCALING_FACTOR = 0.00830516
REFLECTANCE_SCALING_FACTOR = 0.000529901
MEX:REFLECTANCE_OFFSET = 0.0554358
/* IMAGE OBJECT DEFINITIONS */
OBJECT = IMAGE
  INTERCHANGE_FORMAT = BINARY
  LINES = 10410
  LINE_SAMPLES = 5782
  SAMPLE_TYPE = UNSIGNED_INTEGER
  SAMPLE_BITS = 8
  BANDS = 1
  BAND_STORAGE_TYPE = BAND_SEQUENTIAL
  MAXIMUM = 255
  MEAN = 153.29
  MINIMUM = 1
  STANDARD_DEVIATION = 36.9187
END_OBJECT = IMAGE
/* MAP OBJECT DEFINITIONS */
OBJECT = IMAGE_MAP_PROJECTION
  ^DATA_SET_MAP_PROJECTION_CATALOG= "DSMAP.CAT"
  A_AXIS_RADIUS = 3396.0
  B_AXIS_RADIUS = 3396.0
  C_AXIS_RADIUS = 3396.0
  CENTER_LATITUDE = 0.0
  CENTER_LONGITUDE = 159.0
  COORDINATE_SYSTEM_NAME = PLANETOGRAPHIC
  COORDINATE_SYSTEM_TYPE = "BODY-FIXED ROTATING"
  EASTERNMOST_LONGITUDE = 170.431
  FIRST_STANDARD_PARALLEL = "N/A"
  LINE_FIRST_PIXEL = 1
  LINE_LAST_PIXEL = 10410
  LINE_PROJECTION_OFFSET = 102027.625
  MAP_PROJECTION_ROTATION = 0.0
  MAP_PROJECTION_TYPE = SINUSOIDAL
  MAP_RESOLUTION = 1185.42760773333
  MAP_SCALE = 0.05
  MAXIMUM_LATITUDE = 86.0655
  MINIMUM_LATITUDE = 77.3171
  POSITIVE_LONGITUDE_DIRECTION = EAST
  REFERENCE_LATITUDE = "N/A"
  REFERENCE_LONGITUDE = "N/A"
  SAMPLE_FIRST_PIXEL = 1
  SAMPLE_LAST_PIXEL = 5782
  SAMPLE_PROJECTION_OFFSET = 2875.875
  SECOND_STANDARD_PARALLEL = "N/A"
  WESTERNMOST_LONGITUDE = 129.832
END_OBJECT = IMAGE_MAP_PROJECTION
/* The JPEG2000 image data file associated with this label. */
OBJECT = COMPRESSED_FILE
  FILE_NAME = "H5582_0000_BL3.JP2"
  RECORD_TYPE = UNDEFINED
  FILE_RECORDS = UNK
  ENCODING_TYPE = "JP2"
  INTERCHANGE_FORMAT = BINARY
  UNCOMPRESSED_FILE_NAME = "H5582_0000_BL3.IMG"
  REQUIRED_STORAGE_BYTES = "60219530"
  ^DESCRIPTION = "JP2INFO.TXT"
END_OBJECT = COMPRESSED_FILE
END
