PDS_VERSION_ID = PDS3
/* FILE DATA ELEMENTS */
RECORD_TYPE = STREAM
/* POINTERS TO DATA OBJECTS */
^COMPRESSED_FILE = "H5585_0000_BL3.JP2"
/* IDENTIFICATION DATA ELEMENTS */
DATA_SET_ID = "MEX-M-HRSC-5-REFDR-MAPPROJECTED-V3.0"
DATA_SET_NAME = "MARS EXPRESS HRSC MAP PROJECTED REFDR V3.0"
DETECTOR_ID = MEX_HRSC_BLUE
EVENT_TYPE = "MARS-LOCAL-MAPPING-Pf-Ot"
INSTRUMENT_HOST_ID = MEX
INSTRUMENT_HOST_NAME = "MARS EXPRESS"
INSTRUMENT_ID = HRSC
INSTRUMENT_NAME = "HIGH RESOLUTION STEREO CAMERA"
MISSION_NAME = "MARS EXPRESS"
MISSION_PHASE_NAME = ME_Phase_12
PROCESSING_LEVEL_ID = 3
PRODUCT_CREATION_TIME = 2016-05-15T06:04:46.000Z
PRODUCT_ID = "H5585_0000_BL3.JP2"
RELEASE_ID = 0063
REVISION_ID = 0000
/* QUALITY DATA ELEMENTS */
DATA_QUALITY_ID = 1
DATA_QUALITY_DESC = "Data calculated based on original SPICE kernels"
/* TIME DATA ELEMENTS */
SPACECRAFT_CLOCK_START_COUNT = "1/0158311406.09049"
SPACECRAFT_CLOCK_STOP_COUNT = "1/0158311607.57732"
START_TIME = 2008-05-08T07:23:58.122Z
STOP_TIME = 2008-05-08T07:26:00.321Z
/* ORBITAL DATA ELEMENTS */
ASCENDING_NODE_LONGITUDE = 112.18
MAXIMUM_RESOLUTION = 61.2
FOOTPRINT_POINT_LATITUDE = (73.0613,73.0903,73.1176,73.1431, 73.1667,73.1883,73.2081,73.1247,72.9706 ,72.8166,72.5855,72.4315,72.2777, 72.1238,71.9698,71.8161,71.6624,71.4317 ,71.2779,71.1243,70.9706,70.8171, 70.6636,70.5103,70.2802,70.1267,69.8966 ,69.7434,69.5902,69.4371,69.284,69.131, 68.978,68.825,68.6722,68.3668,68.0615, 67.7564,67.5245,67.3681,67.1334,66.9772 ,66.821,66.6649,66.5088,66.3528,66.197, 66.0382,65.8783,65.7185,65.4139,65.4018 ,65.3889,65.3742,65.3463,65.3268, 65.3075,65.4663,65.6252,65.7841,65.943, 66.1005,66.2555,66.4107,66.6436,66.7988 ,66.9539,67.1093,67.2648,67.4203, 67.7262,67.9534,68.2567,68.5602,68.7122 ,68.8642,69.0162,69.1681,69.4718, 69.6238,69.852,70.0041,70.2324,70.3846, 70.5368,70.6891,70.8413,70.9937,71.2222 ,71.3745,71.5269,71.6793,71.8317, 72.0603,72.289,72.4415,72.5939,72.7464, 72.8988,73.0613)
FOOTPRINT_POINT_LONGITUDE = (231.71,232.34,232.977,233.622,234.275, 234.935,235.603,236.429,236.481,236.53, 236.604,236.651,236.696,236.741,236.788 ,236.83,236.872,236.936,236.978,237.019 ,237.059,237.098,237.135,237.172, 237.227,237.265,237.319,237.354,237.388 ,237.421,237.454,237.486,237.518, 237.551,237.581,237.64,237.698,237.755, 237.797,237.825,237.866,237.893,237.918 ,237.944,237.97,237.995,238.019,238.044 ,238.068,238.093,238.138,237.517,236.97 ,236.427,235.555,235.025,234.522, 234.486,234.45,234.413,234.375,234.337, 234.299,234.261,234.201,234.161,234.12, 234.078,234.035,233.992,233.904,233.838 ,233.745,233.65,233.601,233.551,233.5, 233.448,233.342,233.288,233.204,233.147 ,233.059,232.999,232.938,232.876, 232.813,232.749,232.649,232.582,232.513 ,232.443,232.371,232.261,232.147,232.07 ,231.991,231.91,231.828,231.71)
ORBIT_NUMBER = 5585
ORBITAL_ECCENTRICITY = 0.567
ORBITAL_INCLINATION = 86.76
ORBITAL_SEMIMAJOR_AXIS = 8633.22
PERIAPSIS_ALTITUDE = 358.0
PERIAPSIS_ARGUMENT_ANGLE = 95.86
PERIAPSIS_TIME = 2008-05-08T07:21:18.000Z
SPACECRAFT_ORIENTATION = (0.0,1.0,0.0)
^MEX_ORIENTATION_DESC = "MEX_ORIENTATION_DESC.TXT"
SPACECRAFT_POINTING_MODE = ACROSSTRACK
^MEX_POINTING_DESC = "MEX_POINTING_DESC.TXT"
RIGHT_ASCENSION = -1e+32
DECLINATION = -1e+32
OFFSET_ANGLE = 0.75
SPACECRAFT_SOLAR_DISTANCE = 2.49205e+08
TARGET_NAME = MARS
/* CAMERA DATA ELEMENTS */
DETECTOR_TEMPERATURE = 17.5549
FOCAL_PLANE_TEMPERATURE = 7.156
INST_CMPRS_NAME = "DISCRETE COSINE TRANSFORMATION (DCT)"
INST_CMPRS_RATIO = 17.2977
INST_CMPRS_QUALITY = 0
INST_CMPRS_QUANTZ_TBL_ID = 0
INSTRUMENT_TEMPERATURE = 10.8262
LENS_TEMPERATURE = 7.3599
MACROPIXEL_SIZE = 4
MISSING_FRAMES = 0
PIXEL_SUBSAMPLING_FLAG = N
SIGNAL_CHAIN_ID = 2
/* RADIOMETRIC DATA ELEMENTS */
BANDWIDTH = 76.0
CENTER_FILTER_WAVELENGTH = 444.0
RADIANCE_OFFSET = 0.564164
RADIANCE_SCALING_FACTOR = 0.00797301
REFLECTANCE_SCALING_FACTOR = 0.000508733
MEX:REFLECTANCE_OFFSET = 0.0359975
/* IMAGE OBJECT DEFINITIONS */
OBJECT = IMAGE
  INTERCHANGE_FORMAT = BINARY
  LINES = 9362
  LINE_SAMPLES = 2699
  SAMPLE_TYPE = UNSIGNED_INTEGER
  SAMPLE_BITS = 8
  BANDS = 1
  BAND_STORAGE_TYPE = BAND_SEQUENTIAL
  MAXIMUM = 255
  MEAN = 12.7988
  MINIMUM = 1
  STANDARD_DEVIATION = 6.32803
END_OBJECT = IMAGE
/* MAP OBJECT DEFINITIONS */
OBJECT = IMAGE_MAP_PROJECTION
  ^DATA_SET_MAP_PROJECTION_CATALOG= "DSMAP.CAT"
  A_AXIS_RADIUS = 3396.0
  B_AXIS_RADIUS = 3396.0
  C_AXIS_RADIUS = 3396.0
  CENTER_LATITUDE = 0.0
  CENTER_LONGITUDE = 235.0
  COORDINATE_SYSTEM_NAME = PLANETOGRAPHIC
  COORDINATE_SYSTEM_TYPE = "BODY-FIXED ROTATING"
  EASTERNMOST_LONGITUDE = 238.138
  FIRST_STANDARD_PARALLEL = "N/A"
  LINE_FIRST_PIXEL = 1
  LINE_LAST_PIXEL = 9362
  LINE_PROJECTION_OFFSET = 86780.375
  MAP_PROJECTION_ROTATION = 0.0
  MAP_PROJECTION_TYPE = SINUSOIDAL
  MAP_RESOLUTION = 1185.42760773333
  MAP_SCALE = 0.05
  MAXIMUM_LATITUDE = 73.2081
  MINIMUM_LATITUDE = 65.3075
  POSITIVE_LONGITUDE_DIRECTION = EAST
  REFERENCE_LATITUDE = "N/A"
  REFERENCE_LONGITUDE = "N/A"
  SAMPLE_FIRST_PIXEL = 1
  SAMPLE_LAST_PIXEL = 2699
  SAMPLE_PROJECTION_OFFSET = 1136.125
  SECOND_STANDARD_PARALLEL = "N/A"
  WESTERNMOST_LONGITUDE = 231.71
END_OBJECT = IMAGE_MAP_PROJECTION
/* The JPEG2000 image data file associated with this label. */
OBJECT = COMPRESSED_FILE
  FILE_NAME = "H5585_0000_BL3.JP2"
  RECORD_TYPE = UNDEFINED
  FILE_RECORDS = UNK
  ENCODING_TYPE = "JP2"
  INTERCHANGE_FORMAT = BINARY
  UNCOMPRESSED_FILE_NAME = "H5585_0000_BL3.IMG"
  REQUIRED_STORAGE_BYTES = "25289630"
  ^DESCRIPTION = "JP2INFO.TXT"
END_OBJECT = COMPRESSED_FILE
END
