PDS_VERSION_ID = PDS3
/* FILE DATA ELEMENTS */
RECORD_TYPE = STREAM
/* POINTERS TO DATA OBJECTS */
^COMPRESSED_FILE = "H5585_0000_IR3.JP2"
/* IDENTIFICATION DATA ELEMENTS */
DATA_SET_ID = "MEX-M-HRSC-5-REFDR-MAPPROJECTED-V3.0"
DATA_SET_NAME = "MARS EXPRESS HRSC MAP PROJECTED REFDR V3.0"
DETECTOR_ID = MEX_HRSC_IR
EVENT_TYPE = "MARS-LOCAL-MAPPING-Pf-Ot"
INSTRUMENT_HOST_ID = MEX
INSTRUMENT_HOST_NAME = "MARS EXPRESS"
INSTRUMENT_ID = HRSC
INSTRUMENT_NAME = "HIGH RESOLUTION STEREO CAMERA"
MISSION_NAME = "MARS EXPRESS"
MISSION_PHASE_NAME = ME_Phase_12
PROCESSING_LEVEL_ID = 3
PRODUCT_CREATION_TIME = 2016-05-15T06:04:46.000Z
PRODUCT_ID = "H5585_0000_IR3.JP2"
RELEASE_ID = 0063
REVISION_ID = 0000
/* QUALITY DATA ELEMENTS */
DATA_QUALITY_ID = 1
DATA_QUALITY_DESC = "Data calculated based on original SPICE kernels"
/* TIME DATA ELEMENTS */
SPACECRAFT_CLOCK_START_COUNT = "1/0158311406.09049"
SPACECRAFT_CLOCK_STOP_COUNT = "1/0158311607.57732"
START_TIME = 2008-05-08T07:24:33.865Z
STOP_TIME = 2008-05-08T07:26:42.134Z
/* ORBITAL DATA ELEMENTS */
ASCENDING_NODE_LONGITUDE = 112.18
MAXIMUM_RESOLUTION = 65.7
FOOTPRINT_POINT_LATITUDE = (72.9154,72.9526,72.9882,73.0221, 73.0544,73.085,73.1138,73.1776,73.0254, 72.7968,72.6444,72.4922,72.3393,72.1866 ,72.0355,71.8827,71.7308,71.503,71.3517 ,71.1248,70.9735,70.7466,70.595,70.4438 ,70.1432,69.99,69.8356,69.6043,69.45, 69.296,69.0652,68.9119,68.7583,68.5241, 68.3667,68.2094,68.0527,67.8961,67.7396 ,67.5052,67.3485,67.1089,66.9489, 66.7891,66.6295,66.4702,66.3111,66.1519 ,65.9892,65.7453,65.5831,65.4404, 65.4187,65.3936,65.3685,65.3415,65.3129 ,65.2853,65.4464,65.6078,65.7695, 66.0118,66.2489,66.4864,66.6448,66.8834 ,67.0426,67.2009,67.356,67.5114,67.6671 ,67.8226,67.9791,68.1349,68.2909,68.524 ,68.6762,68.828,68.98,69.1326,69.2854, 69.4388,69.5929,69.7463,69.8995,70.1986 ,70.4978,70.7977,71.0978,71.2478,71.398 ,71.5486,71.6991,71.8499,72.0759, 72.2267,72.4527,72.6037,72.7544, 72.9154)
FOOTPRINT_POINT_LONGITUDE = (231.743,232.386,233.038,233.697, 234.365,235.041,235.726,236.517,236.569 ,236.645,236.693,236.741,236.787, 236.831,236.878,236.92,236.964,237.027, 237.068,237.13,237.169,237.227,237.263, 237.3,237.374,237.41,237.446,237.498, 237.532,237.565,237.615,237.648,237.679 ,237.725,237.756,237.786,237.816, 237.846,237.876,237.919,237.947,237.99, 238.017,238.044,238.07,238.097,238.123, 238.148,238.174,238.211,238.236,237.856 ,237.276,236.666,236.097,235.534, 234.976,234.446,234.411,234.374,234.337 ,234.28,234.223,234.165,234.125,234.063 ,234.021,233.979,233.936,233.893, 233.849,233.804,233.758,233.711,233.664 ,233.591,233.543,233.494,233.444, 233.392,233.34,233.287,233.232,233.177, 233.121,233.008,232.89,232.769,232.642, 232.577,232.511,232.443,232.374,232.303 ,232.195,232.121,232.007,231.929,231.85 ,231.743)
ORBIT_NUMBER = 5585
ORBITAL_ECCENTRICITY = 0.567
ORBITAL_INCLINATION = 86.76
ORBITAL_SEMIMAJOR_AXIS = 8633.22
PERIAPSIS_ALTITUDE = 358.0
PERIAPSIS_ARGUMENT_ANGLE = 95.86
PERIAPSIS_TIME = 2008-05-08T07:21:18.000Z
SPACECRAFT_ORIENTATION = (0.0,1.0,0.0)
^MEX_ORIENTATION_DESC = "MEX_ORIENTATION_DESC.TXT"
SPACECRAFT_POINTING_MODE = ACROSSTRACK
^MEX_POINTING_DESC = "MEX_POINTING_DESC.TXT"
RIGHT_ASCENSION = -1e+32
DECLINATION = -1e+32
OFFSET_ANGLE = 0.75
SPACECRAFT_SOLAR_DISTANCE = 2.49205e+08
TARGET_NAME = MARS
/* CAMERA DATA ELEMENTS */
DETECTOR_TEMPERATURE = 16.5354
FOCAL_PLANE_TEMPERATURE = 7.156
INST_CMPRS_NAME = "DISCRETE COSINE TRANSFORMATION (DCT)"
INST_CMPRS_RATIO = 16.2742
INST_CMPRS_QUALITY = 0
INST_CMPRS_QUANTZ_TBL_ID = 0
INSTRUMENT_TEMPERATURE = 10.8262
LENS_TEMPERATURE = 7.3599
MACROPIXEL_SIZE = 4
MISSING_FRAMES = 0
PIXEL_SUBSAMPLING_FLAG = N
SIGNAL_CHAIN_ID = 2
/* RADIOMETRIC DATA ELEMENTS */
BANDWIDTH = 81.0
CENTER_FILTER_WAVELENGTH = 955.5
RADIANCE_OFFSET = 1.04602
RADIANCE_SCALING_FACTOR = 0.00678414
REFLECTANCE_SCALING_FACTOR = 0.000908939
MEX:REFLECTANCE_OFFSET = 0.140146
/* IMAGE OBJECT DEFINITIONS */
OBJECT = IMAGE
  INTERCHANGE_FORMAT = BINARY
  LINES = 9362
  LINE_SAMPLES = 2699
  SAMPLE_TYPE = UNSIGNED_INTEGER
  SAMPLE_BITS = 8
  BANDS = 1
  BAND_STORAGE_TYPE = BAND_SEQUENTIAL
  MAXIMUM = 255
  MEAN = 77.8559
  MINIMUM = 1
  STANDARD_DEVIATION = 23.1355
END_OBJECT = IMAGE
/* MAP OBJECT DEFINITIONS */
OBJECT = IMAGE_MAP_PROJECTION
  ^DATA_SET_MAP_PROJECTION_CATALOG= "DSMAP.CAT"
  A_AXIS_RADIUS = 3396.0
  B_AXIS_RADIUS = 3396.0
  C_AXIS_RADIUS = 3396.0
  CENTER_LATITUDE = 0.0
  CENTER_LONGITUDE = 235.0
  COORDINATE_SYSTEM_NAME = PLANETOGRAPHIC
  COORDINATE_SYSTEM_TYPE = "BODY-FIXED ROTATING"
  EASTERNMOST_LONGITUDE = 238.236
  FIRST_STANDARD_PARALLEL = "N/A"
  LINE_FIRST_PIXEL = 1
  LINE_LAST_PIXEL = 9362
  LINE_PROJECTION_OFFSET = 86780.375
  MAP_PROJECTION_ROTATION = 0.0
  MAP_PROJECTION_TYPE = SINUSOIDAL
  MAP_RESOLUTION = 1185.42760773333
  MAP_SCALE = 0.05
  MAXIMUM_LATITUDE = 73.1776
  MINIMUM_LATITUDE = 65.28530000000001
  POSITIVE_LONGITUDE_DIRECTION = EAST
  REFERENCE_LATITUDE = "N/A"
  REFERENCE_LONGITUDE = "N/A"
  SAMPLE_FIRST_PIXEL = 1
  SAMPLE_LAST_PIXEL = 2699
  SAMPLE_PROJECTION_OFFSET = 1136.125
  SECOND_STANDARD_PARALLEL = "N/A"
  WESTERNMOST_LONGITUDE = 231.743
END_OBJECT = IMAGE_MAP_PROJECTION
/* The JPEG2000 image data file associated with this label. */
OBJECT = COMPRESSED_FILE
  FILE_NAME = "H5585_0000_IR3.JP2"
  RECORD_TYPE = UNDEFINED
  FILE_RECORDS = UNK
  ENCODING_TYPE = "JP2"
  INTERCHANGE_FORMAT = BINARY
  UNCOMPRESSED_FILE_NAME = "H5585_0000_IR3.IMG"
  REQUIRED_STORAGE_BYTES = "25289630"
  ^DESCRIPTION = "JP2INFO.TXT"
END_OBJECT = COMPRESSED_FILE
END
