PDS_VERSION_ID = PDS3
/* FILE DATA ELEMENTS */
RECORD_TYPE = STREAM
/* POINTERS TO DATA OBJECTS */
^COMPRESSED_FILE = "H5592_0000_P13.JP2"
/* IDENTIFICATION DATA ELEMENTS */
DATA_SET_ID = "MEX-M-HRSC-5-REFDR-MAPPROJECTED-V3.0"
DATA_SET_NAME = "MARS EXPRESS HRSC MAP PROJECTED REFDR V3.0"
DETECTOR_ID = MEX_HRSC_P1
EVENT_TYPE = "MARS-REGIONAL-MAPPING-Gl-Pf-Eo"
INSTRUMENT_HOST_ID = MEX
INSTRUMENT_HOST_NAME = "MARS EXPRESS"
INSTRUMENT_ID = HRSC
INSTRUMENT_NAME = "HIGH RESOLUTION STEREO CAMERA"
MISSION_NAME = "MARS EXPRESS"
MISSION_PHASE_NAME = ME_Phase_12
PROCESSING_LEVEL_ID = 3
PRODUCT_CREATION_TIME = 2016-05-15T06:04:46.000Z
PRODUCT_ID = "H5592_0000_P13.JP2"
RELEASE_ID = 0063
REVISION_ID = 0000
/* QUALITY DATA ELEMENTS */
DATA_QUALITY_ID = 1
DATA_QUALITY_DESC = "Data calculated based on original SPICE kernels"
/* TIME DATA ELEMENTS */
SPACECRAFT_CLOCK_START_COUNT = "1/0158483779.08407"
SPACECRAFT_CLOCK_STOP_COUNT = "1/0158483986.14968"
START_TIME = 2008-05-10T07:16:34.056Z
STOP_TIME = 2008-05-10T07:18:43.298Z
/* ORBITAL DATA ELEMENTS */
ASCENDING_NODE_LONGITUDE = 112.04
MAXIMUM_RESOLUTION = 30.4
FOOTPRINT_POINT_LATITUDE = (77.4569,77.4027,77.3291,77.2803, 77.2353,77.1814,77.0101,76.5911,76.3112 ,76.1707,75.9597,75.6791,75.5346, 75.3665,75.1982,75.0299,74.8614,74.6933 ,74.5249,74.3557,74.102,73.9335,73.6812 ,73.5115,73.2575,73.088,72.9186,72.6645 ,72.4948,72.2402,72.0704,71.9008, 71.7308,71.5606,71.3907,71.2206,71.051, 70.881,70.626,70.4558,70.2858,70.1156, 69.9454,69.7753,69.6054,69.4351,69.2651 ,69.0948,68.9246,68.9258,68.9542, 68.9869,69.0278,69.0532,69.0736,69.2598 ,69.4314,69.6032,69.8607,70.0325, 70.2044,70.3763,70.5481,70.806,70.9779, 71.2357,71.4079,71.5796,71.7515,71.9235 ,72.1814,72.3534,72.5253,72.6972, 72.8692,73.0411,73.2986,73.4704,73.6422 ,73.814,73.9858,74.1574,74.4149,74.6723 ,74.844,75.0159,75.1871,75.3586,75.5298 ,75.7012,75.8685,76.0118,76.1553, 76.4416,76.5852,76.7285,76.9431,77.0861 ,77.3003,77.4569)
FOOTPRINT_POINT_LONGITUDE = (249.383,248.276,246.92,246.094,245.376 ,244.561,244.574,245.107,245.442, 245.605,245.842,246.147,246.299,246.472 ,246.639,246.803,246.963,247.12,247.273 ,247.421,247.638,247.779,247.985, 248.118,248.311,248.437,248.56,248.739, 248.856,249.025,249.136,249.244,249.349 ,249.453,249.554,249.653,249.751, 249.846,249.986,250.077,250.166,250.253 ,250.338,250.422,250.504,250.585, 250.664,250.741,250.817,251.395,251.886 ,252.491,253.327,253.899,254.395, 254.698,254.642,254.584,254.497,254.437 ,254.375,254.313,254.249,254.152, 254.085,253.983,253.912,253.841,253.769 ,253.694,253.58,253.502,253.422,253.34, 253.257,253.172,253.041,252.952,252.86, 252.766,252.67,252.573,252.422,252.265, 252.157,252.046,251.935,251.819,251.701 ,251.58,251.459,251.353,251.244,251.02, 250.903,250.784,250.601,250.476,250.283 ,249.383)
ORBIT_NUMBER = 5592
ORBITAL_ECCENTRICITY = 0.567
ORBITAL_INCLINATION = 86.75
ORBITAL_SEMIMAJOR_AXIS = 8633.58
PERIAPSIS_ALTITUDE = 358.56
PERIAPSIS_ARGUMENT_ANGLE = 94.64
PERIAPSIS_TIME = 2008-05-10T07:14:57.000Z
SPACECRAFT_ORIENTATION = (0.0,-1.0,0.0)
^MEX_ORIENTATION_DESC = "MEX_ORIENTATION_DESC.TXT"
SPACECRAFT_POINTING_MODE = NADIR
^MEX_POINTING_DESC = "MEX_POINTING_DESC.TXT"
RIGHT_ASCENSION = -1e+32
DECLINATION = -1e+32
OFFSET_ANGLE = -1e+32
SPACECRAFT_SOLAR_DISTANCE = 2.49216e+08
TARGET_NAME = MARS
/* CAMERA DATA ELEMENTS */
DETECTOR_TEMPERATURE = 16.5354
FOCAL_PLANE_TEMPERATURE = 7.156
INST_CMPRS_NAME = "DISCRETE COSINE TRANSFORMATION (DCT)"
INST_CMPRS_RATIO = 10.1693
INST_CMPRS_QUALITY = 0
INST_CMPRS_QUANTZ_TBL_ID = 0
INSTRUMENT_TEMPERATURE = 10.6223
LENS_TEMPERATURE = 7.5638
MACROPIXEL_SIZE = 2
MISSING_FRAMES = 0
PIXEL_SUBSAMPLING_FLAG = N
SIGNAL_CHAIN_ID = 3
/* RADIOMETRIC DATA ELEMENTS */
BANDWIDTH = 174.0
CENTER_FILTER_WAVELENGTH = 675.0
RADIANCE_OFFSET = 3.7346
RADIANCE_SCALING_FACTOR = 0.0310028
REFLECTANCE_SCALING_FACTOR = 0.00103571
MEX:REFLECTANCE_OFFSET = 0.124762
/* IMAGE OBJECT DEFINITIONS */
OBJECT = IMAGE
  INTERCHANGE_FORMAT = BINARY
  LINES = 20172
  LINE_SAMPLES = 6547
  SAMPLE_TYPE = UNSIGNED_INTEGER
  SAMPLE_BITS = 8
  BANDS = 1
  BAND_STORAGE_TYPE = BAND_SEQUENTIAL
  MAXIMUM = 255
  MEAN = 85.6199
  MINIMUM = 1
  STANDARD_DEVIATION = 39.6348
END_OBJECT = IMAGE
/* MAP OBJECT DEFINITIONS */
OBJECT = IMAGE_MAP_PROJECTION
  ^DATA_SET_MAP_PROJECTION_CATALOG= "DSMAP.CAT"
  A_AXIS_RADIUS = 3396.0
  B_AXIS_RADIUS = 3396.0
  C_AXIS_RADIUS = 3396.0
  CENTER_LATITUDE = 0.0
  CENTER_LONGITUDE = 251.0
  COORDINATE_SYSTEM_NAME = PLANETOGRAPHIC
  COORDINATE_SYSTEM_TYPE = "BODY-FIXED ROTATING"
  EASTERNMOST_LONGITUDE = 254.698
  FIRST_STANDARD_PARALLEL = "N/A"
  LINE_FIRST_PIXEL = 1
  LINE_LAST_PIXEL = 20172
  LINE_PROJECTION_OFFSET = 183548.75
  MAP_PROJECTION_ROTATION = 0.0
  MAP_PROJECTION_TYPE = SINUSOIDAL
  MAP_RESOLUTION = 2370.85521546667
  MAP_SCALE = 0.025
  MAXIMUM_LATITUDE = 77.4569
  MINIMUM_LATITUDE = 68.9246
  POSITIVE_LONGITUDE_DIRECTION = EAST
  REFERENCE_LATITUDE = "N/A"
  REFERENCE_LONGITUDE = "N/A"
  SAMPLE_FIRST_PIXEL = 1
  SAMPLE_LAST_PIXEL = 6547
  SAMPLE_PROJECTION_OFFSET = 3434.75
  SECOND_STANDARD_PARALLEL = "N/A"
  WESTERNMOST_LONGITUDE = 244.561
END_OBJECT = IMAGE_MAP_PROJECTION
/* The JPEG2000 image data file associated with this label. */
OBJECT = COMPRESSED_FILE
  FILE_NAME = "H5592_0000_P13.JP2"
  RECORD_TYPE = UNDEFINED
  FILE_RECORDS = UNK
  ENCODING_TYPE = "JP2"
  INTERCHANGE_FORMAT = BINARY
  UNCOMPRESSED_FILE_NAME = "H5592_0000_P13.IMG"
  REQUIRED_STORAGE_BYTES = "132098819"
  ^DESCRIPTION = "JP2INFO.TXT"
END_OBJECT = COMPRESSED_FILE
END
