PDS_VERSION_ID = PDS3
/* FILE DATA ELEMENTS */
RECORD_TYPE = STREAM
/* POINTERS TO DATA OBJECTS */
^COMPRESSED_FILE = "H5597_0000_S23.JP2"
/* IDENTIFICATION DATA ELEMENTS */
DATA_SET_ID = "MEX-M-HRSC-5-REFDR-MAPPROJECTED-V3.0"
DATA_SET_NAME = "MARS EXPRESS HRSC MAP PROJECTED REFDR V3.0"
DETECTOR_ID = MEX_HRSC_S2
EVENT_TYPE = "MARS-REGIONAL-STEREO-Gl-La"
INSTRUMENT_HOST_ID = MEX
INSTRUMENT_HOST_NAME = "MARS EXPRESS"
INSTRUMENT_ID = HRSC
INSTRUMENT_NAME = "HIGH RESOLUTION STEREO CAMERA"
MISSION_NAME = "MARS EXPRESS"
MISSION_PHASE_NAME = ME_Phase_12
PROCESSING_LEVEL_ID = 3
PRODUCT_CREATION_TIME = 2016-05-15T06:04:46.000Z
PRODUCT_ID = "H5597_0000_S23.JP2"
RELEASE_ID = 0063
REVISION_ID = 0000
/* QUALITY DATA ELEMENTS */
DATA_QUALITY_ID = 1
DATA_QUALITY_DESC = "Data calculated based on original SPICE kernels"
/* TIME DATA ELEMENTS */
SPACECRAFT_CLOCK_START_COUNT = "1/0158606763.08404"
SPACECRAFT_CLOCK_STOP_COUNT = "1/0158606990.41581"
START_TIME = 2008-05-11T17:27:12.539Z
STOP_TIME = 2008-05-11T17:29:52.292Z
/* ORBITAL DATA ELEMENTS */
ASCENDING_NODE_LONGITUDE = 111.94
MAXIMUM_RESOLUTION = 15.3
FOOTPRINT_POINT_LATITUDE = (87.175,86.8621,86.537,86.3508,86.0745, 86.0163,85.9652,85.9047,85.797,85.7149, 85.5771,85.4763,85.3688,85.2551,85.1358 ,85.0112,84.8153,84.6792,84.5392, 84.3953,84.2481,84.0979,83.8677,83.7103 ,83.551,83.3081,83.1447,82.9776,82.8097 ,82.5557,82.3846,82.212,82.0403,81.8645 ,81.6011,81.4241,81.2465,81.0687, 80.8892,80.7091,80.5283,80.3471,80.0743 ,79.8859,79.6674,79.4486,79.1193, 78.8993,78.679,78.7237,78.7762,78.8229, 78.8821,78.9648,79.0156,79.2636,79.4913 ,79.7191,80.0606,80.2878,80.4865, 80.6771,80.9622,81.247,81.4363,81.6247, 81.8131,82.0002,82.1879,82.468,82.6552, 82.9328,83.1172,83.3021,83.4868,83.6678 ,83.8496,84.1209,84.3006,84.4773,84.655 ,84.915,85.0869,85.2568,85.4244,85.6695 ,85.8284,85.9845,86.1364,86.2835,86.494 ,86.6265,86.8104,86.9756,87.0748, 87.1999,87.2678,87.323,87.3633,87.175)
FOOTPRINT_POINT_LONGITUDE = (43.3237,42.1901,41.2182,40.735,41.096, 45.409,48.2017,50.9358,54.8599,57.3463, 60.888,63.1288,65.2663,67.3002,69.2358, 71.0742,73.6598,75.2718,76.8012,78.2542 ,79.6305,80.9358,82.7614,83.9122, 84.9994,86.5285,87.4766,88.3973,89.266, 90.4885,91.2569,91.9919,92.6797,93.3582 ,94.3075,94.9078,95.4822,96.0288, 96.5593,97.0681,97.5572,98.026,98.6961, 99.1358,99.6229,100.088,100.749,101.166 ,101.566,102.487,103.327,104.107, 105.156,106.752,107.827,107.974,107.669 ,107.349,106.842,106.483,106.154, 105.826,105.307,104.753,104.363,103.955 ,103.527,103.079,102.608,101.858, 101.325,100.472,99.8648,99.2224,98.5423 ,97.825,97.0627,95.8287,94.9394,93.9949 ,92.9814,91.3366,90.1397,88.8545, 87.4731,85.2049,83.5466,81.7522,79.8138 ,77.7174,74.2487,71.6995,67.505,62.8148 ,59.3797,53.8625,49.9216,45.7729, 41.4777,43.3237)
ORBIT_NUMBER = 5597
ORBITAL_ECCENTRICITY = 0.567
ORBITAL_INCLINATION = 86.75
ORBITAL_SEMIMAJOR_AXIS = 8634.43
PERIAPSIS_ALTITUDE = 358.79
PERIAPSIS_ARGUMENT_ANGLE = 93.76
PERIAPSIS_TIME = 2008-05-11T17:27:31.000Z
SPACECRAFT_ORIENTATION = (0.0,-1.0,0.0)
^MEX_ORIENTATION_DESC = "MEX_ORIENTATION_DESC.TXT"
SPACECRAFT_POINTING_MODE = NADIR
^MEX_POINTING_DESC = "MEX_POINTING_DESC.TXT"
RIGHT_ASCENSION = -1e+32
DECLINATION = -1e+32
OFFSET_ANGLE = -1e+32
SPACECRAFT_SOLAR_DISTANCE = 2.4922e+08
TARGET_NAME = MARS
/* CAMERA DATA ELEMENTS */
DETECTOR_TEMPERATURE = 17.5549
FOCAL_PLANE_TEMPERATURE = 7.3599
INST_CMPRS_NAME = "DISCRETE COSINE TRANSFORMATION (DCT)"
INST_CMPRS_RATIO = 5.98578
INST_CMPRS_QUALITY = 0
INST_CMPRS_QUANTZ_TBL_ID = 0
INSTRUMENT_TEMPERATURE = 10.4184
LENS_TEMPERATURE = 7.7677
MACROPIXEL_SIZE = 1
MISSING_FRAMES = 0
PIXEL_SUBSAMPLING_FLAG = N
SIGNAL_CHAIN_ID = 1
/* RADIOMETRIC DATA ELEMENTS */
BANDWIDTH = 178.0
CENTER_FILTER_WAVELENGTH = 679.0
RADIANCE_OFFSET = 3.93423
RADIANCE_SCALING_FACTOR = 0.0278655
REFLECTANCE_SCALING_FACTOR = 0.000916568
MEX:REFLECTANCE_OFFSET = 0.129407
/* IMAGE OBJECT DEFINITIONS */
OBJECT = IMAGE
  INTERCHANGE_FORMAT = BINARY
  LINES = 41037
  LINE_SAMPLES = 31672
  SAMPLE_TYPE = UNSIGNED_INTEGER
  SAMPLE_BITS = 8
  BANDS = 1
  BAND_STORAGE_TYPE = BAND_SEQUENTIAL
  MAXIMUM = 255
  MEAN = 179.083
  MINIMUM = 1
  STANDARD_DEVIATION = 47.4136
END_OBJECT = IMAGE
/* MAP OBJECT DEFINITIONS */
OBJECT = IMAGE_MAP_PROJECTION
  ^DATA_SET_MAP_PROJECTION_CATALOG= "DSMAP.CAT"
  A_AXIS_RADIUS = 3396.0
  B_AXIS_RADIUS = 3396.0
  C_AXIS_RADIUS = 3396.0
  CENTER_LATITUDE = 0.0
  CENTER_LONGITUDE = 92.0
  COORDINATE_SYSTEM_NAME = PLANETOGRAPHIC
  COORDINATE_SYSTEM_TYPE = "BODY-FIXED ROTATING"
  EASTERNMOST_LONGITUDE = 107.974
  FIRST_STANDARD_PARALLEL = "N/A"
  LINE_FIRST_PIXEL = 1
  LINE_LAST_PIXEL = 41037
  LINE_PROJECTION_OFFSET = 414055.0
  MAP_PROJECTION_ROTATION = 0.0
  MAP_PROJECTION_TYPE = SINUSOIDAL
  MAP_RESOLUTION = 4741.71043093333
  MAP_SCALE = 0.0125
  MAXIMUM_LATITUDE = 87.3633
  MINIMUM_LATITUDE = 78.679
  POSITIVE_LONGITUDE_DIRECTION = EAST
  REFERENCE_LATITUDE = "N/A"
  REFERENCE_LONGITUDE = "N/A"
  SAMPLE_FIRST_PIXEL = 1
  SAMPLE_LAST_PIXEL = 31672
  SAMPLE_PROJECTION_OFFSET = 17147.0
  SECOND_STANDARD_PARALLEL = "N/A"
  WESTERNMOST_LONGITUDE = 40.735
END_OBJECT = IMAGE_MAP_PROJECTION
/* The JPEG2000 image data file associated with this label. */
OBJECT = COMPRESSED_FILE
  FILE_NAME = "H5597_0000_S23.JP2"
  RECORD_TYPE = UNDEFINED
  FILE_RECORDS = UNK
  ENCODING_TYPE = "JP2"
  INTERCHANGE_FORMAT = BINARY
  UNCOMPRESSED_FILE_NAME = "H5597_0000_S23.IMG"
  REQUIRED_STORAGE_BYTES = "1299818880"
  ^DESCRIPTION = "JP2INFO.TXT"
END_OBJECT = COMPRESSED_FILE
END
