PDS_VERSION_ID = PDS3
/* FILE DATA ELEMENTS */
RECORD_TYPE = STREAM
/* POINTERS TO DATA OBJECTS */
^COMPRESSED_FILE = "H5601_0000_IR3.JP2"
/* IDENTIFICATION DATA ELEMENTS */
DATA_SET_ID = "MEX-M-HRSC-5-REFDR-MAPPROJECTED-V3.0"
DATA_SET_NAME = "MARS EXPRESS HRSC MAP PROJECTED REFDR V3.0"
DETECTOR_ID = MEX_HRSC_IR
EVENT_TYPE = "MARS-REGIONAL-MAPPING-Gl-Pf-La"
INSTRUMENT_HOST_ID = MEX
INSTRUMENT_HOST_NAME = "MARS EXPRESS"
INSTRUMENT_ID = HRSC
INSTRUMENT_NAME = "HIGH RESOLUTION STEREO CAMERA"
MISSION_NAME = "MARS EXPRESS"
MISSION_PHASE_NAME = ME_Phase_12
PROCESSING_LEVEL_ID = 3
PRODUCT_CREATION_TIME = 2016-05-15T14:58:24.000Z
PRODUCT_ID = "H5601_0000_IR3.JP2"
RELEASE_ID = 0064
REVISION_ID = 0000
/* QUALITY DATA ELEMENTS */
DATA_QUALITY_ID = 2
DATA_QUALITY_DESC = "Data calculated based on photogrammetrically improved orbit and attitude data"
/* TIME DATA ELEMENTS */
SPACECRAFT_CLOCK_START_COUNT = "1/0158705346.09048"
SPACECRAFT_CLOCK_STOP_COUNT = "1/0158705638.26234"
START_TIME = 2008-05-12T20:50:09.285Z
STOP_TIME = 2008-05-12T20:53:53.196Z
/* ORBITAL DATA ELEMENTS */
ASCENDING_NODE_LONGITUDE = 111.85
MAXIMUM_RESOLUTION = 60.2
FOOTPRINT_POINT_LATITUDE = (85.1812,85.4155,85.6357,85.5538, 85.3284,84.9851,84.7526,84.5181,84.2815 ,84.0433,83.8049,83.5634,83.3211, 83.0777,82.7128,82.467,82.2214,81.9751, 81.6075,81.3597,81.1136,80.866,80.5915, 80.2955,79.9993,79.7028,79.4063,79.1096 ,78.8128,78.516,78.2196,77.923,77.4783, 77.0342,76.7385,76.2948,75.9996,75.5569 ,75.2622,74.9677,74.6737,74.38,74.0866, 73.7938,73.5011,73.2088,72.9171,72.6253 ,72.3266,72.2444,72.2059,72.1367, 72.2149,72.5075,72.7957,73.084,73.3726, 73.6616,73.9507,74.24,74.5295,74.8192, 75.1089,75.3987,75.6885,75.9784,76.2686 ,76.5586,76.8484,77.1383,77.5728, 77.8618,78.1514,78.4403,78.7282,79.1589 ,79.4466,79.7334,80.0189,80.3034, 80.5486,81.0221,81.4898,81.7229,81.9551 ,82.1854,82.4146,82.6422,82.8674, 83.0893,83.31,83.5285,83.7432,83.9552, 84.1635,84.3677,84.5673,84.7617,84.9504 ,85.1812)
FOOTPRINT_POINT_LONGITUDE = (39.2575,42.494,46.0869,51.0949,52.72, 54.8788,56.1581,57.3272,58.3986,59.3836 ,60.2933,61.1317,61.9088,62.6302,63.623 ,64.2276,64.7944,65.3253,66.0663, 66.5206,66.9523,67.3579,67.7812,68.2101 ,68.6125,68.9907,69.3473,69.6833, 70.0006,70.3008,70.5856,70.8555,71.235, 71.5875,71.8088,72.1211,72.3179,72.5968 ,72.7728,72.9414,73.1032,73.2585, 73.4076,73.5511,73.6888,73.8212,73.9492 ,74.072,74.194,72.9074,72.0642,70.7022, 69.388,69.2138,69.0354,68.8502,68.6573, 68.4563,68.2472,68.0293,67.8021,67.5649 ,67.3175,67.059,66.7891,66.5064,66.2102 ,65.9,65.575,65.2337,64.6893,64.3037, 63.8956,63.4665,63.0154,62.2917,61.7704 ,61.219,60.6359,60.017,59.4499,58.2569, 56.9348,56.2113,55.4425,54.6287,53.7616 ,52.8381,51.857,50.819,49.701,48.5022, 47.2256,45.8515,44.3759,42.79,41.0834, 39.2456,37.2655,39.2575)
ORBIT_NUMBER = 5601
ORBITAL_ECCENTRICITY = 0.567
ORBITAL_INCLINATION = 86.76
ORBITAL_SEMIMAJOR_AXIS = 8633.6
PERIAPSIS_ALTITUDE = 358.37
PERIAPSIS_ARGUMENT_ANGLE = 93.07
PERIAPSIS_TIME = 2008-05-12T20:49:37.000Z
SPACECRAFT_ORIENTATION = (0.0,1.0,0.0)
^MEX_ORIENTATION_DESC = "MEX_ORIENTATION_DESC.TXT"
SPACECRAFT_POINTING_MODE = ACROSSTRACK
^MEX_POINTING_DESC = "MEX_POINTING_DESC.TXT"
RIGHT_ASCENSION = -1e+32
DECLINATION = -1e+32
OFFSET_ANGLE = 0.3
SPACECRAFT_SOLAR_DISTANCE = 2.49222e+08
TARGET_NAME = MARS
/* CAMERA DATA ELEMENTS */
DETECTOR_TEMPERATURE = 16.5354
FOCAL_PLANE_TEMPERATURE = 7.156
INST_CMPRS_NAME = "DISCRETE COSINE TRANSFORMATION (DCT)"
INST_CMPRS_RATIO = 8.88092
INST_CMPRS_QUALITY = 0
INST_CMPRS_QUANTZ_TBL_ID = 0
INSTRUMENT_TEMPERATURE = 10.8262
LENS_TEMPERATURE = 7.3599
MACROPIXEL_SIZE = 4
MISSING_FRAMES = 0
PIXEL_SUBSAMPLING_FLAG = N
SIGNAL_CHAIN_ID = 2
/* RADIOMETRIC DATA ELEMENTS */
BANDWIDTH = 81.0
CENTER_FILTER_WAVELENGTH = 955.5
RADIANCE_OFFSET = 0.470196
RADIANCE_SCALING_FACTOR = 0.00872782
REFLECTANCE_SCALING_FACTOR = 0.00116951
MEX:REFLECTANCE_OFFSET = 0.0630054
/* IMAGE OBJECT DEFINITIONS */
OBJECT = IMAGE
  INTERCHANGE_FORMAT = BINARY
  LINES = 16320
  LINE_SAMPLES = 6165
  SAMPLE_TYPE = UNSIGNED_INTEGER
  SAMPLE_BITS = 8
  BANDS = 1
  BAND_STORAGE_TYPE = BAND_SEQUENTIAL
  MAXIMUM = 255
  MEAN = 169.14
  MINIMUM = 1
  STANDARD_DEVIATION = 68.0122
END_OBJECT = IMAGE
/* MAP OBJECT DEFINITIONS */
OBJECT = IMAGE_MAP_PROJECTION
  ^DATA_SET_MAP_PROJECTION_CATALOG= "DSMAP.CAT"
  A_AXIS_RADIUS = 3396.0
  B_AXIS_RADIUS = 3396.0
  C_AXIS_RADIUS = 3396.0
  CENTER_LATITUDE = 0.0
  CENTER_LONGITUDE = 65.0
  COORDINATE_SYSTEM_NAME = PLANETOGRAPHIC
  COORDINATE_SYSTEM_TYPE = "BODY-FIXED ROTATING"
  EASTERNMOST_LONGITUDE = 74.194
  FIRST_STANDARD_PARALLEL = "N/A"
  LINE_FIRST_PIXEL = 1
  LINE_LAST_PIXEL = 16320
  LINE_PROJECTION_OFFSET = 101751.625
  MAP_PROJECTION_ROTATION = 0.0
  MAP_PROJECTION_TYPE = SINUSOIDAL
  MAP_RESOLUTION = 1185.42760773333
  MAP_SCALE = 0.05
  MAXIMUM_LATITUDE = 85.6357
  MINIMUM_LATITUDE = 72.1367
  POSITIVE_LONGITUDE_DIRECTION = EAST
  REFERENCE_LATITUDE = "N/A"
  REFERENCE_LONGITUDE = "N/A"
  SAMPLE_FIRST_PIXEL = 1
  SAMPLE_LAST_PIXEL = 6165
  SAMPLE_PROJECTION_OFFSET = 2937.875
  SECOND_STANDARD_PARALLEL = "N/A"
  WESTERNMOST_LONGITUDE = 37.2655
END_OBJECT = IMAGE_MAP_PROJECTION
/* The JPEG2000 image data file associated with this label. */
OBJECT = COMPRESSED_FILE
  FILE_NAME = "H5601_0000_IR3.JP2"
  RECORD_TYPE = UNDEFINED
  FILE_RECORDS = UNK
  ENCODING_TYPE = "JP2"
  INTERCHANGE_FORMAT = BINARY
  UNCOMPRESSED_FILE_NAME = "H5601_0000_IR3.IMG"
  REQUIRED_STORAGE_BYTES = "100643625"
  ^DESCRIPTION = "JP2INFO.TXT"
END_OBJECT = COMPRESSED_FILE
END
