PDS_VERSION_ID = PDS3
/* FILE DATA ELEMENTS */
RECORD_TYPE = STREAM
/* POINTERS TO DATA OBJECTS */
^COMPRESSED_FILE = "H5601_0000_P23.JP2"
/* IDENTIFICATION DATA ELEMENTS */
DATA_SET_ID = "MEX-M-HRSC-5-REFDR-MAPPROJECTED-V3.0"
DATA_SET_NAME = "MARS EXPRESS HRSC MAP PROJECTED REFDR V3.0"
DETECTOR_ID = MEX_HRSC_P2
EVENT_TYPE = "MARS-REGIONAL-MAPPING-Gl-Pf-La"
INSTRUMENT_HOST_ID = MEX
INSTRUMENT_HOST_NAME = "MARS EXPRESS"
INSTRUMENT_ID = HRSC
INSTRUMENT_NAME = "HIGH RESOLUTION STEREO CAMERA"
MISSION_NAME = "MARS EXPRESS"
MISSION_PHASE_NAME = ME_Phase_12
PROCESSING_LEVEL_ID = 3
PRODUCT_CREATION_TIME = 2016-05-15T14:58:24.000Z
PRODUCT_ID = "H5601_0000_P23.JP2"
RELEASE_ID = 0064
REVISION_ID = 0000
/* QUALITY DATA ELEMENTS */
DATA_QUALITY_ID = 2
DATA_QUALITY_DESC = "Data calculated based on photogrammetrically improved orbit and attitude data"
/* TIME DATA ELEMENTS */
SPACECRAFT_CLOCK_START_COUNT = "1/0158705346.09048"
SPACECRAFT_CLOCK_STOP_COUNT = "1/0158705638.26234"
START_TIME = 2008-05-12T20:49:21.035Z
STOP_TIME = 2008-05-12T20:52:57.680Z
/* ORBITAL DATA ELEMENTS */
ASCENDING_NODE_LONGITUDE = 111.85
MAXIMUM_RESOLUTION = 29.6
FOOTPRINT_POINT_LATITUDE = (85.3305,85.4547,85.5752,85.6913, 85.9031,85.6407,85.4134,85.1819,84.9474 ,84.5901,84.349,84.1057,83.8598,83.6135 ,83.3654,82.9906,82.7388,82.3606, 82.1072,81.8518,81.4689,81.2126,80.8268 ,80.4403,80.1822,79.7942,79.535,79.2756 ,79.016,78.7562,78.496,78.1052,77.8449, 77.5835,77.2778,76.9657,76.4977,76.1851 ,75.8727,75.5601,75.091,74.4651,74.152, 73.8388,73.5257,73.0559,72.5863,72.273, 72.232,72.2069,72.1701,72.1349,72.1008, 72.0592,72.5236,72.8329,73.1423,73.6058 ,73.9145,74.2231,74.5315,74.8395, 75.1473,75.4548,75.9154,76.222,76.5279, 76.8335,77.2882,77.6704,77.9249,78.1781 ,78.4312,78.6839,78.9362,79.3138, 79.5634,79.8126,80.0613,80.3092,80.5553 ,80.8021,81.1687,81.4112,81.7722, 82.0105,82.2474,82.482,82.7136,82.9452, 83.2863,83.6201,83.8384,84.0526,84.2626 ,84.4678,84.6677,84.8617,85.0491, 85.3305)
FOOTPRINT_POINT_LONGITUDE = (37.7512,39.4362,41.2235,43.1162, 47.1113,50.4585,52.1605,53.7079,55.1082 ,56.9818,58.0978,59.122,60.0767,60.941, 61.7439,62.8448,63.5195,64.4354,64.9988 ,65.5362,66.2695,66.7246,67.3603, 67.9407,68.3017,68.8079,69.1249,69.4257 ,69.7112,69.983,70.2429,70.6109,70.8407 ,71.0642,71.3122,71.5529,71.8909, 72.1043,72.3066,72.5001,72.7744,73.1139 ,73.2733,73.4262,73.5726,73.782,73.9788 ,74.1043,73.4908,72.7834,71.8632, 71.0806,70.3907,69.6041,69.3282,69.1348 ,68.9336,68.6157,68.3926,68.1598, 67.9167,67.6629,67.3977,67.1202,66.6795 ,66.3681,66.0415,65.6988,65.155,64.6639 ,64.3182,63.9572,63.5794,63.1839, 62.7695,62.1094,61.6427,61.152,60.6357, 60.0919,59.5196,58.914,57.9422,57.2478, 56.1279,55.325,54.4711,53.5636,52.5991, 51.5645,49.8822,48.0219,46.6697,45.2191 ,43.6606,41.9844,40.1805,38.238,36.1456 ,37.7512)
ORBIT_NUMBER = 5601
ORBITAL_ECCENTRICITY = 0.567
ORBITAL_INCLINATION = 86.76
ORBITAL_SEMIMAJOR_AXIS = 8633.6
PERIAPSIS_ALTITUDE = 358.37
PERIAPSIS_ARGUMENT_ANGLE = 93.07
PERIAPSIS_TIME = 2008-05-12T20:49:37.000Z
SPACECRAFT_ORIENTATION = (0.0,1.0,0.0)
^MEX_ORIENTATION_DESC = "MEX_ORIENTATION_DESC.TXT"
SPACECRAFT_POINTING_MODE = ACROSSTRACK
^MEX_POINTING_DESC = "MEX_POINTING_DESC.TXT"
RIGHT_ASCENSION = -1e+32
DECLINATION = -1e+32
OFFSET_ANGLE = 0.3
SPACECRAFT_SOLAR_DISTANCE = 2.49222e+08
TARGET_NAME = MARS
/* CAMERA DATA ELEMENTS */
DETECTOR_TEMPERATURE = 17.9627
FOCAL_PLANE_TEMPERATURE = 7.156
INST_CMPRS_NAME = "DISCRETE COSINE TRANSFORMATION (DCT)"
INST_CMPRS_RATIO = 6.40941
INST_CMPRS_QUALITY = 0
INST_CMPRS_QUANTZ_TBL_ID = 0
INSTRUMENT_TEMPERATURE = 10.8262
LENS_TEMPERATURE = 7.3599
MACROPIXEL_SIZE = 2
MISSING_FRAMES = 0
PIXEL_SUBSAMPLING_FLAG = N
SIGNAL_CHAIN_ID = 3
/* RADIOMETRIC DATA ELEMENTS */
BANDWIDTH = 177.0
CENTER_FILTER_WAVELENGTH = 676.5
RADIANCE_OFFSET = 2.3481
RADIANCE_SCALING_FACTOR = 0.0315711
REFLECTANCE_SCALING_FACTOR = 0.00103973
MEX:REFLECTANCE_OFFSET = 0.0773297
/* IMAGE OBJECT DEFINITIONS */
OBJECT = IMAGE
  INTERCHANGE_FORMAT = BINARY
  LINES = 32639
  LINE_SAMPLES = 12330
  SAMPLE_TYPE = UNSIGNED_INTEGER
  SAMPLE_BITS = 8
  BANDS = 1
  BAND_STORAGE_TYPE = BAND_SEQUENTIAL
  MAXIMUM = 255
  MEAN = 163.662
  MINIMUM = 1
  STANDARD_DEVIATION = 69.1254
END_OBJECT = IMAGE
/* MAP OBJECT DEFINITIONS */
OBJECT = IMAGE_MAP_PROJECTION
  ^DATA_SET_MAP_PROJECTION_CATALOG= "DSMAP.CAT"
  A_AXIS_RADIUS = 3396.0
  B_AXIS_RADIUS = 3396.0
  C_AXIS_RADIUS = 3396.0
  CENTER_LATITUDE = 0.0
  CENTER_LONGITUDE = 65.0
  COORDINATE_SYSTEM_NAME = PLANETOGRAPHIC
  COORDINATE_SYSTEM_TYPE = "BODY-FIXED ROTATING"
  EASTERNMOST_LONGITUDE = 74.10429999999999
  FIRST_STANDARD_PARALLEL = "N/A"
  LINE_FIRST_PIXEL = 1
  LINE_LAST_PIXEL = 32639
  LINE_PROJECTION_OFFSET = 203503.75
  MAP_PROJECTION_ROTATION = 0.0
  MAP_PROJECTION_TYPE = SINUSOIDAL
  MAP_RESOLUTION = 2370.85521546667
  MAP_SCALE = 0.025
  MAXIMUM_LATITUDE = 85.90309999999999
  MINIMUM_LATITUDE = 72.0592
  POSITIVE_LONGITUDE_DIRECTION = EAST
  REFERENCE_LATITUDE = "N/A"
  REFERENCE_LONGITUDE = "N/A"
  SAMPLE_FIRST_PIXEL = 1
  SAMPLE_LAST_PIXEL = 12330
  SAMPLE_PROJECTION_OFFSET = 5876.25
  SECOND_STANDARD_PARALLEL = "N/A"
  WESTERNMOST_LONGITUDE = 36.1456
END_OBJECT = IMAGE_MAP_PROJECTION
/* The JPEG2000 image data file associated with this label. */
OBJECT = COMPRESSED_FILE
  FILE_NAME = "H5601_0000_P23.JP2"
  RECORD_TYPE = UNDEFINED
  FILE_RECORDS = UNK
  ENCODING_TYPE = "JP2"
  INTERCHANGE_FORMAT = BINARY
  UNCOMPRESSED_FILE_NAME = "H5601_0000_P23.IMG"
  REQUIRED_STORAGE_BYTES = "402475860"
  ^DESCRIPTION = "JP2INFO.TXT"
END_OBJECT = COMPRESSED_FILE
END
