PDS_VERSION_ID = PDS3
/* FILE DATA ELEMENTS */
RECORD_TYPE = STREAM
/* POINTERS TO DATA OBJECTS */
^COMPRESSED_FILE = "H5601_0000_RE3.JP2"
/* IDENTIFICATION DATA ELEMENTS */
DATA_SET_ID = "MEX-M-HRSC-5-REFDR-MAPPROJECTED-V3.0"
DATA_SET_NAME = "MARS EXPRESS HRSC MAP PROJECTED REFDR V3.0"
DETECTOR_ID = MEX_HRSC_RED
EVENT_TYPE = "MARS-REGIONAL-MAPPING-Gl-Pf-La"
INSTRUMENT_HOST_ID = MEX
INSTRUMENT_HOST_NAME = "MARS EXPRESS"
INSTRUMENT_ID = HRSC
INSTRUMENT_NAME = "HIGH RESOLUTION STEREO CAMERA"
MISSION_NAME = "MARS EXPRESS"
MISSION_PHASE_NAME = ME_Phase_12
PROCESSING_LEVEL_ID = 3
PRODUCT_CREATION_TIME = 2016-05-15T14:58:24.000Z
PRODUCT_ID = "H5601_0000_RE3.JP2"
RELEASE_ID = 0064
REVISION_ID = 0000
/* QUALITY DATA ELEMENTS */
DATA_QUALITY_ID = 2
DATA_QUALITY_DESC = "Data calculated based on photogrammetrically improved orbit and attitude data"
/* TIME DATA ELEMENTS */
SPACECRAFT_CLOCK_START_COUNT = "1/0158705346.09048"
SPACECRAFT_CLOCK_STOP_COUNT = "1/0158705638.26234"
START_TIME = 2008-05-12T20:49:15.423Z
STOP_TIME = 2008-05-12T20:52:51.543Z
/* ORBITAL DATA ELEMENTS */
ASCENDING_NODE_LONGITUDE = 111.85
MAXIMUM_RESOLUTION = 60.2
FOOTPRINT_POINT_LATITUDE = (85.1563,85.4024,85.635,85.7453,85.8513 ,85.751,85.5253,85.1786,84.9435,84.5851 ,84.3432,84.0992,83.8521,83.4808, 83.2313,82.9799,82.7271,82.3474,82.0929 ,81.8361,81.4515,81.0645,80.8059, 80.4176,80.1581,79.7682,79.3771,78.9856 ,78.7244,78.4626,78.0695,77.8077, 77.5446,77.2818,76.9875,76.6733,76.2017 ,75.8872,75.5724,75.1,74.7847,74.4694, 74.1539,73.8382,73.5226,73.049,72.5753, 72.2594,72.2351,72.2042,72.1761,72.1316 ,72.0925,72.2226,72.5349,73.0029, 73.3147,73.626,73.937,74.4035,74.8689, 75.1789,75.4888,75.9525,76.4149,76.7226 ,77.0114,77.2683,77.5248,77.7812, 78.1637,78.4181,78.6722,78.9261,79.3059 ,79.5567,79.8072,80.0572,80.3063, 80.5535,80.8017,81.0458,81.2923,81.535, 81.7762,82.0153,82.2531,82.4883,82.7206 ,82.9532,83.2955,83.5192,83.7401, 83.9568,84.1693,84.3773,84.5801,84.7773 ,84.9681,85.1563)
FOOTPRINT_POINT_LONGITUDE = (35.1942,38.2578,41.688,43.5518,45.5245 ,49.5532,51.3463,53.7266,55.1277, 57.0024,58.1189,59.1438,60.0998,61.3728 ,62.1454,62.8678,63.5416,64.4586, 65.0219,65.56,66.2932,66.9681,67.3849, 67.9644,68.3253,68.8313,69.3006,69.7341 ,70.0057,70.2655,70.6331,70.8628, 71.0862,71.2986,71.526,71.7566,72.0825, 72.2864,72.4817,72.7582,72.9331,73.1003 ,73.2606,73.4149,73.5624,73.773,73.9713 ,74.0976,73.5058,72.6181,71.9055, 70.9072,70.1248,69.5281,69.3404,69.0444 ,68.8369,68.6205,68.3949,68.038,67.6571 ,67.3887,67.1078,66.6617,66.183,65.8442 ,65.5101,65.1988,64.8741,64.5348, 63.9975,63.6187,63.2219,62.8059,62.1432 ,61.6751,61.1827,60.6643,60.1183,59.544 ,58.9351,58.296,57.6144,56.8966,56.1358 ,55.3292,54.4709,53.5591,52.5902, 51.5487,49.856,48.6312,47.3159,45.9072, 44.3944,42.768,41.0181,39.1341,37.1049, 35.1942)
ORBIT_NUMBER = 5601
ORBITAL_ECCENTRICITY = 0.567
ORBITAL_INCLINATION = 86.76
ORBITAL_SEMIMAJOR_AXIS = 8633.6
PERIAPSIS_ALTITUDE = 358.37
PERIAPSIS_ARGUMENT_ANGLE = 93.07
PERIAPSIS_TIME = 2008-05-12T20:49:37.000Z
SPACECRAFT_ORIENTATION = (0.0,1.0,0.0)
^MEX_ORIENTATION_DESC = "MEX_ORIENTATION_DESC.TXT"
SPACECRAFT_POINTING_MODE = ACROSSTRACK
^MEX_POINTING_DESC = "MEX_POINTING_DESC.TXT"
RIGHT_ASCENSION = -1e+32
DECLINATION = -1e+32
OFFSET_ANGLE = 0.3
SPACECRAFT_SOLAR_DISTANCE = 2.49222e+08
TARGET_NAME = MARS
/* CAMERA DATA ELEMENTS */
DETECTOR_TEMPERATURE = 17.9627
FOCAL_PLANE_TEMPERATURE = 7.156
INST_CMPRS_NAME = "DISCRETE COSINE TRANSFORMATION (DCT)"
INST_CMPRS_RATIO = 12.771
INST_CMPRS_QUALITY = 0
INST_CMPRS_QUANTZ_TBL_ID = 0
INSTRUMENT_TEMPERATURE = 10.8262
LENS_TEMPERATURE = 7.3599
MACROPIXEL_SIZE = 4
MISSING_FRAMES = 0
PIXEL_SUBSAMPLING_FLAG = N
SIGNAL_CHAIN_ID = 2
/* RADIOMETRIC DATA ELEMENTS */
BANDWIDTH = 48.0
CENTER_FILTER_WAVELENGTH = 748.0
RADIANCE_OFFSET = 0.662765
RADIANCE_SCALING_FACTOR = 0.00726489
REFLECTANCE_SCALING_FACTOR = 0.00102974
MEX:REFLECTANCE_OFFSET = 0.0939419
/* IMAGE OBJECT DEFINITIONS */
OBJECT = IMAGE
  INTERCHANGE_FORMAT = BINARY
  LINES = 16320
  LINE_SAMPLES = 6165
  SAMPLE_TYPE = UNSIGNED_INTEGER
  SAMPLE_BITS = 8
  BANDS = 1
  BAND_STORAGE_TYPE = BAND_SEQUENTIAL
  MAXIMUM = 255
  MEAN = 191.199
  MINIMUM = 1
  STANDARD_DEVIATION = 78.4715
END_OBJECT = IMAGE
/* MAP OBJECT DEFINITIONS */
OBJECT = IMAGE_MAP_PROJECTION
  ^DATA_SET_MAP_PROJECTION_CATALOG= "DSMAP.CAT"
  A_AXIS_RADIUS = 3396.0
  B_AXIS_RADIUS = 3396.0
  C_AXIS_RADIUS = 3396.0
  CENTER_LATITUDE = 0.0
  CENTER_LONGITUDE = 65.0
  COORDINATE_SYSTEM_NAME = PLANETOGRAPHIC
  COORDINATE_SYSTEM_TYPE = "BODY-FIXED ROTATING"
  EASTERNMOST_LONGITUDE = 74.0976
  FIRST_STANDARD_PARALLEL = "N/A"
  LINE_FIRST_PIXEL = 1
  LINE_LAST_PIXEL = 16320
  LINE_PROJECTION_OFFSET = 101751.625
  MAP_PROJECTION_ROTATION = 0.0
  MAP_PROJECTION_TYPE = SINUSOIDAL
  MAP_RESOLUTION = 1185.42760773333
  MAP_SCALE = 0.05
  MAXIMUM_LATITUDE = 85.85129999999999
  MINIMUM_LATITUDE = 72.0925
  POSITIVE_LONGITUDE_DIRECTION = EAST
  REFERENCE_LATITUDE = "N/A"
  REFERENCE_LONGITUDE = "N/A"
  SAMPLE_FIRST_PIXEL = 1
  SAMPLE_LAST_PIXEL = 6165
  SAMPLE_PROJECTION_OFFSET = 2937.875
  SECOND_STANDARD_PARALLEL = "N/A"
  WESTERNMOST_LONGITUDE = 35.1942
END_OBJECT = IMAGE_MAP_PROJECTION
/* The JPEG2000 image data file associated with this label. */
OBJECT = COMPRESSED_FILE
  FILE_NAME = "H5601_0000_RE3.JP2"
  RECORD_TYPE = UNDEFINED
  FILE_RECORDS = UNK
  ENCODING_TYPE = "JP2"
  INTERCHANGE_FORMAT = BINARY
  UNCOMPRESSED_FILE_NAME = "H5601_0000_RE3.IMG"
  REQUIRED_STORAGE_BYTES = "100643625"
  ^DESCRIPTION = "JP2INFO.TXT"
END_OBJECT = COMPRESSED_FILE
END
