PDS_VERSION_ID = PDS3
/* FILE DATA ELEMENTS */
RECORD_TYPE = STREAM
/* POINTERS TO DATA OBJECTS */
^COMPRESSED_FILE = "H5605_0000_GR3.JP2"
/* IDENTIFICATION DATA ELEMENTS */
DATA_SET_ID = "MEX-M-HRSC-5-REFDR-MAPPROJECTED-V3.0"
DATA_SET_NAME = "MARS EXPRESS HRSC MAP PROJECTED REFDR V3.0"
DETECTOR_ID = MEX_HRSC_GREEN
EVENT_TYPE = "MARS-REGIONAL-MAPPING-Im-Pf"
INSTRUMENT_HOST_ID = MEX
INSTRUMENT_HOST_NAME = "MARS EXPRESS"
INSTRUMENT_ID = HRSC
INSTRUMENT_NAME = "HIGH RESOLUTION STEREO CAMERA"
MISSION_NAME = "MARS EXPRESS"
MISSION_PHASE_NAME = ME_Phase_12
PROCESSING_LEVEL_ID = 3
PRODUCT_CREATION_TIME = 2016-05-15T14:58:24.000Z
PRODUCT_ID = "H5605_0000_GR3.JP2"
RELEASE_ID = 0064
REVISION_ID = 0000
/* QUALITY DATA ELEMENTS */
DATA_QUALITY_ID = 2
DATA_QUALITY_DESC = "Data calculated based on photogrammetrically improved orbit and attitude data"
/* TIME DATA ELEMENTS */
SPACECRAFT_CLOCK_START_COUNT = "1/0158804034.09067"
SPACECRAFT_CLOCK_STOP_COUNT = "1/0158804242.50185"
START_TIME = 2008-05-14T00:14:38.603Z
STOP_TIME = 2008-05-14T00:16:47.702Z
/* ORBITAL DATA ELEMENTS */
ASCENDING_NODE_LONGITUDE = 111.77
MAXIMUM_RESOLUTION = 62.4
FOOTPRINT_POINT_LATITUDE = (75.5609,75.6133,75.663,75.71,75.7544, 75.7962,75.8525,75.6978,75.543,75.3882, 75.2334,75.0786,74.9238,74.769,74.6064, 74.4517,74.2969,74.1422,73.9874,73.8327 ,73.6781,73.5234,73.3688,73.2142, 72.9052,72.5963,72.2875,71.979,71.8215, 71.6632,71.5049,71.3468,71.1887,71.0306 ,70.8726,70.7146,70.5568,70.3153, 70.1534,69.9917,69.83,69.6684,69.5069, 69.3455,69.1842,69.0193,68.854,68.6889, 68.5238,68.3588,68.1939,68.0292,67.872, 67.8532,67.824,67.7923,67.7561,67.7124, 67.6628,67.9089,68.0721,68.2355,68.3989 ,68.5623,68.7259,68.9702,69.1299, 69.2896,69.4493,69.6091,69.769,69.9289, 70.0888,70.3269,70.4829,70.6388,70.7949 ,70.9509,71.107,71.2631,71.4193,71.5754 ,71.7302,72.0343,72.3385,72.6428, 72.9469,73.2511,73.5551,73.8591,74.1629 ,74.3983,74.5501,74.7018,74.8534,75.005 ,75.1565,75.3079,75.4593,75.5609)
FOOTPRINT_POINT_LONGITUDE = (23.9538,24.7082,25.4642,26.2196, 26.9753,27.7318,28.4211,28.5601,28.6959 ,28.8287,28.9586,29.0857,29.2101, 29.3317,29.4568,29.5733,29.6874,29.7991 ,29.9084,30.0156,30.1207,30.2236, 30.3245,30.4235,30.6156,30.8005,30.9784 ,31.1498,31.2349,31.319,31.4014,31.4824 ,31.5619,31.6399,31.7166,31.7918, 31.8658,31.9765,32.0491,32.1203,32.1903 ,32.2592,32.3268,32.3933,32.4586, 32.5242,32.5889,32.6525,32.715,32.7765, 32.8369,32.8963,32.6486,32.2324,31.6268 ,31.0199,30.3728,29.6478,28.869,28.7568 ,28.6808,28.6035,28.525,28.4451,28.3631 ,28.2382,28.1545,28.0695,27.9829, 27.8946,27.8048,27.7132,27.6201,27.4788 ,27.3833,27.2864,27.1871,27.0871, 26.9846,26.8802,26.7737,26.6645,26.5544 ,26.332,26.1012,25.8609,25.6113,25.3512 ,25.0803,24.7986,24.5044,24.2677, 24.1112,23.9507,23.7869,23.6192,23.4479 ,23.2732,23.0945,23.9538)
ORBIT_NUMBER = 5605
ORBITAL_ECCENTRICITY = 0.567
ORBITAL_INCLINATION = 86.74
ORBITAL_SEMIMAJOR_AXIS = 8634.16
PERIAPSIS_ALTITUDE = 359.44
PERIAPSIS_ARGUMENT_ANGLE = 92.37
PERIAPSIS_TIME = 2008-05-14T00:11:36.000Z
SPACECRAFT_ORIENTATION = (0.0,1.0,0.0)
^MEX_ORIENTATION_DESC = "MEX_ORIENTATION_DESC.TXT"
SPACECRAFT_POINTING_MODE = ACROSSTRACK
^MEX_POINTING_DESC = "MEX_POINTING_DESC.TXT"
RIGHT_ASCENSION = -1e+32
DECLINATION = -1e+32
OFFSET_ANGLE = -0.51
SPACECRAFT_SOLAR_DISTANCE = 2.49221e+08
TARGET_NAME = MARS
/* CAMERA DATA ELEMENTS */
DETECTOR_TEMPERATURE = 17.7588
FOCAL_PLANE_TEMPERATURE = 7.3599
INST_CMPRS_NAME = "DISCRETE COSINE TRANSFORMATION (DCT)"
INST_CMPRS_RATIO = 13.1264
INST_CMPRS_QUALITY = 0
INST_CMPRS_QUANTZ_TBL_ID = 0
INSTRUMENT_TEMPERATURE = 11.0301
LENS_TEMPERATURE = 7.7677
MACROPIXEL_SIZE = 4
MISSING_FRAMES = 1
PIXEL_SUBSAMPLING_FLAG = N
SIGNAL_CHAIN_ID = 2
/* RADIOMETRIC DATA ELEMENTS */
BANDWIDTH = 88.0
CENTER_FILTER_WAVELENGTH = 538.0
RADIANCE_OFFSET = 1.07397
RADIANCE_SCALING_FACTOR = 0.0165834
REFLECTANCE_SCALING_FACTOR = 0.00088681
MEX:REFLECTANCE_OFFSET = 0.0574315
/* IMAGE OBJECT DEFINITIONS */
OBJECT = IMAGE
  INTERCHANGE_FORMAT = BINARY
  LINES = 9702
  LINE_SAMPLES = 3501
  SAMPLE_TYPE = UNSIGNED_INTEGER
  SAMPLE_BITS = 8
  BANDS = 1
  BAND_STORAGE_TYPE = BAND_SEQUENTIAL
  MAXIMUM = 255
  MEAN = 58.8048
  MINIMUM = 1
  STANDARD_DEVIATION = 20.3388
END_OBJECT = IMAGE
/* MAP OBJECT DEFINITIONS */
OBJECT = IMAGE_MAP_PROJECTION
  ^DATA_SET_MAP_PROJECTION_CATALOG= "DSMAP.CAT"
  A_AXIS_RADIUS = 3396.0
  B_AXIS_RADIUS = 3396.0
  C_AXIS_RADIUS = 3396.0
  CENTER_LATITUDE = 0.0
  CENTER_LONGITUDE = 29.0
  COORDINATE_SYSTEM_NAME = PLANETOGRAPHIC
  COORDINATE_SYSTEM_TYPE = "BODY-FIXED ROTATING"
  EASTERNMOST_LONGITUDE = 32.8963
  FIRST_STANDARD_PARALLEL = "N/A"
  LINE_FIRST_PIXEL = 1
  LINE_LAST_PIXEL = 9702
  LINE_PROJECTION_OFFSET = 89926.625
  MAP_PROJECTION_ROTATION = 0.0
  MAP_PROJECTION_TYPE = SINUSOIDAL
  MAP_RESOLUTION = 1185.42760773333
  MAP_SCALE = 0.05
  MAXIMUM_LATITUDE = 75.85250000000001
  MINIMUM_LATITUDE = 67.6628
  POSITIVE_LONGITUDE_DIRECTION = EAST
  REFERENCE_LATITUDE = "N/A"
  REFERENCE_LONGITUDE = "N/A"
  SAMPLE_FIRST_PIXEL = 1
  SAMPLE_LAST_PIXEL = 3501
  SAMPLE_PROJECTION_OFFSET = 1752.375
  SECOND_STANDARD_PARALLEL = "N/A"
  WESTERNMOST_LONGITUDE = 23.0945
END_OBJECT = IMAGE_MAP_PROJECTION
/* The JPEG2000 image data file associated with this label. */
OBJECT = COMPRESSED_FILE
  FILE_NAME = "H5605_0000_GR3.JP2"
  RECORD_TYPE = UNDEFINED
  FILE_RECORDS = UNK
  ENCODING_TYPE = "JP2"
  INTERCHANGE_FORMAT = BINARY
  UNCOMPRESSED_FILE_NAME = "H5605_0000_GR3.IMG"
  REQUIRED_STORAGE_BYTES = "33991209"
  ^DESCRIPTION = "JP2INFO.TXT"
END_OBJECT = COMPRESSED_FILE
END
