PDS_VERSION_ID = PDS3
/* FILE DATA ELEMENTS */
RECORD_TYPE = STREAM
/* POINTERS TO DATA OBJECTS */
^COMPRESSED_FILE = "H5609_0000_IR3.JP2"
/* IDENTIFICATION DATA ELEMENTS */
DATA_SET_ID = "MEX-M-HRSC-5-REFDR-MAPPROJECTED-V3.0"
DATA_SET_NAME = "MARS EXPRESS HRSC MAP PROJECTED REFDR V3.0"
DETECTOR_ID = MEX_HRSC_IR
EVENT_TYPE = "MARS-REGIONAL-MAPPING-Gl-Pf-La"
INSTRUMENT_HOST_ID = MEX
INSTRUMENT_HOST_NAME = "MARS EXPRESS"
INSTRUMENT_ID = HRSC
INSTRUMENT_NAME = "HIGH RESOLUTION STEREO CAMERA"
MISSION_NAME = "MARS EXPRESS"
MISSION_PHASE_NAME = ME_Phase_12
PROCESSING_LEVEL_ID = 3
PRODUCT_CREATION_TIME = 2016-05-15T14:58:24.000Z
PRODUCT_ID = "H5609_0000_IR3.JP2"
RELEASE_ID = 0064
REVISION_ID = 0000
/* QUALITY DATA ELEMENTS */
DATA_QUALITY_ID = 1
DATA_QUALITY_DESC = "Data calculated based on original SPICE kernels"
/* TIME DATA ELEMENTS */
SPACECRAFT_CLOCK_START_COUNT = "1/0158902400.08249"
SPACECRAFT_CLOCK_STOP_COUNT = "1/0158902654.08185"
START_TIME = 2008-05-15T03:34:23.494Z
STOP_TIME = 2008-05-15T03:37:29.209Z
/* ORBITAL DATA ELEMENTS */
ASCENDING_NODE_LONGITUDE = 111.7
MAXIMUM_RESOLUTION = 60.6
FOOTPRINT_POINT_LATITUDE = (85.448,85.6587,85.8381,86.1326,86.0121 ,85.8501,85.6798,85.4184,85.2411, 85.0614,84.7898,84.6053,84.4174,84.2264 ,83.9374,83.7417,83.5467,83.252,83.0549 ,82.857,82.6587,82.3597,82.1257,81.8867 ,81.6471,81.407,81.1669,80.9259,80.6845 ,80.4431,80.2026,79.9603,79.7229, 79.4785,79.2356,78.8739,78.6319,78.3902 ,78.1479,77.9051,77.6628,77.4204, 77.1779,76.9358,76.6936,76.4517,76.2097 ,75.968,75.7266,75.4103,75.3551,75.2806 ,75.1974,75.2711,75.5081,75.7451, 75.9818,76.2185,76.4553,76.692,76.9286, 77.165,77.5196,77.7557,77.9916,78.2272, 78.4622,78.697,78.9314,79.1655,79.398, 79.6312,79.9799,80.3251,80.5554,80.7852 ,81.0134,81.2405,81.4662,81.6904, 81.8974,82.0835,82.2686,82.4518,82.6339 ,82.8145,82.9939,83.1712,83.3467, 83.6053,83.8577,84.0225,84.3397,84.4939 ,84.7176,84.8605,84.9992,85.1325, 85.3208,85.448)
FOOTPRINT_POINT_LONGITUDE = (307.67,309.779,311.795,315.666,320.646 ,322.565,324.352,326.775,328.236,329.59 ,331.437,332.565,333.618,334.603, 335.962,336.798,337.582,338.67,339.343, 339.978,340.579,341.419,342.03,342.615, 343.167,343.686,344.177,344.641,345.08, 345.496,345.892,346.267,346.627,346.966 ,347.29,347.75,348.039,348.316,348.581, 348.834,349.077,349.31,349.534,349.749, 349.956,350.155,350.347,350.531,350.709 ,350.184,348.989,347.547,346.12,345.277 ,345.038,344.79,344.534,344.268,343.991 ,343.703,343.404,343.093,342.602, 342.257,341.898,341.523,341.133,340.725 ,340.299,339.852,339.39,338.899,338.119 ,337.289,336.694,336.065,335.406, 334.711,333.98,333.208,332.453,331.73, 330.97,330.177,329.339,328.457,327.523, 326.541,325.501,323.839,322.042,320.757 ,318.015,316.507,314.075,312.354, 310.512,308.559,305.445,307.67)
ORBIT_NUMBER = 5609
ORBITAL_ECCENTRICITY = 0.567
ORBITAL_INCLINATION = 86.75
ORBITAL_SEMIMAJOR_AXIS = 8633.16
PERIAPSIS_ALTITUDE = 359.64
PERIAPSIS_ARGUMENT_ANGLE = 91.65
PERIAPSIS_TIME = 2008-05-15T03:33:42.000Z
SPACECRAFT_ORIENTATION = (0.0,1.0,0.0)
^MEX_ORIENTATION_DESC = "MEX_ORIENTATION_DESC.TXT"
SPACECRAFT_POINTING_MODE = NADIR
^MEX_POINTING_DESC = "MEX_POINTING_DESC.TXT"
RIGHT_ASCENSION = -1e+32
DECLINATION = -1e+32
OFFSET_ANGLE = -1e+32
SPACECRAFT_SOLAR_DISTANCE = 2.49219e+08
TARGET_NAME = MARS
/* CAMERA DATA ELEMENTS */
DETECTOR_TEMPERATURE = 16.9432
FOCAL_PLANE_TEMPERATURE = 6.9521
INST_CMPRS_NAME = "DISCRETE COSINE TRANSFORMATION (DCT)"
INST_CMPRS_RATIO = 12.9545
INST_CMPRS_QUALITY = 0
INST_CMPRS_QUANTZ_TBL_ID = 0
INSTRUMENT_TEMPERATURE = 10.6223
LENS_TEMPERATURE = 7.5638
MACROPIXEL_SIZE = 4
MISSING_FRAMES = 0
PIXEL_SUBSAMPLING_FLAG = N
SIGNAL_CHAIN_ID = 2
/* RADIOMETRIC DATA ELEMENTS */
BANDWIDTH = 81.0
CENTER_FILTER_WAVELENGTH = 955.5
RADIANCE_OFFSET = 0.891606
RADIANCE_SCALING_FACTOR = 0.00780884
REFLECTANCE_SCALING_FACTOR = 0.00104635
MEX:REFLECTANCE_OFFSET = 0.119471
/* IMAGE OBJECT DEFINITIONS */
OBJECT = IMAGE
  INTERCHANGE_FORMAT = BINARY
  LINES = 13217
  LINE_SAMPLES = 6710
  SAMPLE_TYPE = UNSIGNED_INTEGER
  SAMPLE_BITS = 8
  BANDS = 1
  BAND_STORAGE_TYPE = BAND_SEQUENTIAL
  MAXIMUM = 255
  MEAN = 177.048
  MINIMUM = 1
  STANDARD_DEVIATION = 37.0234
END_OBJECT = IMAGE
/* MAP OBJECT DEFINITIONS */
OBJECT = IMAGE_MAP_PROJECTION
  ^DATA_SET_MAP_PROJECTION_CATALOG= "DSMAP.CAT"
  A_AXIS_RADIUS = 3396.0
  B_AXIS_RADIUS = 3396.0
  C_AXIS_RADIUS = 3396.0
  CENTER_LATITUDE = 0.0
  CENTER_LONGITUDE = 339.0
  COORDINATE_SYSTEM_NAME = PLANETOGRAPHIC
  COORDINATE_SYSTEM_TYPE = "BODY-FIXED ROTATING"
  EASTERNMOST_LONGITUDE = 350.709
  FIRST_STANDARD_PARALLEL = "N/A"
  LINE_FIRST_PIXEL = 1
  LINE_LAST_PIXEL = 13217
  LINE_PROJECTION_OFFSET = 102298.625
  MAP_PROJECTION_ROTATION = 0.0
  MAP_PROJECTION_TYPE = SINUSOIDAL
  MAP_RESOLUTION = 1185.42760773333
  MAP_SCALE = 0.05
  MAXIMUM_LATITUDE = 86.1326
  MINIMUM_LATITUDE = 75.1974
  POSITIVE_LONGITUDE_DIRECTION = EAST
  REFERENCE_LATITUDE = "N/A"
  REFERENCE_LONGITUDE = "N/A"
  SAMPLE_FIRST_PIXEL = 1
  SAMPLE_LAST_PIXEL = 6710
  SAMPLE_PROJECTION_OFFSET = 3212.625
  SECOND_STANDARD_PARALLEL = "N/A"
  WESTERNMOST_LONGITUDE = 305.445
END_OBJECT = IMAGE_MAP_PROJECTION
/* The JPEG2000 image data file associated with this label. */
OBJECT = COMPRESSED_FILE
  FILE_NAME = "H5609_0000_IR3.JP2"
  RECORD_TYPE = UNDEFINED
  FILE_RECORDS = UNK
  ENCODING_TYPE = "JP2"
  INTERCHANGE_FORMAT = BINARY
  UNCOMPRESSED_FILE_NAME = "H5609_0000_IR3.IMG"
  REQUIRED_STORAGE_BYTES = "88719620"
  ^DESCRIPTION = "JP2INFO.TXT"
END_OBJECT = COMPRESSED_FILE
END
