PDS_VERSION_ID = PDS3
/* FILE DATA ELEMENTS */
RECORD_TYPE = STREAM
/* POINTERS TO DATA OBJECTS */
^COMPRESSED_FILE = "H5609_0000_RE3.JP2"
/* IDENTIFICATION DATA ELEMENTS */
DATA_SET_ID = "MEX-M-HRSC-5-REFDR-MAPPROJECTED-V3.0"
DATA_SET_NAME = "MARS EXPRESS HRSC MAP PROJECTED REFDR V3.0"
DETECTOR_ID = MEX_HRSC_RED
EVENT_TYPE = "MARS-REGIONAL-MAPPING-Gl-Pf-La"
INSTRUMENT_HOST_ID = MEX
INSTRUMENT_HOST_NAME = "MARS EXPRESS"
INSTRUMENT_ID = HRSC
INSTRUMENT_NAME = "HIGH RESOLUTION STEREO CAMERA"
MISSION_NAME = "MARS EXPRESS"
MISSION_PHASE_NAME = ME_Phase_12
PROCESSING_LEVEL_ID = 3
PRODUCT_CREATION_TIME = 2016-05-15T14:58:24.000Z
PRODUCT_ID = "H5609_0000_RE3.JP2"
RELEASE_ID = 0064
REVISION_ID = 0000
/* QUALITY DATA ELEMENTS */
DATA_QUALITY_ID = 1
DATA_QUALITY_DESC = "Data calculated based on original SPICE kernels"
/* TIME DATA ELEMENTS */
SPACECRAFT_CLOCK_START_COUNT = "1/0158902400.08249"
SPACECRAFT_CLOCK_STOP_COUNT = "1/0158902654.08185"
START_TIME = 2008-05-15T03:33:29.420Z
STOP_TIME = 2008-05-15T03:36:29.217Z
/* ORBITAL DATA ELEMENTS */
ASCENDING_NODE_LONGITUDE = 111.7
MAXIMUM_RESOLUTION = 60.5
FOOTPRINT_POINT_LATITUDE = (85.4314,85.6804,86.0096,86.2559,86.322 ,86.162,85.9099,85.7355,85.5588,85.377, 85.1912,84.9039,84.6139,84.4179,84.221, 84.0216,83.8227,83.6206,83.4173,83.1095 ,82.903,82.6952,82.4867,82.2773,82.067, 81.8558,81.6439,81.3251,81.1117,80.7907 ,80.5761,80.3606,80.1437,79.9288, 79.7086,79.494,79.2778,79.0579,78.8397, 78.5792,78.1884,77.928,77.667,77.4059, 77.1447,76.883,76.6213,76.2282,75.8349, 75.5725,75.3653,75.2994,75.2509,75.2049 ,75.2499,75.507,75.8927,76.1495,76.4059 ,76.6618,77.0448,77.4267,77.6804, 77.9335,78.1861,78.5508,78.7613,78.9712 ,79.1805,79.3902,79.5987,79.8039,80.011 ,80.2193,80.5266,80.8311,81.0334, 81.2346,81.4352,81.7329,81.9302,82.1249 ,82.3178,82.5097,82.6993,82.8867, 83.0709,83.2538,83.5221,83.6982,83.8719 ,84.042,84.2106,84.3771,84.6134,84.7664 ,84.9853,85.1226,85.2532,85.4314)
FOOTPRINT_POINT_LONGITUDE = (304.363,306.518,309.906,312.976, 316.381,318.711,321.887,323.792,325.504 ,327.106,328.595,330.664,332.468, 333.564,334.574,335.524,336.394,337.224 ,338.002,339.087,339.757,340.391, 340.988,341.554,342.091,342.6,343.083, 343.763,344.189,344.791,345.17,345.533, 345.884,346.21,346.542,346.837,347.126, 347.414,347.68,347.988,348.422,348.694, 348.955,349.204,349.443,349.672,349.892 ,350.207,350.502,350.69,349.867,348.541 ,347.663,346.888,345.448,345.188, 344.779,344.492,344.195,343.885,343.396 ,342.875,342.509,342.127,341.728, 341.119,340.747,340.36,339.958,339.539, 339.103,338.65,338.176,337.681,336.899, 336.063,335.474,334.857,334.21,333.18, 332.451,331.685,330.881,330.034,329.144 ,328.205,327.218,326.175,324.504, 323.309,322.043,320.705,319.28,317.762, 315.339,313.597,310.791,308.794,306.686 ,304.363)
ORBIT_NUMBER = 5609
ORBITAL_ECCENTRICITY = 0.567
ORBITAL_INCLINATION = 86.75
ORBITAL_SEMIMAJOR_AXIS = 8633.16
PERIAPSIS_ALTITUDE = 359.64
PERIAPSIS_ARGUMENT_ANGLE = 91.65
PERIAPSIS_TIME = 2008-05-15T03:33:42.000Z
SPACECRAFT_ORIENTATION = (0.0,1.0,0.0)
^MEX_ORIENTATION_DESC = "MEX_ORIENTATION_DESC.TXT"
SPACECRAFT_POINTING_MODE = NADIR
^MEX_POINTING_DESC = "MEX_POINTING_DESC.TXT"
RIGHT_ASCENSION = -1e+32
DECLINATION = -1e+32
OFFSET_ANGLE = -1e+32
SPACECRAFT_SOLAR_DISTANCE = 2.49219e+08
TARGET_NAME = MARS
/* CAMERA DATA ELEMENTS */
DETECTOR_TEMPERATURE = 17.7588
FOCAL_PLANE_TEMPERATURE = 6.9521
INST_CMPRS_NAME = "DISCRETE COSINE TRANSFORMATION (DCT)"
INST_CMPRS_RATIO = 13.2114
INST_CMPRS_QUALITY = 0
INST_CMPRS_QUANTZ_TBL_ID = 0
INSTRUMENT_TEMPERATURE = 10.6223
LENS_TEMPERATURE = 7.5638
MACROPIXEL_SIZE = 4
MISSING_FRAMES = 0
PIXEL_SUBSAMPLING_FLAG = N
SIGNAL_CHAIN_ID = 2
/* RADIOMETRIC DATA ELEMENTS */
BANDWIDTH = 48.0
CENTER_FILTER_WAVELENGTH = 748.0
RADIANCE_OFFSET = 1.14856
RADIANCE_SCALING_FACTOR = 0.00780424
REFLECTANCE_SCALING_FACTOR = 0.00110616
MEX:REFLECTANCE_OFFSET = 0.162796
/* IMAGE OBJECT DEFINITIONS */
OBJECT = IMAGE
  INTERCHANGE_FORMAT = BINARY
  LINES = 13217
  LINE_SAMPLES = 6710
  SAMPLE_TYPE = UNSIGNED_INTEGER
  SAMPLE_BITS = 8
  BANDS = 1
  BAND_STORAGE_TYPE = BAND_SEQUENTIAL
  MAXIMUM = 255
  MEAN = 172.406
  MINIMUM = 1
  STANDARD_DEVIATION = 37.7634
END_OBJECT = IMAGE
/* MAP OBJECT DEFINITIONS */
OBJECT = IMAGE_MAP_PROJECTION
  ^DATA_SET_MAP_PROJECTION_CATALOG= "DSMAP.CAT"
  A_AXIS_RADIUS = 3396.0
  B_AXIS_RADIUS = 3396.0
  C_AXIS_RADIUS = 3396.0
  CENTER_LATITUDE = 0.0
  CENTER_LONGITUDE = 339.0
  COORDINATE_SYSTEM_NAME = PLANETOGRAPHIC
  COORDINATE_SYSTEM_TYPE = "BODY-FIXED ROTATING"
  EASTERNMOST_LONGITUDE = 350.69
  FIRST_STANDARD_PARALLEL = "N/A"
  LINE_FIRST_PIXEL = 1
  LINE_LAST_PIXEL = 13217
  LINE_PROJECTION_OFFSET = 102298.625
  MAP_PROJECTION_ROTATION = 0.0
  MAP_PROJECTION_TYPE = SINUSOIDAL
  MAP_RESOLUTION = 1185.42760773333
  MAP_SCALE = 0.05
  MAXIMUM_LATITUDE = 86.322
  MINIMUM_LATITUDE = 75.20489999999999
  POSITIVE_LONGITUDE_DIRECTION = EAST
  REFERENCE_LATITUDE = "N/A"
  REFERENCE_LONGITUDE = "N/A"
  SAMPLE_FIRST_PIXEL = 1
  SAMPLE_LAST_PIXEL = 6710
  SAMPLE_PROJECTION_OFFSET = 3212.625
  SECOND_STANDARD_PARALLEL = "N/A"
  WESTERNMOST_LONGITUDE = 304.363
END_OBJECT = IMAGE_MAP_PROJECTION
/* The JPEG2000 image data file associated with this label. */
OBJECT = COMPRESSED_FILE
  FILE_NAME = "H5609_0000_RE3.JP2"
  RECORD_TYPE = UNDEFINED
  FILE_RECORDS = UNK
  ENCODING_TYPE = "JP2"
  INTERCHANGE_FORMAT = BINARY
  UNCOMPRESSED_FILE_NAME = "H5609_0000_RE3.IMG"
  REQUIRED_STORAGE_BYTES = "88719620"
  ^DESCRIPTION = "JP2INFO.TXT"
END_OBJECT = COMPRESSED_FILE
END
