PDS_VERSION_ID = PDS3
/* FILE DATA ELEMENTS */
RECORD_TYPE = STREAM
/* POINTERS TO DATA OBJECTS */
^COMPRESSED_FILE = "H5611_0000_S13.JP2"
/* IDENTIFICATION DATA ELEMENTS */
DATA_SET_ID = "MEX-M-HRSC-5-REFDR-MAPPROJECTED-V3.0"
DATA_SET_NAME = "MARS EXPRESS HRSC MAP PROJECTED REFDR V3.0"
DETECTOR_ID = MEX_HRSC_S1
EVENT_TYPE = "MARS-REGIONAL-MAPPING-Gl-Pf-Eo"
INSTRUMENT_HOST_ID = MEX
INSTRUMENT_HOST_NAME = "MARS EXPRESS"
INSTRUMENT_ID = HRSC
INSTRUMENT_NAME = "HIGH RESOLUTION STEREO CAMERA"
MISSION_NAME = "MARS EXPRESS"
MISSION_PHASE_NAME = ME_Phase_12
PROCESSING_LEVEL_ID = 3
PRODUCT_CREATION_TIME = 2016-05-15T14:58:24.000Z
PRODUCT_ID = "H5611_0000_S13.JP2"
RELEASE_ID = 0064
REVISION_ID = 0000
/* QUALITY DATA ELEMENTS */
DATA_QUALITY_ID = 2
DATA_QUALITY_DESC = "Data calculated based on photogrammetrically improved orbit and attitude data"
/* TIME DATA ELEMENTS */
SPACECRAFT_CLOCK_START_COUNT = "1/0158951847.08370"
SPACECRAFT_CLOCK_STOP_COUNT = "1/0158952081.38005"
START_TIME = 2008-05-15T17:18:43.903Z
STOP_TIME = 2008-05-15T17:21:23.254Z
/* ORBITAL DATA ELEMENTS */
ASCENDING_NODE_LONGITUDE = 111.66
MAXIMUM_RESOLUTION = 35
FOOTPRINT_POINT_LATITUDE = (75.1536,75.2,75.2571,75.2975,75.3354, 75.3663,75.0798,74.728,74.4636,74.1994, 74.0235,73.6721,73.493,73.3133,73.1336, 72.9541,72.7746,72.5956,72.4167,72.1433 ,71.9602,71.7774,71.5947,71.4123,71.23, 71.0445,70.858,70.672,70.4862,70.3004, 70.115,69.8313,69.6419,69.4529,69.2641, 69.0756,68.883,68.6907,68.4985,68.3064, 68.1147,67.9193,67.7237,67.5286,67.2362 ,66.9397,66.7415,66.5435,66.1989, 66.1817,66.1518,66.1255,66.1013,66.0795 ,66.0406,66.1201,66.3162,66.5127, 66.7095,66.9066,67.1012,67.2945,67.488, 67.6818,67.9713,68.1613,68.3514,68.5421 ,68.7331,68.9225,69.1093,69.2964, 69.4836,69.6711,69.9509,70.1344,70.3182 ,70.5022,70.7785,70.9627,71.1428, 71.3231,71.5034,71.6839,71.8648,72.1356 ,72.3122,72.4891,72.6659,72.9316, 73.1088,73.2861,73.5477,73.8939,74.2404 ,74.4137,74.5871,74.7601,75.1826, 75.1536)
FOOTPRINT_POINT_LONGITUDE = (146.427,147.234,148.301,149.118,149.94 ,150.663,151.054,151.281,151.444, 151.602,151.704,151.901,151.998,152.093 ,152.187,152.277,152.366,152.453, 152.538,152.664,152.747,152.827,152.906 ,152.983,153.058,153.133,153.207,153.28 ,153.351,153.42,153.488,153.589,153.655 ,153.72,153.783,153.845,153.907,153.968 ,154.028,154.086,154.143,154.201, 154.257,154.312,154.393,154.473,154.525 ,154.576,154.411,153.909,153.117, 152.493,151.953,151.497,150.753,150.334 ,150.271,150.206,150.14,150.072,150.003 ,149.934,149.863,149.79,149.679,149.604 ,149.527,149.448,149.367,149.286, 149.204,149.119,149.033,148.945,148.81, 148.719,148.626,148.53,148.383,148.282, 148.181,148.078,147.973,147.864,147.753 ,147.583,147.468,147.35,147.23,147.044, 146.916,146.786,146.587,146.312,146.024 ,145.874,145.721,145.564,145.163, 146.427)
ORBIT_NUMBER = 5611
ORBITAL_ECCENTRICITY = 0.567
ORBITAL_INCLINATION = 86.74
ORBITAL_SEMIMAJOR_AXIS = 8634.38
PERIAPSIS_ALTITUDE = 360.29
PERIAPSIS_ARGUMENT_ANGLE = 91.32
PERIAPSIS_TIME = 2008-05-15T17:14:46.000Z
SPACECRAFT_ORIENTATION = (0.0,1.0,0.0)
^MEX_ORIENTATION_DESC = "MEX_ORIENTATION_DESC.TXT"
SPACECRAFT_POINTING_MODE = NADIR
^MEX_POINTING_DESC = "MEX_POINTING_DESC.TXT"
RIGHT_ASCENSION = -1e+32
DECLINATION = -1e+32
OFFSET_ANGLE = -1e+32
SPACECRAFT_SOLAR_DISTANCE = 2.49217e+08
TARGET_NAME = MARS
/* CAMERA DATA ELEMENTS */
DETECTOR_TEMPERATURE = 16.7393
FOCAL_PLANE_TEMPERATURE = 6.9521
INST_CMPRS_NAME = "DISCRETE COSINE TRANSFORMATION (DCT)"
INST_CMPRS_RATIO = 9.83074
INST_CMPRS_QUALITY = 0
INST_CMPRS_QUANTZ_TBL_ID = 0
INSTRUMENT_TEMPERATURE = 9.8067
LENS_TEMPERATURE = 8.3794
MACROPIXEL_SIZE = 2
MISSING_FRAMES = 0
PIXEL_SUBSAMPLING_FLAG = N
SIGNAL_CHAIN_ID = 1
/* RADIOMETRIC DATA ELEMENTS */
BANDWIDTH = 180.0
CENTER_FILTER_WAVELENGTH = 677.0
RADIANCE_OFFSET = 5.7344
RADIANCE_SCALING_FACTOR = 0.0311512
REFLECTANCE_SCALING_FACTOR = 0.00100942
MEX:REFLECTANCE_OFFSET = 0.185817
/* IMAGE OBJECT DEFINITIONS */
OBJECT = IMAGE
  INTERCHANGE_FORMAT = BINARY
  LINES = 22533
  LINE_SAMPLES = 6678
  SAMPLE_TYPE = UNSIGNED_INTEGER
  SAMPLE_BITS = 8
  BANDS = 1
  BAND_STORAGE_TYPE = BAND_SEQUENTIAL
  MAXIMUM = 255
  MEAN = 62.1447
  MINIMUM = 1
  STANDARD_DEVIATION = 47.6057
END_OBJECT = IMAGE
/* MAP OBJECT DEFINITIONS */
OBJECT = IMAGE_MAP_PROJECTION
  ^DATA_SET_MAP_PROJECTION_CATALOG= "DSMAP.CAT"
  A_AXIS_RADIUS = 3396.0
  B_AXIS_RADIUS = 3396.0
  C_AXIS_RADIUS = 3396.0
  CENTER_LATITUDE = 0.0
  CENTER_LONGITUDE = 151.0
  COORDINATE_SYSTEM_NAME = PLANETOGRAPHIC
  COORDINATE_SYSTEM_TYPE = "BODY-FIXED ROTATING"
  EASTERNMOST_LONGITUDE = 154.576
  FIRST_STANDARD_PARALLEL = "N/A"
  LINE_FIRST_PIXEL = 1
  LINE_LAST_PIXEL = 22533
  LINE_PROJECTION_OFFSET = 178985.75
  MAP_PROJECTION_ROTATION = 0.0
  MAP_PROJECTION_TYPE = SINUSOIDAL
  MAP_RESOLUTION = 2370.85521546667
  MAP_SCALE = 0.025
  MAXIMUM_LATITUDE = 75.3663
  MINIMUM_LATITUDE = 66.0406
  POSITIVE_LONGITUDE_DIRECTION = EAST
  REFERENCE_LATITUDE = "N/A"
  REFERENCE_LONGITUDE = "N/A"
  SAMPLE_FIRST_PIXEL = 1
  SAMPLE_LAST_PIXEL = 6678
  SAMPLE_PROJECTION_OFFSET = 3405.25
  SECOND_STANDARD_PARALLEL = "N/A"
  WESTERNMOST_LONGITUDE = 145.163
END_OBJECT = IMAGE_MAP_PROJECTION
/* The JPEG2000 image data file associated with this label. */
OBJECT = COMPRESSED_FILE
  FILE_NAME = "H5611_0000_S13.JP2"
  RECORD_TYPE = UNDEFINED
  FILE_RECORDS = UNK
  ENCODING_TYPE = "JP2"
  INTERCHANGE_FORMAT = BINARY
  UNCOMPRESSED_FILE_NAME = "H5611_0000_S13.IMG"
  REQUIRED_STORAGE_BYTES = "150508764"
  ^DESCRIPTION = "JP2INFO.TXT"
END_OBJECT = COMPRESSED_FILE
END
