PDS_VERSION_ID = PDS3
/* FILE DATA ELEMENTS */
RECORD_TYPE = STREAM
/* POINTERS TO DATA OBJECTS */
^COMPRESSED_FILE = "H5626_0000_GR3.JP2"
/* IDENTIFICATION DATA ELEMENTS */
DATA_SET_ID = "MEX-M-HRSC-5-REFDR-MAPPROJECTED-V3.0"
DATA_SET_NAME = "MARS EXPRESS HRSC MAP PROJECTED REFDR V3.0"
DETECTOR_ID = MEX_HRSC_GREEN
EVENT_TYPE = "MARS-REGIONAL-MAPPING-Pf-Eo"
INSTRUMENT_HOST_ID = MEX
INSTRUMENT_HOST_NAME = "MARS EXPRESS"
INSTRUMENT_ID = HRSC
INSTRUMENT_NAME = "HIGH RESOLUTION STEREO CAMERA"
MISSION_NAME = "MARS EXPRESS"
MISSION_PHASE_NAME = ME_Phase_12
PROCESSING_LEVEL_ID = 3
PRODUCT_CREATION_TIME = 2016-05-15T14:58:24.000Z
PRODUCT_ID = "H5626_0000_GR3.JP2"
RELEASE_ID = 0064
REVISION_ID = 0000
/* QUALITY DATA ELEMENTS */
DATA_QUALITY_ID = 2
DATA_QUALITY_DESC = "Data calculated based on photogrammetrically improved orbit and attitude data"
/* TIME DATA ELEMENTS */
SPACECRAFT_CLOCK_START_COUNT = "1/0159321357.07293"
SPACECRAFT_CLOCK_STOP_COUNT = "1/0159321659.48819"
START_TIME = 2008-05-19T23:56:44.023Z
STOP_TIME = 2008-05-20T00:00:13.201Z
/* ORBITAL DATA ELEMENTS */
ASCENDING_NODE_LONGITUDE = 111.36
MAXIMUM_RESOLUTION = 66.3
FOOTPRINT_POINT_LATITUDE = (75.1626,75.257,75.3301,75.2722,75.0439 ,74.8157,74.5876,74.3596,74.1318, 73.9008,73.6673,73.4339,73.2006,72.9675 ,72.7347,72.4964,72.2579,72.0195, 71.7814,71.5435,71.1793,70.936,70.693, 70.4501,70.0794,69.8313,69.5835,69.336, 69.084,68.8312,68.5786,68.3264,68.0604, 67.6743,67.4178,67.0265,66.7646,66.5032 ,66.1052,65.8388,65.5729,65.3026, 65.0318,64.7615,64.4872,64.212,63.9372, 63.6583,63.3788,63.0998,62.8156,62.748, 62.7102,62.6731,62.6462,62.613,63.0228, 63.3002,63.578,63.9898,64.2631,64.5364, 64.8048,65.0737,65.3429,65.6068,65.8711 ,66.267,66.5264,66.7862,67.1752,67.43, 67.6851,67.9494,68.3271,68.5773,68.8278 ,69.0784,69.3236,69.569,69.8146,70.1824 ,70.4226,70.663,71.024,71.2646,71.4997, 71.735,71.9704,72.2058,72.5568,72.7867, 73.0167,73.2467,73.4768,73.8202,74.2688 ,74.7175,74.9418,75.1626)
FOOTPRINT_POINT_LONGITUDE = (85.7857,87.4926,89.0209,89.9532, 90.1054,90.2528,90.3953,90.5335,90.6675 ,90.799,90.9282,91.0537,91.1751,91.293, 91.4078,91.5215,91.6321,91.7394,91.844, 91.9455,92.0954,92.1923,92.2864,92.3778 ,92.5129,92.6002,92.6854,92.7685, 92.8508,92.9314,93.0095,93.0857,93.1628 ,93.2726,93.3451,93.45,93.518,93.5846, 93.6824,93.7456,93.8075,93.8689,93.9291 ,93.9878,94.0457,94.1025,94.1579, 94.2127,94.2665,94.3188,94.3709,93.6974 ,92.6362,91.7666,91.2004,90.5602, 90.2259,90.1609,90.094,89.991,89.9202, 89.8469,89.7734,89.6975,89.6194,89.5406 ,89.4595,89.3338,89.2486,89.1607, 89.0243,88.9315,88.8363,88.7349,88.5846 ,88.4815,88.3754,88.2657,88.1555,88.042 ,87.9253,87.7441,87.6213,87.4949, 87.2981,87.1623,87.0252,86.8841,86.7386 ,86.5887,86.3571,86.1993,86.0363, 85.8685,85.6954,85.4267,85.056,84.6599, 84.452,85.7857)
ORBIT_NUMBER = 5626
ORBITAL_ECCENTRICITY = 0.567
ORBITAL_INCLINATION = 86.76
ORBITAL_SEMIMAJOR_AXIS = 8633.15
PERIAPSIS_ALTITUDE = 358.78
PERIAPSIS_ARGUMENT_ANGLE = 88.69
PERIAPSIS_TIME = 2008-05-19T23:52:34.000Z
SPACECRAFT_ORIENTATION = (0.0,1.0,0.0)
^MEX_ORIENTATION_DESC = "MEX_ORIENTATION_DESC.TXT"
SPACECRAFT_POINTING_MODE = NADIR
^MEX_POINTING_DESC = "MEX_POINTING_DESC.TXT"
RIGHT_ASCENSION = -1e+32
DECLINATION = -1e+32
OFFSET_ANGLE = -1e+32
SPACECRAFT_SOLAR_DISTANCE = 2.49186e+08
TARGET_NAME = MARS
/* CAMERA DATA ELEMENTS */
DETECTOR_TEMPERATURE = 17.351
FOCAL_PLANE_TEMPERATURE = 7.156
INST_CMPRS_NAME = "DISCRETE COSINE TRANSFORMATION (DCT)"
INST_CMPRS_RATIO = 13.1597
INST_CMPRS_QUALITY = 0
INST_CMPRS_QUANTZ_TBL_ID = 0
INSTRUMENT_TEMPERATURE = 10.4184
LENS_TEMPERATURE = 7.3599
MACROPIXEL_SIZE = 4
MISSING_FRAMES = 1
PIXEL_SUBSAMPLING_FLAG = N
SIGNAL_CHAIN_ID = 2
/* RADIOMETRIC DATA ELEMENTS */
BANDWIDTH = 88.0
CENTER_FILTER_WAVELENGTH = 538.0
RADIANCE_OFFSET = 1.43858
RADIANCE_SCALING_FACTOR = 0.0147169
REFLECTANCE_SCALING_FACTOR = 0.000786783
MEX:REFLECTANCE_OFFSET = 0.0769081
/* IMAGE OBJECT DEFINITIONS */
OBJECT = IMAGE
  INTERCHANGE_FORMAT = BINARY
  LINES = 15172
  LINE_SAMPLES = 4052
  SAMPLE_TYPE = UNSIGNED_INTEGER
  SAMPLE_BITS = 8
  BANDS = 1
  BAND_STORAGE_TYPE = BAND_SEQUENTIAL
  MAXIMUM = 255
  MEAN = 38.1662
  MINIMUM = 1
  STANDARD_DEVIATION = 22.3813
END_OBJECT = IMAGE
/* MAP OBJECT DEFINITIONS */
OBJECT = IMAGE_MAP_PROJECTION
  ^DATA_SET_MAP_PROJECTION_CATALOG= "DSMAP.CAT"
  A_AXIS_RADIUS = 3396.0
  B_AXIS_RADIUS = 3396.0
  C_AXIS_RADIUS = 3396.0
  CENTER_LATITUDE = 0.0
  CENTER_LONGITUDE = 90.0
  COORDINATE_SYSTEM_NAME = PLANETOGRAPHIC
  COORDINATE_SYSTEM_TYPE = "BODY-FIXED ROTATING"
  EASTERNMOST_LONGITUDE = 94.37090000000001
  FIRST_STANDARD_PARALLEL = "N/A"
  LINE_FIRST_PIXEL = 1
  LINE_LAST_PIXEL = 15172
  LINE_PROJECTION_OFFSET = 89375.375
  MAP_PROJECTION_ROTATION = 0.0
  MAP_PROJECTION_TYPE = SINUSOIDAL
  MAP_RESOLUTION = 1185.42760773333
  MAP_SCALE = 0.05
  MAXIMUM_LATITUDE = 75.3301
  MINIMUM_LATITUDE = 62.613
  POSITIVE_LONGITUDE_DIRECTION = EAST
  REFERENCE_LATITUDE = "N/A"
  REFERENCE_LONGITUDE = "N/A"
  SAMPLE_FIRST_PIXEL = 1
  SAMPLE_LAST_PIXEL = 4052
  SAMPLE_PROJECTION_OFFSET = 1712.125
  SECOND_STANDARD_PARALLEL = "N/A"
  WESTERNMOST_LONGITUDE = 84.452
END_OBJECT = IMAGE_MAP_PROJECTION
/* The JPEG2000 image data file associated with this label. */
OBJECT = COMPRESSED_FILE
  FILE_NAME = "H5626_0000_GR3.JP2"
  RECORD_TYPE = UNDEFINED
  FILE_RECORDS = UNK
  ENCODING_TYPE = "JP2"
  INTERCHANGE_FORMAT = BINARY
  UNCOMPRESSED_FILE_NAME = "H5626_0000_GR3.IMG"
  REQUIRED_STORAGE_BYTES = "61501256"
  ^DESCRIPTION = "JP2INFO.TXT"
END_OBJECT = COMPRESSED_FILE
END
