PDS_VERSION_ID = PDS3
/* FILE DATA ELEMENTS */
RECORD_TYPE = STREAM
/* POINTERS TO DATA OBJECTS */
^COMPRESSED_FILE = "H5630_0000_BL3.JP2"
/* IDENTIFICATION DATA ELEMENTS */
DATA_SET_ID = "MEX-M-HRSC-5-REFDR-MAPPROJECTED-V3.0"
DATA_SET_NAME = "MARS EXPRESS HRSC MAP PROJECTED REFDR V3.0"
DETECTOR_ID = MEX_HRSC_BLUE
EVENT_TYPE = "MARS-REGIONAL-MAPPING-Gl-La"
INSTRUMENT_HOST_ID = MEX
INSTRUMENT_HOST_NAME = "MARS EXPRESS"
INSTRUMENT_ID = HRSC
INSTRUMENT_NAME = "HIGH RESOLUTION STEREO CAMERA"
MISSION_NAME = "MARS EXPRESS"
MISSION_PHASE_NAME = ME_Phase_12
PROCESSING_LEVEL_ID = 3
PRODUCT_CREATION_TIME = 2016-05-15T14:58:24.000Z
PRODUCT_ID = "H5630_0000_BL3.JP2"
RELEASE_ID = 0064
REVISION_ID = 0000
/* QUALITY DATA ELEMENTS */
DATA_QUALITY_ID = 1
DATA_QUALITY_DESC = "Data calculated based on original SPICE kernels"
/* TIME DATA ELEMENTS */
SPACECRAFT_CLOCK_START_COUNT = "1/0159419723.08381"
SPACECRAFT_CLOCK_STOP_COUNT = "1/0159419958.13852"
START_TIME = 2008-05-21T03:15:54.000Z
STOP_TIME = 2008-05-21T03:18:33.232Z
/* ORBITAL DATA ELEMENTS */
ASCENDING_NODE_LONGITUDE = 111.27
MAXIMUM_RESOLUTION = 58.6
FOOTPRINT_POINT_LATITUDE = (84.5957,84.7362,84.8732,85.0065, 85.1359,85.2616,85.274,85.1396,84.792, 84.5039,84.2082,83.906,83.6446,83.4592, 83.2722,83.0838,82.8941,82.7031,82.5111 ,82.3179,82.1235,81.929,81.7334,81.5363 ,81.3391,81.1412,80.8439,80.6446, 80.3454,80.1452,79.8442,79.6432,79.4419 ,79.2403,79.0384,78.8363,78.634,78.4315 ,78.2288,78.026,77.8229,77.6198,77.4165 ,77.2131,77.0096,76.8061,76.6024, 76.2968,75.9428,75.8956,75.8453,75.7917 ,75.7347,75.6509,75.5814,75.7805, 75.9795,76.1783,76.3768,76.5752,76.7732 ,76.9711,77.1687,77.3658,77.5628, 77.7594,77.9555,78.1513,78.3467,78.5416 ,78.736,78.9299,79.1232,79.316,79.5081, 79.6995,79.8903,80.08,80.3642,80.5525, 80.7393,80.9259,81.1123,81.2958,81.4781 ,81.749,81.9276,82.1046,82.2798,82.4531 ,82.6244,82.7934,82.96,83.1168,83.386, 83.7102,83.8973,84.1364,84.3638, 84.5957)
FOOTPRINT_POINT_LONGITUDE = (9.20049,10.4522,11.7638,13.1374, 14.5758,16.0846,18.287,19.6867,22.8622, 25.1063,27.1226,28.9394,30.3469,31.266, 32.1338,32.954,33.73,34.4652,35.1623, 35.8249,36.4561,37.0525,37.6218,38.1685 ,38.6865,39.182,39.8811,40.3239,40.951, 41.3479,41.9137,42.2716,42.6156,42.9464 ,43.2646,43.571,43.8663,44.1509,44.4252 ,44.6901,44.9458,45.1929,45.4317, 45.6627,45.886,46.1022,46.3115,46.6136, 46.7279,45.8773,45.0291,44.1828,43.3374 ,42.1786,41.2676,41.0224,40.7701, 40.5095,40.2408,39.9638,39.6774,39.382, 39.0771,38.7614,38.4358,38.0986,37.7497 ,37.3889,37.0151,36.628,36.2268,35.8108 ,35.3794,34.9319,34.4668,33.9838, 33.4823,32.9589,32.1409,31.5668,30.9662 ,30.3441,29.7006,29.0192,28.3077, 27.1807,26.3857,25.5545,24.6838,23.7719 ,22.8162,21.8143,20.7633,19.7124, 17.7461,15.0514,13.2974,10.7827,8.05944 ,9.20049)
ORBIT_NUMBER = 5630
ORBITAL_ECCENTRICITY = 0.567
ORBITAL_INCLINATION = 86.75
ORBITAL_SEMIMAJOR_AXIS = 8633.39
PERIAPSIS_ALTITUDE = 359.33
PERIAPSIS_ARGUMENT_ANGLE = 88.0
PERIAPSIS_TIME = 2008-05-21T03:14:36.000Z
SPACECRAFT_ORIENTATION = (0.0,1.0,0.0)
^MEX_ORIENTATION_DESC = "MEX_ORIENTATION_DESC.TXT"
SPACECRAFT_POINTING_MODE = ACROSSTRACK
^MEX_POINTING_DESC = "MEX_POINTING_DESC.TXT"
RIGHT_ASCENSION = -1e+32
DECLINATION = -1e+32
OFFSET_ANGLE = -0.5
SPACECRAFT_SOLAR_DISTANCE = 2.49173e+08
TARGET_NAME = MARS
/* CAMERA DATA ELEMENTS */
DETECTOR_TEMPERATURE = 17.5549
FOCAL_PLANE_TEMPERATURE = 11.8457
INST_CMPRS_NAME = "DISCRETE COSINE TRANSFORMATION (DCT)"
INST_CMPRS_RATIO = 25.6611
INST_CMPRS_QUALITY = 0
INST_CMPRS_QUANTZ_TBL_ID = 0
INSTRUMENT_TEMPERATURE = 10.6223
LENS_TEMPERATURE = 7.3599
MACROPIXEL_SIZE = 4
MISSING_FRAMES = 0
PIXEL_SUBSAMPLING_FLAG = N
SIGNAL_CHAIN_ID = 2
/* RADIOMETRIC DATA ELEMENTS */
BANDWIDTH = 76.0
CENTER_FILTER_WAVELENGTH = 444.0
RADIANCE_OFFSET = 0.341237
RADIANCE_SCALING_FACTOR = 0.008832
REFLECTANCE_SCALING_FACTOR = 0.000563403
MEX:REFLECTANCE_OFFSET = 0.0217678
/* IMAGE OBJECT DEFINITIONS */
OBJECT = IMAGE
  INTERCHANGE_FORMAT = BINARY
  LINES = 11538
  LINE_SAMPLES = 6344
  SAMPLE_TYPE = UNSIGNED_INTEGER
  SAMPLE_BITS = 8
  BANDS = 1
  BAND_STORAGE_TYPE = BAND_SEQUENTIAL
  MAXIMUM = 255
  MEAN = 119.842
  MINIMUM = 1
  STANDARD_DEVIATION = 79.4002
END_OBJECT = IMAGE
/* MAP OBJECT DEFINITIONS */
OBJECT = IMAGE_MAP_PROJECTION
  ^DATA_SET_MAP_PROJECTION_CATALOG= "DSMAP.CAT"
  A_AXIS_RADIUS = 3396.0
  B_AXIS_RADIUS = 3396.0
  C_AXIS_RADIUS = 3396.0
  CENTER_LATITUDE = 0.0
  CENTER_LONGITUDE = 36.0
  COORDINATE_SYSTEM_NAME = PLANETOGRAPHIC
  COORDINATE_SYSTEM_TYPE = "BODY-FIXED ROTATING"
  EASTERNMOST_LONGITUDE = 46.7279
  FIRST_STANDARD_PARALLEL = "N/A"
  LINE_FIRST_PIXEL = 1
  LINE_LAST_PIXEL = 11538
  LINE_PROJECTION_OFFSET = 101159.625
  MAP_PROJECTION_ROTATION = 0.0
  MAP_PROJECTION_TYPE = SINUSOIDAL
  MAP_RESOLUTION = 1185.42760773333
  MAP_SCALE = 0.05
  MAXIMUM_LATITUDE = 85.274
  MINIMUM_LATITUDE = 75.5814
  POSITIVE_LONGITUDE_DIRECTION = EAST
  REFERENCE_LATITUDE = "N/A"
  REFERENCE_LONGITUDE = "N/A"
  SAMPLE_FIRST_PIXEL = 1
  SAMPLE_LAST_PIXEL = 6344
  SAMPLE_PROJECTION_OFFSET = 3187.875
  SECOND_STANDARD_PARALLEL = "N/A"
  WESTERNMOST_LONGITUDE = 8.05944
END_OBJECT = IMAGE_MAP_PROJECTION
/* The JPEG2000 image data file associated with this label. */
OBJECT = COMPRESSED_FILE
  FILE_NAME = "H5630_0000_BL3.JP2"
  RECORD_TYPE = UNDEFINED
  FILE_RECORDS = UNK
  ENCODING_TYPE = "JP2"
  INTERCHANGE_FORMAT = BINARY
  UNCOMPRESSED_FILE_NAME = "H5630_0000_BL3.IMG"
  REQUIRED_STORAGE_BYTES = "73228792"
  ^DESCRIPTION = "JP2INFO.TXT"
END_OBJECT = COMPRESSED_FILE
END
