PDS_VERSION_ID = PDS3
/* FILE DATA ELEMENTS */
RECORD_TYPE = STREAM
/* POINTERS TO DATA OBJECTS */
^COMPRESSED_FILE = "H5673_0000_ND3.JP2"
/* IDENTIFICATION DATA ELEMENTS */
DATA_SET_ID = "MEX-M-HRSC-5-REFDR-MAPPROJECTED-V3.0"
DATA_SET_NAME = "MARS EXPRESS HRSC MAP PROJECTED REFDR V3.0"
DETECTOR_ID = MEX_HRSC_NADIR
EVENT_TYPE = "MARS-REGIONAL-MAPPING-Gl-Pf-Eo"
INSTRUMENT_HOST_ID = MEX
INSTRUMENT_HOST_NAME = "MARS EXPRESS"
INSTRUMENT_ID = HRSC
INSTRUMENT_NAME = "HIGH RESOLUTION STEREO CAMERA"
MISSION_NAME = "MARS EXPRESS"
MISSION_PHASE_NAME = ME_Phase_12
PROCESSING_LEVEL_ID = 3
PRODUCT_CREATION_TIME = 2016-05-15T14:58:24.000Z
PRODUCT_ID = "H5673_0000_ND3.JP2"
RELEASE_ID = 0064
REVISION_ID = 0000
/* QUALITY DATA ELEMENTS */
DATA_QUALITY_ID = 1
DATA_QUALITY_DESC = "Data calculated based on original SPICE kernels"
/* TIME DATA ELEMENTS */
SPACECRAFT_CLOCK_START_COUNT = "1/0160479080.08243"
SPACECRAFT_CLOCK_STOP_COUNT = "1/0160479349.21165"
START_TIME = 2008-06-02T09:32:03.204Z
STOP_TIME = 2008-06-02T09:34:51.224Z
/* ORBITAL DATA ELEMENTS */
ASCENDING_NODE_LONGITUDE = 110.42
MAXIMUM_RESOLUTION = 17.6
FOOTPRINT_POINT_LATITUDE = (79.3902,79.4575,79.5304,79.6194, 79.6818,79.7397,79.7065,79.1569,78.7864 ,78.416,78.228,78.0383,77.8487,77.6591, 77.4696,77.2802,77.0866,76.8928,76.6991 ,76.5055,76.312,76.1153,75.9175,75.7199 ,75.5223,75.3249,75.023,74.8215,74.6201 ,74.4188,74.1116,73.9063,73.7012, 73.4963,73.2873,73.0783,72.8695,72.6609 ,72.4484,72.2358,72.0235,71.7032,71.487 ,71.271,71.0553,70.8359,70.5066,70.2874 ,69.9533,69.7304,69.6803,69.646,69.6175 ,69.5621,69.5181,69.5828,69.8034, 70.0237,70.2405,70.5661,70.7832,70.9964 ,71.2098,71.4234,71.7399,71.9495, 72.1593,72.3691,72.5749,72.7808,72.9868 ,73.1929,73.3948,73.5968,73.7989, 74.1013,74.2993,74.4972,74.6953,74.992, 75.1858,75.3796,75.5734,75.7672,75.96, 76.1494,76.3389,76.5283,76.7177,76.9069 ,77.0918,77.2766,77.4613,77.6459, 77.8304,78.0133,78.3729,78.7319,79.0888 ,79.3902)
FOOTPRINT_POINT_LONGITUDE = (56.263,57.2958,58.4937,60.0937,61.332, 62.5886,64.152,64.8316,65.2491,65.6389, 65.8267,66.0098,66.1875,66.3592,66.5254 ,66.6861,66.8457,67.0001,67.15,67.2952, 67.436,67.575,67.7108,67.842,67.9698, 68.0942,68.2769,68.395,68.5096,68.6209, 68.7853,68.8914,68.9944,69.0948,69.1942 ,69.2918,69.3862,69.4784,69.5695, 69.6587,69.7453,69.8721,69.9548,70.0358 ,70.1147,70.1929,70.3066,70.3802, 70.4889,70.5591,69.3061,68.4387,67.7912 ,66.6631,65.8633,65.0451,64.9451, 64.8439,64.7413,64.5819,64.472,64.3614, 64.2477,64.1308,63.9517,63.8289,63.7024 ,63.5727,63.4419,63.3076,63.1693, 63.0272,62.8843,62.7373,62.5856,62.3507 ,62.1915,62.0274,61.8587,61.5963, 61.4189,61.236,61.0476,60.8535,60.6546, 60.453,60.2453,60.0311,59.8102,59.5824, 59.3525,59.1154,58.8703,58.6173,58.3563 ,58.089,57.5353,56.944,56.3131,56.263)
ORBIT_NUMBER = 5673
ORBITAL_ECCENTRICITY = 0.567
ORBITAL_INCLINATION = 86.76
ORBITAL_SEMIMAJOR_AXIS = 8634.96
PERIAPSIS_ALTITUDE = 358.76
PERIAPSIS_ARGUMENT_ANGLE = 80.47
PERIAPSIS_TIME = 2008-06-02T09:27:00.000Z
SPACECRAFT_ORIENTATION = (0.0,1.0,0.0)
^MEX_ORIENTATION_DESC = "MEX_ORIENTATION_DESC.TXT"
SPACECRAFT_POINTING_MODE = ACROSSTRACK
^MEX_POINTING_DESC = "MEX_POINTING_DESC.TXT"
RIGHT_ASCENSION = -1e+32
DECLINATION = -1e+32
OFFSET_ANGLE = 0.17
SPACECRAFT_SOLAR_DISTANCE = 2.48915e+08
TARGET_NAME = MARS
/* CAMERA DATA ELEMENTS */
DETECTOR_TEMPERATURE = 17.7588
FOCAL_PLANE_TEMPERATURE = 6.9521
INST_CMPRS_NAME = "DISCRETE COSINE TRANSFORMATION (DCT)"
INST_CMPRS_RATIO = 6.89022
INST_CMPRS_QUALITY = 0
INST_CMPRS_QUANTZ_TBL_ID = 0
INSTRUMENT_TEMPERATURE = 10.2145
LENS_TEMPERATURE = 8.3794
MACROPIXEL_SIZE = 1
MISSING_FRAMES = 0
PIXEL_SUBSAMPLING_FLAG = N
SIGNAL_CHAIN_ID = 0
/* RADIOMETRIC DATA ELEMENTS */
BANDWIDTH = 177.0
CENTER_FILTER_WAVELENGTH = 677.5
RADIANCE_OFFSET = 2.15984
RADIANCE_SCALING_FACTOR = 0.0248634
REFLECTANCE_SCALING_FACTOR = 0.000818365
MEX:REFLECTANCE_OFFSET = 0.0710898
/* IMAGE OBJECT DEFINITIONS */
OBJECT = IMAGE
  INTERCHANGE_FORMAT = BINARY
  LINES = 48903
  LINE_SAMPLES = 16814
  SAMPLE_TYPE = UNSIGNED_INTEGER
  SAMPLE_BITS = 8
  BANDS = 1
  BAND_STORAGE_TYPE = BAND_SEQUENTIAL
  MAXIMUM = 255
  MEAN = 126.229
  MINIMUM = 1
  STANDARD_DEVIATION = 43.9883
END_OBJECT = IMAGE
/* MAP OBJECT DEFINITIONS */
OBJECT = IMAGE_MAP_PROJECTION
  ^DATA_SET_MAP_PROJECTION_CATALOG= "DSMAP.CAT"
  A_AXIS_RADIUS = 3396.0
  B_AXIS_RADIUS = 3396.0
  C_AXIS_RADIUS = 3396.0
  CENTER_LATITUDE = 0.0
  CENTER_LONGITUDE = 65.0
  COORDINATE_SYSTEM_NAME = PLANETOGRAPHIC
  COORDINATE_SYSTEM_TYPE = "BODY-FIXED ROTATING"
  EASTERNMOST_LONGITUDE = 70.5591
  FIRST_STANDARD_PARALLEL = "N/A"
  LINE_FIRST_PIXEL = 1
  LINE_LAST_PIXEL = 48903
  LINE_PROJECTION_OFFSET = 378331.0
  MAP_PROJECTION_ROTATION = 0.0
  MAP_PROJECTION_TYPE = SINUSOIDAL
  MAP_RESOLUTION = 4741.71043093333
  MAP_SCALE = 0.0125
  MAXIMUM_LATITUDE = 79.7397
  MINIMUM_LATITUDE = 69.5181
  POSITIVE_LONGITUDE_DIRECTION = EAST
  REFERENCE_LATITUDE = "N/A"
  REFERENCE_LONGITUDE = "N/A"
  SAMPLE_FIRST_PIXEL = 1
  SAMPLE_LAST_PIXEL = 16814
  SAMPLE_PROJECTION_OFFSET = 7897.0
  SECOND_STANDARD_PARALLEL = "N/A"
  WESTERNMOST_LONGITUDE = 56.263
END_OBJECT = IMAGE_MAP_PROJECTION
/* The JPEG2000 image data file associated with this label. */
OBJECT = COMPRESSED_FILE
  FILE_NAME = "H5673_0000_ND3.JP2"
  RECORD_TYPE = UNDEFINED
  FILE_RECORDS = UNK
  ENCODING_TYPE = "JP2"
  INTERCHANGE_FORMAT = BINARY
  UNCOMPRESSED_FILE_NAME = "H5673_0000_ND3.IMG"
  REQUIRED_STORAGE_BYTES = "822305484"
  ^DESCRIPTION = "JP2INFO.TXT"
END_OBJECT = COMPRESSED_FILE
END
