PDS_VERSION_ID = PDS3
/* FILE DATA ELEMENTS */
RECORD_TYPE = STREAM
/* POINTERS TO DATA OBJECTS */
^COMPRESSED_FILE = "H5681_0000_ND3.JP2"
/* IDENTIFICATION DATA ELEMENTS */
DATA_SET_ID = "MEX-M-HRSC-5-REFDR-MAPPROJECTED-V3.0"
DATA_SET_NAME = "MARS EXPRESS HRSC MAP PROJECTED REFDR V3.0"
DETECTOR_ID = MEX_HRSC_NADIR
EVENT_TYPE = "MARS-REGIONAL-MAPPING-Gl-Pf-Eo"
INSTRUMENT_HOST_ID = MEX
INSTRUMENT_HOST_NAME = "MARS EXPRESS"
INSTRUMENT_ID = HRSC
INSTRUMENT_NAME = "HIGH RESOLUTION STEREO CAMERA"
MISSION_NAME = "MARS EXPRESS"
MISSION_PHASE_NAME = ME_Phase_12
PROCESSING_LEVEL_ID = 3
PRODUCT_CREATION_TIME = 2016-05-15T14:58:24.000Z
PRODUCT_ID = "H5681_0000_ND3.JP2"
RELEASE_ID = 0064
REVISION_ID = 0000
/* QUALITY DATA ELEMENTS */
DATA_QUALITY_ID = 1
DATA_QUALITY_DESC = "Data calculated based on original SPICE kernels"
/* TIME DATA ELEMENTS */
SPACECRAFT_CLOCK_START_COUNT = "1/0160676157.07273"
SPACECRAFT_CLOCK_STOP_COUNT = "1/0160676400.48905"
START_TIME = 2008-06-04T16:16:41.837Z
STOP_TIME = 2008-06-04T16:19:01.808Z
/* ORBITAL DATA ELEMENTS */
ASCENDING_NODE_LONGITUDE = 110.26
MAXIMUM_RESOLUTION = 18.3
FOOTPRINT_POINT_LATITUDE = (78.9229,78.9904,79.0632,79.1517, 79.2135,79.2706,79.174,78.8694,78.4756, 78.164,77.8524,77.6932,77.534,77.3748, 77.2156,77.0565,76.8975,76.6542,76.4918 ,76.3294,76.1671,76.0049,75.7575,75.592 ,75.4265,75.2611,75.0958,74.9276,74.759 ,74.5905,74.4221,74.2538,74.0826,73.911 ,73.7395,73.5682,73.397,73.2225,72.9609 ,72.7866,72.6125,72.4353,72.258,72.0808 ,71.9038,71.7248,71.5447,71.3646, 71.1848,71.0033,70.9585,70.9307,70.9072 ,70.8633,70.8081,70.7601,70.7103,70.89, 71.0676,71.2454,71.4233,71.6004,71.7751 ,71.9499,72.1248,72.3858,72.5576, 72.7294,72.9013,73.1579,73.3266,73.4953 ,73.7486,73.9174,74.0829,74.2484,74.414 ,74.5797,74.7453,74.9075,75.0698, 75.2321,75.3945,75.6373,75.7961,75.955, 76.1139,76.3523,76.511,76.6663,76.8216, 76.9769,77.1321,77.2873,77.5186,77.8216 ,78.1243,78.2798,78.6523,78.9229)
FOOTPRINT_POINT_LONGITUDE = (336.487,337.523,338.724,340.328, 341.568,342.825,344.444,344.789,345.207 ,345.517,345.81,345.954,346.093,346.23, 346.362,346.491,346.617,346.804,346.924 ,347.042,347.156,347.268,347.433, 347.541,347.645,347.747,347.847,347.946 ,348.042,348.137,348.23,348.32,348.411, 348.498,348.584,348.668,348.75,348.832, 348.952,349.029,349.105,349.181,349.254 ,349.327,349.397,349.467,349.536, 349.604,349.669,349.736,348.981,348.222 ,347.641,346.659,345.568,344.712,343.89 ,343.797,343.704,343.608,343.511, 343.411,343.311,343.208,343.103,342.941 ,342.832,342.72,342.605,342.429,342.31, 342.188,342.0,341.871,341.741,341.608, 341.472,341.332,341.19,341.046,340.9, 340.749,340.594,340.356,340.195,340.031 ,339.862,339.6,339.42,339.239,339.054, 338.863,338.667,338.467,338.158,337.733 ,337.284,337.044,336.439,336.487)
ORBIT_NUMBER = 5681
ORBITAL_ECCENTRICITY = 0.567
ORBITAL_INCLINATION = 86.76
ORBITAL_SEMIMAJOR_AXIS = 8635.63
PERIAPSIS_ALTITUDE = 359.63
PERIAPSIS_ARGUMENT_ANGLE = 79.05
PERIAPSIS_TIME = 2008-06-04T16:11:08.000Z
SPACECRAFT_ORIENTATION = (0.0,1.0,0.0)
^MEX_ORIENTATION_DESC = "MEX_ORIENTATION_DESC.TXT"
SPACECRAFT_POINTING_MODE = ACROSSTRACK
^MEX_POINTING_DESC = "MEX_POINTING_DESC.TXT"
RIGHT_ASCENSION = -1e+32
DECLINATION = -1e+32
OFFSET_ANGLE = 0.17
SPACECRAFT_SOLAR_DISTANCE = 2.48842e+08
TARGET_NAME = MARS
/* CAMERA DATA ELEMENTS */
DETECTOR_TEMPERATURE = 18.5744
FOCAL_PLANE_TEMPERATURE = 7.3599
INST_CMPRS_NAME = "DISCRETE COSINE TRANSFORMATION (DCT)"
INST_CMPRS_RATIO = 7.02453
INST_CMPRS_QUALITY = 0
INST_CMPRS_QUANTZ_TBL_ID = 0
INSTRUMENT_TEMPERATURE = 9.6028
LENS_TEMPERATURE = 7.7677
MACROPIXEL_SIZE = 1
MISSING_FRAMES = 2
PIXEL_SUBSAMPLING_FLAG = N
SIGNAL_CHAIN_ID = 0
/* RADIOMETRIC DATA ELEMENTS */
BANDWIDTH = 177.0
CENTER_FILTER_WAVELENGTH = 677.5
RADIANCE_OFFSET = 2.67804
RADIANCE_SCALING_FACTOR = 0.0335556
REFLECTANCE_SCALING_FACTOR = 0.00110382
MEX:REFLECTANCE_OFFSET = 0.0880946
/* IMAGE OBJECT DEFINITIONS */
OBJECT = IMAGE
  INTERCHANGE_FORMAT = BINARY
  LINES = 40774
  LINE_SAMPLES = 15985
  SAMPLE_TYPE = UNSIGNED_INTEGER
  SAMPLE_BITS = 8
  BANDS = 1
  BAND_STORAGE_TYPE = BAND_SEQUENTIAL
  MAXIMUM = 255
  MEAN = 70.4905
  MINIMUM = 1
  STANDARD_DEVIATION = 53.4203
END_OBJECT = IMAGE
/* MAP OBJECT DEFINITIONS */
OBJECT = IMAGE_MAP_PROJECTION
  ^DATA_SET_MAP_PROJECTION_CATALOG= "DSMAP.CAT"
  A_AXIS_RADIUS = 3396.0
  B_AXIS_RADIUS = 3396.0
  C_AXIS_RADIUS = 3396.0
  CENTER_LATITUDE = 0.0
  CENTER_LONGITUDE = 344.0
  COORDINATE_SYSTEM_NAME = PLANETOGRAPHIC
  COORDINATE_SYSTEM_TYPE = "BODY-FIXED ROTATING"
  EASTERNMOST_LONGITUDE = 349.736
  FIRST_STANDARD_PARALLEL = "N/A"
  LINE_FIRST_PIXEL = 1
  LINE_LAST_PIXEL = 40774
  LINE_PROJECTION_OFFSET = 376102.0
  MAP_PROJECTION_ROTATION = 0.0
  MAP_PROJECTION_TYPE = SINUSOIDAL
  MAP_RESOLUTION = 4741.71043093333
  MAP_SCALE = 0.0125
  MAXIMUM_LATITUDE = 79.2706
  MINIMUM_LATITUDE = 70.7103
  POSITIVE_LONGITUDE_DIRECTION = EAST
  REFERENCE_LATITUDE = "N/A"
  REFERENCE_LONGITUDE = "N/A"
  SAMPLE_FIRST_PIXEL = 1
  SAMPLE_LAST_PIXEL = 15985
  SAMPLE_PROJECTION_OFFSET = 7125.0
  SECOND_STANDARD_PARALLEL = "N/A"
  WESTERNMOST_LONGITUDE = 336.439
END_OBJECT = IMAGE_MAP_PROJECTION
/* The JPEG2000 image data file associated with this label. */
OBJECT = COMPRESSED_FILE
  FILE_NAME = "H5681_0000_ND3.JP2"
  RECORD_TYPE = UNDEFINED
  FILE_RECORDS = UNK
  ENCODING_TYPE = "JP2"
  INTERCHANGE_FORMAT = BINARY
  UNCOMPRESSED_FILE_NAME = "H5681_0000_ND3.IMG"
  REQUIRED_STORAGE_BYTES = "651820345"
  ^DESCRIPTION = "JP2INFO.TXT"
END_OBJECT = COMPRESSED_FILE
END
