PDS_VERSION_ID = PDS3
/* FILE DATA ELEMENTS */
RECORD_TYPE = STREAM
/* POINTERS TO DATA OBJECTS */
^COMPRESSED_FILE = "H5685_0000_P13.JP2"
/* IDENTIFICATION DATA ELEMENTS */
DATA_SET_ID = "MEX-M-HRSC-5-REFDR-MAPPROJECTED-V3.0"
DATA_SET_NAME = "MARS EXPRESS HRSC MAP PROJECTED REFDR V3.0"
DETECTOR_ID = MEX_HRSC_P1
EVENT_TYPE = "MARS-REGIONAL-MAPPING-Gl-Pf-Eo"
INSTRUMENT_HOST_ID = MEX
INSTRUMENT_HOST_NAME = "MARS EXPRESS"
INSTRUMENT_ID = HRSC
INSTRUMENT_NAME = "HIGH RESOLUTION STEREO CAMERA"
MISSION_NAME = "MARS EXPRESS"
MISSION_PHASE_NAME = ME_Phase_12
PROCESSING_LEVEL_ID = 3
PRODUCT_CREATION_TIME = 2016-05-15T14:58:24.000Z
PRODUCT_ID = "H5685_0000_P13.JP2"
RELEASE_ID = 0064
REVISION_ID = 0000
/* QUALITY DATA ELEMENTS */
DATA_QUALITY_ID = 1
DATA_QUALITY_DESC = "Data calculated based on original SPICE kernels"
/* TIME DATA ELEMENTS */
SPACECRAFT_CLOCK_START_COUNT = "1/0160774662.09066"
SPACECRAFT_CLOCK_STOP_COUNT = "1/0160774849.53989"
START_TIME = 2008-06-05T19:38:54.598Z
STOP_TIME = 2008-06-05T19:40:32.351Z
/* ORBITAL DATA ELEMENTS */
ASCENDING_NODE_LONGITUDE = 110.18
MAXIMUM_RESOLUTION = 38
FOOTPRINT_POINT_LATITUDE = (80.8506,80.8957,80.9396,80.9822, 81.0237,81.0639,81.1028,81.1404,81.1767 ,81.2116,81.2452,81.2774,81.3194,81.429 ,81.2723,81.0605,80.8487,80.637,80.4783 ,80.1563,79.8859,79.6696,79.4536, 79.3433,79.1239,79.0137,78.9035,78.7934 ,78.5733,78.4049,78.2923,78.1236, 77.9551,77.8429,77.7308,77.6171,77.5028 ,77.3886,77.2744,77.1603,77.0464, 76.9327,76.8176,76.7013,76.5852,76.4692 ,76.3533,76.2374,76.1216,76.0039, 75.8858,75.8179,75.7995,75.7745,75.7509 ,75.7261,75.6933,75.6656,75.6367, 75.6066,75.5756,75.5432,75.5095,75.4825 ,75.5982,75.7713,75.8848,75.9984, 76.1688,76.2825,76.3962,76.5097,76.6211 ,76.7326,76.844,76.9555,77.067,77.1786, 77.3453,77.4546,77.5638,77.7277,77.837, 77.9462,78.0556,78.164,78.378,78.5916, 78.8052,78.912,79.0707,79.2794,79.4879, 79.6964,80.0058,80.1582,80.3103,80.5128 ,80.6646,80.8506)
FOOTPRINT_POINT_LONGITUDE = (293.417,294.106,294.804,295.509, 296.223,296.945,297.673,298.41,299.153, 299.904,300.664,301.431,302.497,302.83, 303.087,303.419,303.735,304.036,304.252 ,304.669,304.998,305.248,305.487, 305.605,305.838,305.949,306.057,306.164 ,306.37,306.521,306.62,306.764,306.904, 306.995,307.085,307.174,307.262,307.348 ,307.433,307.516,307.598,307.678, 307.757,307.836,307.913,307.989,308.063 ,308.136,308.208,308.279,308.349, 307.867,307.353,306.697,306.117,305.541 ,304.824,304.254,303.688,303.124, 302.564,302.007,301.453,301.015,300.909 ,300.748,300.639,300.529,300.359, 300.243,300.125,300.005,299.885,299.763 ,299.638,299.511,299.382,299.25,299.048 ,298.912,298.774,298.561,298.416, 298.268,298.116,297.963,297.652,297.328 ,296.991,296.817,296.552,296.189, 295.811,295.416,294.796,294.474,294.142 ,293.682,293.322,293.417)
ORBIT_NUMBER = 5685
ORBITAL_ECCENTRICITY = 0.567
ORBITAL_INCLINATION = 86.75
ORBITAL_SEMIMAJOR_AXIS = 8637.15
PERIAPSIS_ALTITUDE = 359.48
PERIAPSIS_ARGUMENT_ANGLE = 78.38
PERIAPSIS_TIME = 2008-06-05T19:33:15.000Z
SPACECRAFT_ORIENTATION = (0.0,1.0,0.0)
^MEX_ORIENTATION_DESC = "MEX_ORIENTATION_DESC.TXT"
SPACECRAFT_POINTING_MODE = ACROSSTRACK
^MEX_POINTING_DESC = "MEX_POINTING_DESC.TXT"
RIGHT_ASCENSION = -1e+32
DECLINATION = -1e+32
OFFSET_ANGLE = 0.4
SPACECRAFT_SOLAR_DISTANCE = 2.48803e+08
TARGET_NAME = MARS
/* CAMERA DATA ELEMENTS */
DETECTOR_TEMPERATURE = 16.7393
FOCAL_PLANE_TEMPERATURE = 7.156
INST_CMPRS_NAME = "DISCRETE COSINE TRANSFORMATION (DCT)"
INST_CMPRS_RATIO = 13.5692
INST_CMPRS_QUALITY = 0
INST_CMPRS_QUANTZ_TBL_ID = 0
INSTRUMENT_TEMPERATURE = 10.8262
LENS_TEMPERATURE = 7.9716
MACROPIXEL_SIZE = 2
MISSING_FRAMES = 0
PIXEL_SUBSAMPLING_FLAG = N
SIGNAL_CHAIN_ID = 3
/* RADIOMETRIC DATA ELEMENTS */
BANDWIDTH = 174.0
CENTER_FILTER_WAVELENGTH = 675.0
RADIANCE_OFFSET = 2.82552
RADIANCE_SCALING_FACTOR = 0.026653
REFLECTANCE_SCALING_FACTOR = 0.000887452
MEX:REFLECTANCE_OFFSET = 0.0940799
/* IMAGE OBJECT DEFINITIONS */
OBJECT = IMAGE
  INTERCHANGE_FORMAT = BINARY
  LINES = 14001
  LINE_SAMPLES = 6846
  SAMPLE_TYPE = UNSIGNED_INTEGER
  SAMPLE_BITS = 8
  BANDS = 1
  BAND_STORAGE_TYPE = BAND_SEQUENTIAL
  MAXIMUM = 255
  MEAN = 68.3094
  MINIMUM = 1
  STANDARD_DEVIATION = 39.5431
END_OBJECT = IMAGE
/* MAP OBJECT DEFINITIONS */
OBJECT = IMAGE_MAP_PROJECTION
  ^DATA_SET_MAP_PROJECTION_CATALOG= "DSMAP.CAT"
  A_AXIS_RADIUS = 3396.0
  B_AXIS_RADIUS = 3396.0
  C_AXIS_RADIUS = 3396.0
  CENTER_LATITUDE = 0.0
  CENTER_LONGITUDE = 302.0
  COORDINATE_SYSTEM_NAME = PLANETOGRAPHIC
  COORDINATE_SYSTEM_TYPE = "BODY-FIXED ROTATING"
  EASTERNMOST_LONGITUDE = 308.349
  FIRST_STANDARD_PARALLEL = "N/A"
  LINE_FIRST_PIXEL = 1
  LINE_LAST_PIXEL = 14001
  LINE_PROJECTION_OFFSET = 192971.75
  MAP_PROJECTION_ROTATION = 0.0
  MAP_PROJECTION_TYPE = SINUSOIDAL
  MAP_RESOLUTION = 2370.85521546667
  MAP_SCALE = 0.025
  MAXIMUM_LATITUDE = 81.429
  MINIMUM_LATITUDE = 75.4825
  POSITIVE_LONGITUDE_DIRECTION = EAST
  REFERENCE_LATITUDE = "N/A"
  REFERENCE_LONGITUDE = "N/A"
  SAMPLE_FIRST_PIXEL = 1
  SAMPLE_LAST_PIXEL = 6846
  SAMPLE_PROJECTION_OFFSET = 3369.25
  SECOND_STANDARD_PARALLEL = "N/A"
  WESTERNMOST_LONGITUDE = 293.322
END_OBJECT = IMAGE_MAP_PROJECTION
/* The JPEG2000 image data file associated with this label. */
OBJECT = COMPRESSED_FILE
  FILE_NAME = "H5685_0000_P13.JP2"
  RECORD_TYPE = UNDEFINED
  FILE_RECORDS = UNK
  ENCODING_TYPE = "JP2"
  INTERCHANGE_FORMAT = BINARY
  UNCOMPRESSED_FILE_NAME = "H5685_0000_P13.IMG"
  REQUIRED_STORAGE_BYTES = "95885076"
  ^DESCRIPTION = "JP2INFO.TXT"
END_OBJECT = COMPRESSED_FILE
END
