PDS_VERSION_ID = PDS3
/* FILE DATA ELEMENTS */
RECORD_TYPE = STREAM
/* POINTERS TO DATA OBJECTS */
^COMPRESSED_FILE = "H5685_0000_P23.JP2"
/* IDENTIFICATION DATA ELEMENTS */
DATA_SET_ID = "MEX-M-HRSC-5-REFDR-MAPPROJECTED-V3.0"
DATA_SET_NAME = "MARS EXPRESS HRSC MAP PROJECTED REFDR V3.0"
DETECTOR_ID = MEX_HRSC_P2
EVENT_TYPE = "MARS-REGIONAL-MAPPING-Gl-Pf-Eo"
INSTRUMENT_HOST_ID = MEX
INSTRUMENT_HOST_NAME = "MARS EXPRESS"
INSTRUMENT_ID = HRSC
INSTRUMENT_NAME = "HIGH RESOLUTION STEREO CAMERA"
MISSION_NAME = "MARS EXPRESS"
MISSION_PHASE_NAME = ME_Phase_12
PROCESSING_LEVEL_ID = 3
PRODUCT_CREATION_TIME = 2016-05-15T14:58:24.000Z
PRODUCT_ID = "H5685_0000_P23.JP2"
RELEASE_ID = 0064
REVISION_ID = 0000
/* QUALITY DATA ELEMENTS */
DATA_QUALITY_ID = 1
DATA_QUALITY_DESC = "Data calculated based on original SPICE kernels"
/* TIME DATA ELEMENTS */
SPACECRAFT_CLOCK_START_COUNT = "1/0160774662.09066"
SPACECRAFT_CLOCK_STOP_COUNT = "1/0160774849.53989"
START_TIME = 2008-06-05T19:37:59.239Z
STOP_TIME = 2008-06-05T19:39:28.214Z
/* ORBITAL DATA ELEMENTS */
ASCENDING_NODE_LONGITUDE = 110.18
MAXIMUM_RESOLUTION = 35.7
FOOTPRINT_POINT_LATITUDE = (81.0171,81.0637,81.1381,81.176,81.2127 ,81.2483,81.2825,81.3154,81.347,81.3773 ,81.4063,81.457,81.3767,81.06,80.8483, 80.6361,80.4241,80.1057,79.997,79.888, 79.7248,79.5614,79.4525,79.3436,79.2338 ,79.1244,79.0156,78.9062,78.7944, 78.6828,78.5152,78.348,78.1808,78.0135, 77.9019,77.79,77.6757,77.5613,77.3896, 77.2185,77.1042,76.9896,76.8752,76.761, 76.6449,76.5279,76.4111,76.2358,76.119, 76.0024,75.7838,75.7599,75.7423,75.7235 ,75.7036,75.6824,75.6456,75.6213, 75.5958,75.569,75.5411,75.5123,75.6035, 75.7753,75.9471,76.1187,76.2331,76.3476 ,76.4611,76.6288,76.7965,76.9641, 77.0757,77.2431,77.4103,77.575,77.6839, 77.7928,77.9558,78.0645,78.1731,78.2818 ,78.3902,78.4988,78.6588,78.8173,78.923 ,79.134,79.2395,79.3448,79.45,79.5549, 79.712,79.8653,80.0694,80.3238,80.5268, 80.6786,80.882,81.0171)
FOOTPRINT_POINT_LONGITUDE = (292.925,293.667,294.922,295.602, 296.289,296.985,297.687,298.395,299.111 ,299.834,300.564,301.952,302.597, 303.103,303.421,303.726,304.015,304.426 ,304.559,304.691,304.882,305.066, 305.186,305.304,305.423,305.538,305.647 ,305.756,305.865,305.971,306.126, 306.275,306.42,306.561,306.653,306.743, 306.834,306.924,307.055,307.18,307.263, 307.346,307.426,307.504,307.582,307.659 ,307.735,307.846,307.918,307.989, 308.118,307.308,306.77,306.234,305.702, 305.172,304.317,303.794,303.274,302.758 ,302.244,301.733,301.223,301.063, 300.898,300.729,300.614,300.497,300.378 ,300.199,300.015,299.825,299.696, 299.497,299.293,299.086,298.946,298.803 ,298.584,298.434,298.281,298.125, 297.966,297.804,297.559,297.308,297.136 ,296.783,296.6,296.414,296.224,296.03, 295.732,295.431,295.014,294.467,294.008 ,293.649,293.15,292.925)
ORBIT_NUMBER = 5685
ORBITAL_ECCENTRICITY = 0.567
ORBITAL_INCLINATION = 86.75
ORBITAL_SEMIMAJOR_AXIS = 8637.15
PERIAPSIS_ALTITUDE = 359.48
PERIAPSIS_ARGUMENT_ANGLE = 78.38
PERIAPSIS_TIME = 2008-06-05T19:33:15.000Z
SPACECRAFT_ORIENTATION = (0.0,1.0,0.0)
^MEX_ORIENTATION_DESC = "MEX_ORIENTATION_DESC.TXT"
SPACECRAFT_POINTING_MODE = ACROSSTRACK
^MEX_POINTING_DESC = "MEX_POINTING_DESC.TXT"
RIGHT_ASCENSION = -1e+32
DECLINATION = -1e+32
OFFSET_ANGLE = 0.4
SPACECRAFT_SOLAR_DISTANCE = 2.48803e+08
TARGET_NAME = MARS
/* CAMERA DATA ELEMENTS */
DETECTOR_TEMPERATURE = 18.1666
FOCAL_PLANE_TEMPERATURE = 7.156
INST_CMPRS_NAME = "DISCRETE COSINE TRANSFORMATION (DCT)"
INST_CMPRS_RATIO = 7.08947
INST_CMPRS_QUALITY = 0
INST_CMPRS_QUANTZ_TBL_ID = 0
INSTRUMENT_TEMPERATURE = 10.8262
LENS_TEMPERATURE = 7.9716
MACROPIXEL_SIZE = 2
MISSING_FRAMES = 0
PIXEL_SUBSAMPLING_FLAG = N
SIGNAL_CHAIN_ID = 3
/* RADIOMETRIC DATA ELEMENTS */
BANDWIDTH = 177.0
CENTER_FILTER_WAVELENGTH = 676.5
RADIANCE_OFFSET = 2.80092
RADIANCE_SCALING_FACTOR = 0.0265185
REFLECTANCE_SCALING_FACTOR = 0.000870396
MEX:REFLECTANCE_OFFSET = 0.0919324
/* IMAGE OBJECT DEFINITIONS */
OBJECT = IMAGE
  INTERCHANGE_FORMAT = BINARY
  LINES = 14001
  LINE_SAMPLES = 6846
  SAMPLE_TYPE = UNSIGNED_INTEGER
  SAMPLE_BITS = 8
  BANDS = 1
  BAND_STORAGE_TYPE = BAND_SEQUENTIAL
  MAXIMUM = 255
  MEAN = 70.774
  MINIMUM = 1
  STANDARD_DEVIATION = 38.0111
END_OBJECT = IMAGE
/* MAP OBJECT DEFINITIONS */
OBJECT = IMAGE_MAP_PROJECTION
  ^DATA_SET_MAP_PROJECTION_CATALOG= "DSMAP.CAT"
  A_AXIS_RADIUS = 3396.0
  B_AXIS_RADIUS = 3396.0
  C_AXIS_RADIUS = 3396.0
  CENTER_LATITUDE = 0.0
  CENTER_LONGITUDE = 302.0
  COORDINATE_SYSTEM_NAME = PLANETOGRAPHIC
  COORDINATE_SYSTEM_TYPE = "BODY-FIXED ROTATING"
  EASTERNMOST_LONGITUDE = 308.118
  FIRST_STANDARD_PARALLEL = "N/A"
  LINE_FIRST_PIXEL = 1
  LINE_LAST_PIXEL = 14001
  LINE_PROJECTION_OFFSET = 192971.75
  MAP_PROJECTION_ROTATION = 0.0
  MAP_PROJECTION_TYPE = SINUSOIDAL
  MAP_RESOLUTION = 2370.85521546667
  MAP_SCALE = 0.025
  MAXIMUM_LATITUDE = 81.45699999999999
  MINIMUM_LATITUDE = 75.5123
  POSITIVE_LONGITUDE_DIRECTION = EAST
  REFERENCE_LATITUDE = "N/A"
  REFERENCE_LONGITUDE = "N/A"
  SAMPLE_FIRST_PIXEL = 1
  SAMPLE_LAST_PIXEL = 6846
  SAMPLE_PROJECTION_OFFSET = 3369.25
  SECOND_STANDARD_PARALLEL = "N/A"
  WESTERNMOST_LONGITUDE = 292.925
END_OBJECT = IMAGE_MAP_PROJECTION
/* The JPEG2000 image data file associated with this label. */
OBJECT = COMPRESSED_FILE
  FILE_NAME = "H5685_0000_P23.JP2"
  RECORD_TYPE = UNDEFINED
  FILE_RECORDS = UNK
  ENCODING_TYPE = "JP2"
  INTERCHANGE_FORMAT = BINARY
  UNCOMPRESSED_FILE_NAME = "H5685_0000_P23.IMG"
  REQUIRED_STORAGE_BYTES = "95885076"
  ^DESCRIPTION = "JP2INFO.TXT"
END_OBJECT = COMPRESSED_FILE
END
