PDS_VERSION_ID = PDS3
/* FILE DATA ELEMENTS */
RECORD_TYPE = STREAM
/* POINTERS TO DATA OBJECTS */
^COMPRESSED_FILE = "H5686_0000_BL3.JP2"
/* IDENTIFICATION DATA ELEMENTS */
DATA_SET_ID = "MEX-M-HRSC-5-REFDR-MAPPROJECTED-V3.0"
DATA_SET_NAME = "MARS EXPRESS HRSC MAP PROJECTED REFDR V3.0"
DETECTOR_ID = MEX_HRSC_BLUE
EVENT_TYPE = "MARS-REGIONAL-MAPPING-Gl-Pf-Eo"
INSTRUMENT_HOST_ID = MEX
INSTRUMENT_HOST_NAME = "MARS EXPRESS"
INSTRUMENT_ID = HRSC
INSTRUMENT_NAME = "HIGH RESOLUTION STEREO CAMERA"
MISSION_NAME = "MARS EXPRESS"
MISSION_PHASE_NAME = ME_Phase_12
PROCESSING_LEVEL_ID = 3
PRODUCT_CREATION_TIME = 2016-05-15T14:58:24.000Z
PRODUCT_ID = "H5686_0000_BL3.JP2"
RELEASE_ID = 0064
REVISION_ID = 0000
/* QUALITY DATA ELEMENTS */
DATA_QUALITY_ID = 1
DATA_QUALITY_DESC = "Data calculated based on original SPICE kernels"
/* TIME DATA ELEMENTS */
SPACECRAFT_CLOCK_START_COUNT = "1/0160799321.07293"
SPACECRAFT_CLOCK_STOP_COUNT = "1/0160799547.31994"
START_TIME = 2008-06-06T02:29:19.116Z
STOP_TIME = 2008-06-06T02:31:20.569Z
/* ORBITAL DATA ELEMENTS */
ASCENDING_NODE_LONGITUDE = 110.16
MAXIMUM_RESOLUTION = 73.6
FOOTPRINT_POINT_LATITUDE = (79.1059,79.2251,79.3172,79.4169,79.475 ,79.5157,79.3711,79.1023,78.8274, 78.5521,78.1391,77.9294,77.7886,77.6478 ,77.5071,77.3663,77.1553,77.0123, 76.8685,76.7247,76.5091,76.3654,76.2219 ,76.076,75.9294,75.7826,75.636,75.4894, 75.3429,75.1196,74.9701,74.8207,74.6714 ,74.5222,74.3717,74.2195,74.0673, 73.9153,73.7633,73.6115,73.4566,73.3016 ,73.1468,72.9921,72.8376,72.6807, 72.5232,72.3657,72.2084,72.1737,72.153, 72.1132,72.0749,72.0302,71.9918,71.9545 ,71.8932,72.0483,72.2034,72.3586, 72.5135,72.6656,72.818,72.9704,73.1228, 73.2753,73.4249,73.5745,73.7241,73.8736 ,74.0977,74.2442,74.3908,74.5374,74.684 ,74.8307,74.9765,75.1202,75.2638, 75.4074,75.5509,75.6945,75.8374,75.9778 ,76.1182,76.3289,76.4693,76.6097, 76.7492,77.0236,77.1607,77.2976,77.4344 ,77.5713,77.8404,78.0405,78.3071, 78.6395,78.8989,79.1059)
FOOTPRINT_POINT_LONGITUDE = (194.978,196.752,198.27,200.11,201.306, 202.212,202.828,203.173,203.508,203.826 ,204.275,204.49,204.63,204.766,204.9, 205.03,205.221,205.346,205.469,205.589, 205.764,205.877,205.986,206.096,206.203 ,206.311,206.415,206.517,206.616, 206.763,206.859,206.952,207.044,207.134 ,207.223,207.311,207.397,207.482, 207.564,207.644,207.726,207.806,207.884 ,207.961,208.035,208.109,208.182, 208.255,208.325,207.592,207.08,206.175, 205.387,204.545,203.875,203.263,202.303 ,202.205,202.105,202.002,201.899, 201.794,201.688,201.579,201.468,201.355 ,201.241,201.126,201.008,200.887, 200.701,200.576,200.449,200.319,200.186 ,200.05,199.912,199.774,199.632,199.487 ,199.339,199.187,199.033,198.878, 198.719,198.476,198.308,198.137,197.963 ,197.608,197.425,197.236,197.044, 196.846,196.444,196.132,195.698,195.124 ,194.65,194.978)
ORBIT_NUMBER = 5686
ORBITAL_ECCENTRICITY = 0.568
ORBITAL_INCLINATION = 86.76
ORBITAL_SEMIMAJOR_AXIS = 8638.71
PERIAPSIS_ALTITUDE = 358.7
PERIAPSIS_ARGUMENT_ANGLE = 78.2
PERIAPSIS_TIME = 2008-06-06T02:23:43.000Z
SPACECRAFT_ORIENTATION = (0.0,1.0,0.0)
^MEX_ORIENTATION_DESC = "MEX_ORIENTATION_DESC.TXT"
SPACECRAFT_POINTING_MODE = NADIR
^MEX_POINTING_DESC = "MEX_POINTING_DESC.TXT"
RIGHT_ASCENSION = -1e+32
DECLINATION = -1e+32
OFFSET_ANGLE = -1e+32
SPACECRAFT_SOLAR_DISTANCE = 2.48793e+08
TARGET_NAME = MARS
/* CAMERA DATA ELEMENTS */
DETECTOR_TEMPERATURE = 18.1666
FOCAL_PLANE_TEMPERATURE = 7.5638
INST_CMPRS_NAME = "DISCRETE COSINE TRANSFORMATION (DCT)"
INST_CMPRS_RATIO = 17.7957
INST_CMPRS_QUALITY = 0
INST_CMPRS_QUANTZ_TBL_ID = 0
INSTRUMENT_TEMPERATURE = 10.8262
LENS_TEMPERATURE = 7.9716
MACROPIXEL_SIZE = 4
MISSING_FRAMES = 0
PIXEL_SUBSAMPLING_FLAG = N
SIGNAL_CHAIN_ID = 2
/* RADIOMETRIC DATA ELEMENTS */
BANDWIDTH = 76.0
CENTER_FILTER_WAVELENGTH = 444.0
RADIANCE_OFFSET = 0.562177
RADIANCE_SCALING_FACTOR = 0.00440923
REFLECTANCE_SCALING_FACTOR = 0.000280411
MEX:REFLECTANCE_OFFSET = 0.0357523
/* IMAGE OBJECT DEFINITIONS */
OBJECT = IMAGE
  INTERCHANGE_FORMAT = BINARY
  LINES = 9012
  LINE_SAMPLES = 3841
  SAMPLE_TYPE = UNSIGNED_INTEGER
  SAMPLE_BITS = 8
  BANDS = 1
  BAND_STORAGE_TYPE = BAND_SEQUENTIAL
  MAXIMUM = 255
  MEAN = 32.0192
  MINIMUM = 1
  STANDARD_DEVIATION = 15.6512
END_OBJECT = IMAGE
/* MAP OBJECT DEFINITIONS */
OBJECT = IMAGE_MAP_PROJECTION
  ^DATA_SET_MAP_PROJECTION_CATALOG= "DSMAP.CAT"
  A_AXIS_RADIUS = 3396.0
  B_AXIS_RADIUS = 3396.0
  C_AXIS_RADIUS = 3396.0
  CENTER_LATITUDE = 0.0
  CENTER_LONGITUDE = 203.0
  COORDINATE_SYSTEM_NAME = PLANETOGRAPHIC
  COORDINATE_SYSTEM_TYPE = "BODY-FIXED ROTATING"
  EASTERNMOST_LONGITUDE = 208.325
  FIRST_STANDARD_PARALLEL = "N/A"
  LINE_FIRST_PIXEL = 1
  LINE_LAST_PIXEL = 9012
  LINE_PROJECTION_OFFSET = 94255.625
  MAP_PROJECTION_ROTATION = 0.0
  MAP_PROJECTION_TYPE = SINUSOIDAL
  MAP_RESOLUTION = 1185.42760773333
  MAP_SCALE = 0.05
  MAXIMUM_LATITUDE = 79.5157
  MINIMUM_LATITUDE = 71.89319999999999
  POSITIVE_LONGITUDE_DIRECTION = EAST
  REFERENCE_LATITUDE = "N/A"
  REFERENCE_LONGITUDE = "N/A"
  SAMPLE_FIRST_PIXEL = 1
  SAMPLE_LAST_PIXEL = 3841
  SAMPLE_PROJECTION_OFFSET = 1934.375
  SECOND_STANDARD_PARALLEL = "N/A"
  WESTERNMOST_LONGITUDE = 194.65
END_OBJECT = IMAGE_MAP_PROJECTION
/* The JPEG2000 image data file associated with this label. */
OBJECT = COMPRESSED_FILE
  FILE_NAME = "H5686_0000_BL3.JP2"
  RECORD_TYPE = UNDEFINED
  FILE_RECORDS = UNK
  ENCODING_TYPE = "JP2"
  INTERCHANGE_FORMAT = BINARY
  UNCOMPRESSED_FILE_NAME = "H5686_0000_BL3.IMG"
  REQUIRED_STORAGE_BYTES = "34638138"
  ^DESCRIPTION = "JP2INFO.TXT"
END_OBJECT = COMPRESSED_FILE
END
