PDS_VERSION_ID = PDS3
/* FILE DATA ELEMENTS */
RECORD_TYPE = STREAM
/* POINTERS TO DATA OBJECTS */
^COMPRESSED_FILE = "H5694_0000_P13.JP2"
/* IDENTIFICATION DATA ELEMENTS */
DATA_SET_ID = "MEX-M-HRSC-5-REFDR-MAPPROJECTED-V3.0"
DATA_SET_NAME = "MARS EXPRESS HRSC MAP PROJECTED REFDR V3.0"
DETECTOR_ID = MEX_HRSC_P1
EVENT_TYPE = "MARS-REGIONAL-MAPPING-Gl-La"
INSTRUMENT_HOST_ID = MEX
INSTRUMENT_HOST_NAME = "MARS EXPRESS"
INSTRUMENT_ID = HRSC
INSTRUMENT_NAME = "HIGH RESOLUTION STEREO CAMERA"
MISSION_NAME = "MARS EXPRESS"
MISSION_PHASE_NAME = ME_Phase_12
PROCESSING_LEVEL_ID = 3
PRODUCT_CREATION_TIME = 2016-05-15T14:58:24.000Z
PRODUCT_ID = "H5694_0000_P13.JP2"
RELEASE_ID = 0064
REVISION_ID = 0000
/* QUALITY DATA ELEMENTS */
DATA_QUALITY_ID = 1
DATA_QUALITY_DESC = "Data calculated based on original SPICE kernels"
/* TIME DATA ELEMENTS */
SPACECRAFT_CLOCK_START_COUNT = "1/0160996130.09053"
SPACECRAFT_CLOCK_STOP_COUNT = "1/0160996423.08188"
START_TIME = 2008-06-08T09:09:51.619Z
STOP_TIME = 2008-06-08T09:13:28.585Z
/* ORBITAL DATA ELEMENTS */
ASCENDING_NODE_LONGITUDE = 110.01
MAXIMUM_RESOLUTION = 31.3
FOOTPRINT_POINT_LATITUDE = (82.7587,82.7928,82.8214,82.8442, 82.8658,83.1757,83.4374,83.6985,83.9598 ,84.2206,84.4832,84.875,85.2642,85.5234 ,85.9096,86.1682,86.4246,86.808,87.0622 ,87.3142,87.5659,87.8148,88.0607, 88.4289,88.667,88.8929,89.0975,89.2635, 89.3596,89.3544,89.2465,88.9678,88.7446 ,88.5074,88.1307,87.8714,87.6096, 87.3454,87.0816,86.8097,86.5365,86.2649 ,85.8563,85.4399,85.0171,84.7407, 84.4555,84.0286,83.7432,83.6469,83.5874 ,83.5351,83.4804,83.4116,83.3474, 83.2421,83.5117,83.7796,84.0484,84.3112 ,84.5698,84.8293,85.081,85.4525,85.6937 ,85.9299,86.1619,86.493,86.7026,86.9021 ,87.1776,87.4865,87.6088,87.7062, 87.7749,87.8206,87.7934,87.7369,87.5999 ,87.4775,87.2569,87.0928,86.9153, 86.7268,86.5296,86.324,86.0033,85.7826, 85.5578,85.3282,85.0952,84.8573,84.6194 ,84.2594,83.8951,83.5264,83.2788, 83.0298,82.7794,82.7587)
FOOTPRINT_POINT_LONGITUDE = (330.563,328.941,327.27,325.55,322.988, 321.767,321.964,322.174,322.412,322.668 ,323.001,323.532,324.106,324.555, 325.288,325.929,326.606,327.845,328.846 ,329.981,331.452,333.207,335.388, 340.085,344.61,351.118,360.655,375.033, 395.604,419.551,439.914,458.934,466.418 ,471.589,476.859,479.342,481.283, 482.826,484.119,485.177,486.077,486.878 ,487.864,488.694,489.312,489.737, 490.057,490.533,490.8,488.18,485.604, 483.706,481.999,480.075,478.482,476.141 ,475.345,474.475,473.526,472.502, 471.381,470.148,468.776,466.47,464.721, 462.76,460.554,456.763,453.836,450.517, 444.681,435.18,429.622,423.522,416.965, 406.561,396.297,389.716,380.581,375.153 ,368.028,363.995,360.379,357.183, 354.381,351.856,348.558,346.642,344.928 ,343.359,341.941,340.614,339.458, 337.922,336.569,335.361,334.632,333.952 ,333.318,330.563)
ORBIT_NUMBER = 5694
ORBITAL_ECCENTRICITY = 0.567
ORBITAL_INCLINATION = 86.75
ORBITAL_SEMIMAJOR_AXIS = 8638.2
PERIAPSIS_ALTITUDE = 359.45
PERIAPSIS_ARGUMENT_ANGLE = 76.78
PERIAPSIS_TIME = 2008-06-08T09:07:55.000Z
SPACECRAFT_ORIENTATION = (0.0,1.0,0.0)
^MEX_ORIENTATION_DESC = "MEX_ORIENTATION_DESC.TXT"
SPACECRAFT_POINTING_MODE = ACROSSTRACK
^MEX_POINTING_DESC = "MEX_POINTING_DESC.TXT"
RIGHT_ASCENSION = -1e+32
DECLINATION = -1e+32
OFFSET_ANGLE = 1.7
SPACECRAFT_SOLAR_DISTANCE = 2.48708e+08
TARGET_NAME = MARS
/* CAMERA DATA ELEMENTS */
DETECTOR_TEMPERATURE = 17.1471
FOCAL_PLANE_TEMPERATURE = 7.5638
INST_CMPRS_NAME = "DISCRETE COSINE TRANSFORMATION (DCT)"
INST_CMPRS_RATIO = 11.6922
INST_CMPRS_QUALITY = 0
INST_CMPRS_QUANTZ_TBL_ID = 0
INSTRUMENT_TEMPERATURE = 10.0106
LENS_TEMPERATURE = 8.7872
MACROPIXEL_SIZE = 2
MISSING_FRAMES = 0
PIXEL_SUBSAMPLING_FLAG = N
SIGNAL_CHAIN_ID = 3
/* RADIOMETRIC DATA ELEMENTS */
BANDWIDTH = 174.0
CENTER_FILTER_WAVELENGTH = 675.0
RADIANCE_OFFSET = 2.87967
RADIANCE_SCALING_FACTOR = 0.0258589
REFLECTANCE_SCALING_FACTOR = 0.00086035
MEX:REFLECTANCE_OFFSET = 0.0958093
/* IMAGE OBJECT DEFINITIONS */
OBJECT = IMAGE
  INTERCHANGE_FORMAT = BINARY
  LINES = 25385
  LINE_SAMPLES = 24690
  SAMPLE_TYPE = UNSIGNED_INTEGER
  SAMPLE_BITS = 8
  BANDS = 1
  BAND_STORAGE_TYPE = BAND_SEQUENTIAL
  MAXIMUM = 255
  MEAN = 165.918
  MINIMUM = 1
  STANDARD_DEVIATION = 52.1103
END_OBJECT = IMAGE
/* MAP OBJECT DEFINITIONS */
OBJECT = IMAGE_MAP_PROJECTION
  ^DATA_SET_MAP_PROJECTION_CATALOG= "DSMAP.CAT"
  A_AXIS_RADIUS = 3396.0
  B_AXIS_RADIUS = 3396.0
  C_AXIS_RADIUS = 3396.0
  CENTER_LATITUDE = 90.0
  CENTER_LONGITUDE = 0.0
  COORDINATE_SYSTEM_NAME = PLANETOGRAPHIC
  COORDINATE_SYSTEM_TYPE = "BODY-FIXED ROTATING"
  EASTERNMOST_LONGITUDE = 130.8
  FIRST_STANDARD_PARALLEL = "N/A"
  LINE_FIRST_PIXEL = 1
  LINE_LAST_PIXEL = 25385
  LINE_PROJECTION_OFFSET = 9567.75
  MAP_PROJECTION_ROTATION = 0.0
  MAP_PROJECTION_TYPE = STEREOGRAPHIC
  MAP_RESOLUTION = 2370.85521546667
  MAP_SCALE = 0.025
  MAXIMUM_LATITUDE = 89.3596
  MINIMUM_LATITUDE = 82.7587
  POSITIVE_LONGITUDE_DIRECTION = EAST
  REFERENCE_LATITUDE = "N/A"
  REFERENCE_LONGITUDE = "N/A"
  SAMPLE_FIRST_PIXEL = 1
  SAMPLE_LAST_PIXEL = 24690
  SAMPLE_PROJECTION_OFFSET = 10304.75
  SECOND_STANDARD_PARALLEL = "N/A"
  WESTERNMOST_LONGITUDE = -38.233
END_OBJECT = IMAGE_MAP_PROJECTION
/* The JPEG2000 image data file associated with this label. */
OBJECT = COMPRESSED_FILE
  FILE_NAME = "H5694_0000_P13.JP2"
  RECORD_TYPE = UNDEFINED
  FILE_RECORDS = UNK
  ENCODING_TYPE = "JP2"
  INTERCHANGE_FORMAT = BINARY
  UNCOMPRESSED_FILE_NAME = "H5694_0000_P13.IMG"
  REQUIRED_STORAGE_BYTES = "626829720"
  ^DESCRIPTION = "JP2INFO.TXT"
END_OBJECT = COMPRESSED_FILE
END
