PDS_VERSION_ID = PDS3
/* FILE DATA ELEMENTS */
RECORD_TYPE = STREAM
/* POINTERS TO DATA OBJECTS */
^COMPRESSED_FILE = "H5698_0000_RE3.JP2"
/* IDENTIFICATION DATA ELEMENTS */
DATA_SET_ID = "MEX-M-HRSC-5-REFDR-MAPPROJECTED-V3.0"
DATA_SET_NAME = "MARS EXPRESS HRSC MAP PROJECTED REFDR V3.0"
DETECTOR_ID = MEX_HRSC_RED
EVENT_TYPE = "MARS-REGIONAL-MAPPING-Gl-Pf-Eo"
INSTRUMENT_HOST_ID = MEX
INSTRUMENT_HOST_NAME = "MARS EXPRESS"
INSTRUMENT_ID = HRSC
INSTRUMENT_NAME = "HIGH RESOLUTION STEREO CAMERA"
MISSION_NAME = "MARS EXPRESS"
MISSION_PHASE_NAME = ME_Phase_13
PROCESSING_LEVEL_ID = 3
PRODUCT_CREATION_TIME = 2016-05-15T14:58:24.000Z
PRODUCT_ID = "H5698_0000_RE3.JP2"
RELEASE_ID = 0064
REVISION_ID = 0000
/* QUALITY DATA ELEMENTS */
DATA_QUALITY_ID = 1
DATA_QUALITY_DESC = "Data calculated based on original SPICE kernels"
/* TIME DATA ELEMENTS */
SPACECRAFT_CLOCK_START_COUNT = "1/0161094913.07282"
SPACECRAFT_CLOCK_STOP_COUNT = "1/0161095138.31765"
START_TIME = 2008-06-09T12:35:23.897Z
STOP_TIME = 2008-06-09T12:37:16.500Z
/* ORBITAL DATA ELEMENTS */
ASCENDING_NODE_LONGITUDE = 109.92
MAXIMUM_RESOLUTION = 75.3
FOOTPRINT_POINT_LATITUDE = (80.1166,80.1956,80.3059,80.4111, 80.5109,80.6054,80.6946,80.7787,80.5412 ,80.2856,80.0281,79.7699,79.4466, 79.2486,79.1158,78.983,78.8499,78.7168, 78.5167,78.3833,78.2477,78.1112,77.9746 ,77.8379,77.7009,77.564,77.4272,77.2182 ,77.0781,76.9379,76.7275,76.5872, 76.4471,76.3045,76.0893,75.9457,75.8022 ,75.6586,75.5152,75.3691,75.2223, 75.0019,74.8553,74.7088,74.5614,74.4115 ,74.2616,74.112,73.9622,73.8125,73.6757 ,73.6228,73.5578,73.5189,73.4785, 73.4173,73.3576,73.3164,73.325,73.4719, 73.6185,73.7652,73.912,74.1317,74.275, 74.4185,74.5619,74.705,74.8484,74.9913, 75.2013,75.3412,75.481,75.6208,75.7605, 75.8995,76.0359,76.1722,76.3764,76.5126 ,76.7164,76.9175,77.05,77.1825,77.3146, 77.4468,77.6444,77.7757,77.9041,78.0324 ,78.1604,78.2883,78.4161,78.5436, 78.7969,78.9824,79.2286,79.5352,79.8393 ,80.1166)
FOOTPRINT_POINT_LONGITUDE = (66.9436,67.7521,68.9421,70.1508,71.377 ,72.6193,73.8787,75.1563,75.7317, 76.2817,76.8049,77.3014,77.8864,78.2259 ,78.4463,78.6611,78.8708,79.0753, 79.3732,79.5658,79.7567,79.9442,80.1274 ,80.3063,80.4813,80.6521,80.8189, 81.0665,81.2275,81.3851,81.615,81.764, 81.9096,82.0545,82.2673,82.4053,82.5404 ,82.6727,82.802,82.931,83.0579,83.2436, 83.3638,83.4815,83.5975,83.7132,83.8265 ,83.9373,84.0461,84.1526,83.3914, 82.5665,81.6265,81.0986,80.5709,79.8099 ,79.1096,78.6433,77.8558,77.7183, 77.5777,77.4345,77.2884,77.0645,76.9137 ,76.7601,76.6033,76.443,76.2798,76.1133 ,75.8619,75.6899,75.5143,75.335,75.1519 ,74.9658,74.7788,74.5879,74.2938, 74.0925,73.782,73.4651,73.2501,73.0307, 72.8061,72.5766,72.2224,71.9801,71.7374 ,71.4891,71.2351,70.9753,70.7095, 70.4374,69.8751,69.4447,68.8465,68.0576 ,67.2221,66.9436)
ORBIT_NUMBER = 5698
ORBITAL_ECCENTRICITY = 0.568
ORBITAL_INCLINATION = 86.76
ORBITAL_SEMIMAJOR_AXIS = 8637.73
PERIAPSIS_ALTITUDE = 358.19
PERIAPSIS_ARGUMENT_ANGLE = 76.09
PERIAPSIS_TIME = 2008-06-09T12:30:04.000Z
SPACECRAFT_ORIENTATION = (0.0,1.0,0.0)
^MEX_ORIENTATION_DESC = "MEX_ORIENTATION_DESC.TXT"
SPACECRAFT_POINTING_MODE = ACROSSTRACK
^MEX_POINTING_DESC = "MEX_POINTING_DESC.TXT"
RIGHT_ASCENSION = -1e+32
DECLINATION = -1e+32
OFFSET_ANGLE = -0.687
SPACECRAFT_SOLAR_DISTANCE = 2.48663e+08
TARGET_NAME = MARS
/* CAMERA DATA ELEMENTS */
DETECTOR_TEMPERATURE = 18.1666
FOCAL_PLANE_TEMPERATURE = 7.7677
INST_CMPRS_NAME = "DISCRETE COSINE TRANSFORMATION (DCT)"
INST_CMPRS_RATIO = 20.4508
INST_CMPRS_QUALITY = 0
INST_CMPRS_QUANTZ_TBL_ID = 0
INSTRUMENT_TEMPERATURE = 10.8262
LENS_TEMPERATURE = 7.9716
MACROPIXEL_SIZE = 4
MISSING_FRAMES = 0
PIXEL_SUBSAMPLING_FLAG = N
SIGNAL_CHAIN_ID = 2
/* RADIOMETRIC DATA ELEMENTS */
BANDWIDTH = 48.0
CENTER_FILTER_WAVELENGTH = 748.0
RADIANCE_OFFSET = 0.710036
RADIANCE_SCALING_FACTOR = 0.00600098
REFLECTANCE_SCALING_FACTOR = 0.000846779
MEX:REFLECTANCE_OFFSET = 0.100191
/* IMAGE OBJECT DEFINITIONS */
OBJECT = IMAGE
  INTERCHANGE_FORMAT = BINARY
  LINES = 4372
  LINE_SAMPLES = 2297
  SAMPLE_TYPE = UNSIGNED_INTEGER
  SAMPLE_BITS = 8
  BANDS = 1
  BAND_STORAGE_TYPE = BAND_SEQUENTIAL
  MAXIMUM = 255
  MEAN = 122.019
  MINIMUM = 1
  STANDARD_DEVIATION = 59.9919
END_OBJECT = IMAGE
/* MAP OBJECT DEFINITIONS */
OBJECT = IMAGE_MAP_PROJECTION
  ^DATA_SET_MAP_PROJECTION_CATALOG= "DSMAP.CAT"
  A_AXIS_RADIUS = 3396.0
  B_AXIS_RADIUS = 3396.0
  C_AXIS_RADIUS = 3396.0
  CENTER_LATITUDE = 0.0
  CENTER_LONGITUDE = 77.0
  COORDINATE_SYSTEM_NAME = PLANETOGRAPHIC
  COORDINATE_SYSTEM_TYPE = "BODY-FIXED ROTATING"
  EASTERNMOST_LONGITUDE = 84.15260000000001
  FIRST_STANDARD_PARALLEL = "N/A"
  LINE_FIRST_PIXEL = 1
  LINE_LAST_PIXEL = 4372
  LINE_PROJECTION_OFFSET = 47815.875
  MAP_PROJECTION_ROTATION = 0.0
  MAP_PROJECTION_TYPE = SINUSOIDAL
  MAP_RESOLUTION = 592.713803866667
  MAP_SCALE = 0.1
  MAXIMUM_LATITUDE = 80.7787
  MINIMUM_LATITUDE = 73.3164
  POSITIVE_LONGITUDE_DIRECTION = EAST
  REFERENCE_LATITUDE = "N/A"
  REFERENCE_LONGITUDE = "N/A"
  SAMPLE_FIRST_PIXEL = 1
  SAMPLE_LAST_PIXEL = 2297
  SAMPLE_PROJECTION_OFFSET = 1071.375
  SECOND_STANDARD_PARALLEL = "N/A"
  WESTERNMOST_LONGITUDE = 66.9436
END_OBJECT = IMAGE_MAP_PROJECTION
/* The JPEG2000 image data file associated with this label. */
OBJECT = COMPRESSED_FILE
  FILE_NAME = "H5698_0000_RE3.JP2"
  RECORD_TYPE = UNDEFINED
  FILE_RECORDS = UNK
  ENCODING_TYPE = "JP2"
  INTERCHANGE_FORMAT = BINARY
  UNCOMPRESSED_FILE_NAME = "H5698_0000_RE3.IMG"
  REQUIRED_STORAGE_BYTES = "10065454"
  ^DESCRIPTION = "JP2INFO.TXT"
END_OBJECT = COMPRESSED_FILE
END
