PDS_VERSION_ID = PDS3
/* FILE DATA ELEMENTS */
RECORD_TYPE = STREAM
/* POINTERS TO DATA OBJECTS */
^COMPRESSED_FILE = "H5700_0000_RE3.JP2"
/* IDENTIFICATION DATA ELEMENTS */
DATA_SET_ID = "MEX-M-HRSC-5-REFDR-MAPPROJECTED-V3.0"
DATA_SET_NAME = "MARS EXPRESS HRSC MAP PROJECTED REFDR V3.0"
DETECTOR_ID = MEX_HRSC_RED
EVENT_TYPE = "MARS-REGIONAL-MAPPING-Gl-Pf-Eo"
INSTRUMENT_HOST_ID = MEX
INSTRUMENT_HOST_NAME = "MARS EXPRESS"
INSTRUMENT_ID = HRSC
INSTRUMENT_NAME = "HIGH RESOLUTION STEREO CAMERA"
MISSION_NAME = "MARS EXPRESS"
MISSION_PHASE_NAME = ME_Phase_13
PROCESSING_LEVEL_ID = 3
PRODUCT_CREATION_TIME = 2016-05-15T14:58:24.000Z
PRODUCT_ID = "H5700_0000_RE3.JP2"
RELEASE_ID = 0064
REVISION_ID = 0000
/* QUALITY DATA ELEMENTS */
DATA_QUALITY_ID = 2
DATA_QUALITY_DESC = "Data calculated based on photogrammetrically improved orbit and attitude data"
/* TIME DATA ELEMENTS */
SPACECRAFT_CLOCK_START_COUNT = "1/0161144129.07301"
SPACECRAFT_CLOCK_STOP_COUNT = "1/0161144353.36791"
START_TIME = 2008-06-10T02:15:39.319Z
STOP_TIME = 2008-06-10T02:17:39.550Z
/* ORBITAL DATA ELEMENTS */
ASCENDING_NODE_LONGITUDE = 109.89
MAXIMUM_RESOLUTION = 71.7
FOOTPRINT_POINT_LATITUDE = (83.359,83.4783,83.6204,83.7346,83.8176 ,83.9146,83.9946,83.7682,83.502,83.1662 ,82.9592,82.7504,82.5418,82.4022, 82.2623,82.1218,81.9811,81.8372,81.6204 ,81.4755,81.2578,81.1124,80.9666, 80.7462,80.597,80.3729,80.2235,80.0739, 79.9241,79.7741,79.5448,79.391,79.2372, 79.0063,78.8525,78.6988,78.4628,78.3053 ,78.1473,77.9897,77.8319,77.6743, 77.5132,77.3518,77.1905,77.0292,76.868, 76.7065,76.5416,76.4183,76.3687,76.3175 ,76.2583,76.1897,76.0979,76.1406, 76.3011,76.5373,76.6946,76.9302,77.0872 ,77.2441,77.3978,77.5506,77.7816, 78.0093,78.1608,78.3868,78.5355,78.6838 ,78.8322,78.9805,79.1282,79.2752, 79.4195,79.5638,79.7071,79.8504,79.9934 ,80.1361,80.2784,80.4169,80.5551, 80.6929,80.8303,80.9673,81.1039,81.24, 81.3752,81.6384,81.7692,81.8995,82.0292 ,82.1583,82.2868,82.4145,82.663,82.8461 ,83.0871,83.359)
FOOTPRINT_POINT_LONGITUDE = (220.462,221.991,223.983,225.745, 227.136,228.902,230.496,231.947,232.985 ,234.169,234.836,235.469,236.061, 236.438,236.802,237.154,237.493,237.827 ,238.306,238.613,239.052,239.334, 239.607,240.002,240.256,240.625,240.86, 241.088,241.309,241.524,241.841,242.045 ,242.243,242.529,242.713,242.891, 243.155,243.325,243.491,243.652,243.809 ,243.961,244.112,244.26,244.404,244.544 ,244.68,244.813,244.945,244.054,242.965 ,241.953,240.881,239.753,238.375,237.74 ,237.553,237.269,237.074,236.771, 236.563,236.35,236.135,235.915,235.573, 235.218,234.972,234.598,234.342,234.078 ,233.807,233.528,233.241,232.948, 232.651,232.346,232.032,231.708,231.375 ,231.031,230.677,230.321,229.954, 229.576,229.186,228.783,228.368,227.939 ,227.498,226.592,226.116,225.625, 225.116,224.591,224.047,223.485,222.322 ,221.403,220.1,220.462)
ORBIT_NUMBER = 5700
ORBITAL_ECCENTRICITY = 0.568
ORBITAL_INCLINATION = 86.75
ORBITAL_SEMIMAJOR_AXIS = 8640.84
PERIAPSIS_ALTITUDE = 358.52
PERIAPSIS_ARGUMENT_ANGLE = 75.73
PERIAPSIS_TIME = 2008-06-10T02:11:04.000Z
SPACECRAFT_ORIENTATION = (0.0,1.0,0.0)
^MEX_ORIENTATION_DESC = "MEX_ORIENTATION_DESC.TXT"
SPACECRAFT_POINTING_MODE = NADIR
^MEX_POINTING_DESC = "MEX_POINTING_DESC.TXT"
RIGHT_ASCENSION = -1e+32
DECLINATION = -1e+32
OFFSET_ANGLE = -1e+32
SPACECRAFT_SOLAR_DISTANCE = 2.48639e+08
TARGET_NAME = MARS
/* CAMERA DATA ELEMENTS */
DETECTOR_TEMPERATURE = 18.3705
FOCAL_PLANE_TEMPERATURE = 7.7677
INST_CMPRS_NAME = "DISCRETE COSINE TRANSFORMATION (DCT)"
INST_CMPRS_RATIO = 8.7218
INST_CMPRS_QUALITY = 0
INST_CMPRS_QUANTZ_TBL_ID = 0
INSTRUMENT_TEMPERATURE = 10.8262
LENS_TEMPERATURE = 9.195
MACROPIXEL_SIZE = 4
MISSING_FRAMES = 0
PIXEL_SUBSAMPLING_FLAG = N
SIGNAL_CHAIN_ID = 2
/* RADIOMETRIC DATA ELEMENTS */
BANDWIDTH = 48.0
CENTER_FILTER_WAVELENGTH = 748.0
RADIANCE_OFFSET = 0.860666
RADIANCE_SCALING_FACTOR = 0.00690374
REFLECTANCE_SCALING_FACTOR = 0.000973975
MEX:REFLECTANCE_OFFSET = 0.121422
/* IMAGE OBJECT DEFINITIONS */
OBJECT = IMAGE
  INTERCHANGE_FORMAT = BINARY
  LINES = 9273
  LINE_SAMPLES = 4822
  SAMPLE_TYPE = UNSIGNED_INTEGER
  SAMPLE_BITS = 8
  BANDS = 1
  BAND_STORAGE_TYPE = BAND_SEQUENTIAL
  MAXIMUM = 255
  MEAN = 124.503
  MINIMUM = 1
  STANDARD_DEVIATION = 62.148
END_OBJECT = IMAGE
/* MAP OBJECT DEFINITIONS */
OBJECT = IMAGE_MAP_PROJECTION
  ^DATA_SET_MAP_PROJECTION_CATALOG= "DSMAP.CAT"
  A_AXIS_RADIUS = 3396.0
  B_AXIS_RADIUS = 3396.0
  C_AXIS_RADIUS = 3396.0
  CENTER_LATITUDE = 0.0
  CENTER_LONGITUDE = 236.0
  COORDINATE_SYSTEM_NAME = PLANETOGRAPHIC
  COORDINATE_SYSTEM_TYPE = "BODY-FIXED ROTATING"
  EASTERNMOST_LONGITUDE = 244.945
  FIRST_STANDARD_PARALLEL = "N/A"
  LINE_FIRST_PIXEL = 1
  LINE_LAST_PIXEL = 9273
  LINE_PROJECTION_OFFSET = 99470.625
  MAP_PROJECTION_ROTATION = 0.0
  MAP_PROJECTION_TYPE = SINUSOIDAL
  MAP_RESOLUTION = 1185.42760773333
  MAP_SCALE = 0.05
  MAXIMUM_LATITUDE = 83.99460000000001
  MINIMUM_LATITUDE = 76.0979
  POSITIVE_LONGITUDE_DIRECTION = EAST
  REFERENCE_LATITUDE = "N/A"
  REFERENCE_LONGITUDE = "N/A"
  SAMPLE_FIRST_PIXEL = 1
  SAMPLE_LAST_PIXEL = 4822
  SAMPLE_PROJECTION_OFFSET = 2288.875
  SECOND_STANDARD_PARALLEL = "N/A"
  WESTERNMOST_LONGITUDE = 220.1
END_OBJECT = IMAGE_MAP_PROJECTION
/* The JPEG2000 image data file associated with this label. */
OBJECT = COMPRESSED_FILE
  FILE_NAME = "H5700_0000_RE3.JP2"
  RECORD_TYPE = UNDEFINED
  FILE_RECORDS = UNK
  ENCODING_TYPE = "JP2"
  INTERCHANGE_FORMAT = BINARY
  UNCOMPRESSED_FILE_NAME = "H5700_0000_RE3.IMG"
  REQUIRED_STORAGE_BYTES = "44738516"
  ^DESCRIPTION = "JP2INFO.TXT"
END_OBJECT = COMPRESSED_FILE
END
