PDS_VERSION_ID = PDS3
/* FILE DATA ELEMENTS */
RECORD_TYPE = STREAM
/* POINTERS TO DATA OBJECTS */
^COMPRESSED_FILE = "H5700_0000_S13.JP2"
/* IDENTIFICATION DATA ELEMENTS */
DATA_SET_ID = "MEX-M-HRSC-5-REFDR-MAPPROJECTED-V3.0"
DATA_SET_NAME = "MARS EXPRESS HRSC MAP PROJECTED REFDR V3.0"
DETECTOR_ID = MEX_HRSC_S1
EVENT_TYPE = "MARS-REGIONAL-MAPPING-Gl-Pf-Eo"
INSTRUMENT_HOST_ID = MEX
INSTRUMENT_HOST_NAME = "MARS EXPRESS"
INSTRUMENT_ID = HRSC
INSTRUMENT_NAME = "HIGH RESOLUTION STEREO CAMERA"
MISSION_NAME = "MARS EXPRESS"
MISSION_PHASE_NAME = ME_Phase_13
PROCESSING_LEVEL_ID = 3
PRODUCT_CREATION_TIME = 2016-05-15T14:58:24.000Z
PRODUCT_ID = "H5700_0000_S13.JP2"
RELEASE_ID = 0064
REVISION_ID = 0000
/* QUALITY DATA ELEMENTS */
DATA_QUALITY_ID = 2
DATA_QUALITY_DESC = "Data calculated based on photogrammetrically improved orbit and attitude data"
/* TIME DATA ELEMENTS */
SPACECRAFT_CLOCK_START_COUNT = "1/0161144129.07301"
SPACECRAFT_CLOCK_STOP_COUNT = "1/0161144353.36791"
START_TIME = 2008-06-10T02:16:56.729Z
STOP_TIME = 2008-06-10T02:19:15.185Z
/* ORBITAL DATA ELEMENTS */
ASCENDING_NODE_LONGITUDE = 109.89
MAXIMUM_RESOLUTION = 40
FOOTPRINT_POINT_LATITUDE = (83.1229,83.2221,83.3492,83.5209, 83.6321,83.7489,83.8274,83.6227,83.3438 ,83.2021,82.9223,82.5653,82.4196, 82.2743,82.1294,81.9847,81.8387,81.6898 ,81.5411,81.3922,81.2435,81.0948, 80.8676,80.7156,80.5637,80.4113,80.1828 ,80.0308,79.879,79.7272,79.5756,79.4241 ,79.2727,79.1214,78.97,78.8187,78.6677, 78.5168,78.2907,78.1406,77.9901,77.7645 ,77.6137,77.4647,77.315,77.0906,76.8654 ,76.5143,76.4897,76.4627,76.431,76.4017 ,76.3422,76.282,76.2313,76.1473,76.1662 ,76.3839,76.529,76.6741,76.8194,76.9649 ,77.1106,77.2556,77.4011,77.5466, 77.7632,77.9108,78.0578,78.2037,78.3486 ,78.4945,78.6399,78.7853,79.0039, 79.1491,79.3668,79.5842,79.7292,79.874, 80.0186,80.1631,80.3074,80.5225,80.6633 ,80.8037,80.9438,81.0836,81.2914, 81.4273,81.5627,81.6978,81.8324,82.0325 ,82.2276,82.4856,82.6774,82.8041, 83.0498,83.1229)
FOOTPRINT_POINT_LONGITUDE = (220.844,222.131,223.904,226.566, 228.496,230.748,232.502,233.307,234.317 ,234.793,235.683,236.708,237.094, 237.466,237.823,238.167,238.5,238.826, 239.14,239.443,239.734,240.016,240.428, 240.692,240.946,241.192,241.545,241.772 ,241.991,242.203,242.409,242.609, 242.802,242.99,243.172,243.349,243.521, 243.688,243.93,244.086,244.238,244.458, 244.599,244.738,244.873,245.068,245.256 ,245.29,244.633,243.979,243.247,242.6, 241.394,240.276,239.405,238.071,237.181 ,236.923,236.747,236.566,236.381,236.19 ,235.994,235.796,235.591,235.38,235.06, 234.828,234.591,234.353,234.111,233.858 ,233.601,233.335,232.92,232.635,232.191 ,231.727,231.405,231.073,230.73,230.377 ,230.011,229.443,229.055,228.654,228.24 ,227.812,227.147,226.691,226.22,225.733 ,225.228,224.44,223.626,222.471,221.547 ,220.904,219.573,220.844)
ORBIT_NUMBER = 5700
ORBITAL_ECCENTRICITY = 0.568
ORBITAL_INCLINATION = 86.75
ORBITAL_SEMIMAJOR_AXIS = 8640.84
PERIAPSIS_ALTITUDE = 358.52
PERIAPSIS_ARGUMENT_ANGLE = 75.73
PERIAPSIS_TIME = 2008-06-10T02:11:04.000Z
SPACECRAFT_ORIENTATION = (0.0,1.0,0.0)
^MEX_ORIENTATION_DESC = "MEX_ORIENTATION_DESC.TXT"
SPACECRAFT_POINTING_MODE = NADIR
^MEX_POINTING_DESC = "MEX_POINTING_DESC.TXT"
RIGHT_ASCENSION = -1e+32
DECLINATION = -1e+32
OFFSET_ANGLE = -1e+32
SPACECRAFT_SOLAR_DISTANCE = 2.48639e+08
TARGET_NAME = MARS
/* CAMERA DATA ELEMENTS */
DETECTOR_TEMPERATURE = 16.9432
FOCAL_PLANE_TEMPERATURE = 7.7677
INST_CMPRS_NAME = "DISCRETE COSINE TRANSFORMATION (DCT)"
INST_CMPRS_RATIO = 6.42342
INST_CMPRS_QUALITY = 0
INST_CMPRS_QUANTZ_TBL_ID = 0
INSTRUMENT_TEMPERATURE = 10.8262
LENS_TEMPERATURE = 9.195
MACROPIXEL_SIZE = 2
MISSING_FRAMES = 0
PIXEL_SUBSAMPLING_FLAG = N
SIGNAL_CHAIN_ID = 1
/* RADIOMETRIC DATA ELEMENTS */
BANDWIDTH = 180.0
CENTER_FILTER_WAVELENGTH = 677.0
RADIANCE_OFFSET = 3.34426
RADIANCE_SCALING_FACTOR = 0.0262295
REFLECTANCE_SCALING_FACTOR = 0.000846002
MEX:REFLECTANCE_OFFSET = 0.107865
/* IMAGE OBJECT DEFINITIONS */
OBJECT = IMAGE
  INTERCHANGE_FORMAT = BINARY
  LINES = 18545
  LINE_SAMPLES = 9643
  SAMPLE_TYPE = UNSIGNED_INTEGER
  SAMPLE_BITS = 8
  BANDS = 1
  BAND_STORAGE_TYPE = BAND_SEQUENTIAL
  MAXIMUM = 255
  MEAN = 125.685
  MINIMUM = 1
  STANDARD_DEVIATION = 63.2398
END_OBJECT = IMAGE
/* MAP OBJECT DEFINITIONS */
OBJECT = IMAGE_MAP_PROJECTION
  ^DATA_SET_MAP_PROJECTION_CATALOG= "DSMAP.CAT"
  A_AXIS_RADIUS = 3396.0
  B_AXIS_RADIUS = 3396.0
  C_AXIS_RADIUS = 3396.0
  CENTER_LATITUDE = 0.0
  CENTER_LONGITUDE = 236.0
  COORDINATE_SYSTEM_NAME = PLANETOGRAPHIC
  COORDINATE_SYSTEM_TYPE = "BODY-FIXED ROTATING"
  EASTERNMOST_LONGITUDE = 245.29
  FIRST_STANDARD_PARALLEL = "N/A"
  LINE_FIRST_PIXEL = 1
  LINE_LAST_PIXEL = 18545
  LINE_PROJECTION_OFFSET = 198941.75
  MAP_PROJECTION_ROTATION = 0.0
  MAP_PROJECTION_TYPE = SINUSOIDAL
  MAP_RESOLUTION = 2370.85521546667
  MAP_SCALE = 0.025
  MAXIMUM_LATITUDE = 83.8274
  MINIMUM_LATITUDE = 76.1473
  POSITIVE_LONGITUDE_DIRECTION = EAST
  REFERENCE_LATITUDE = "N/A"
  REFERENCE_LONGITUDE = "N/A"
  SAMPLE_FIRST_PIXEL = 1
  SAMPLE_LAST_PIXEL = 9643
  SAMPLE_PROJECTION_OFFSET = 4578.25
  SECOND_STANDARD_PARALLEL = "N/A"
  WESTERNMOST_LONGITUDE = 219.573
END_OBJECT = IMAGE_MAP_PROJECTION
/* The JPEG2000 image data file associated with this label. */
OBJECT = COMPRESSED_FILE
  FILE_NAME = "H5700_0000_S13.JP2"
  RECORD_TYPE = UNDEFINED
  FILE_RECORDS = UNK
  ENCODING_TYPE = "JP2"
  INTERCHANGE_FORMAT = BINARY
  UNCOMPRESSED_FILE_NAME = "H5700_0000_S13.IMG"
  REQUIRED_STORAGE_BYTES = "178858364"
  ^DESCRIPTION = "JP2INFO.TXT"
END_OBJECT = COMPRESSED_FILE
END
