PDS_VERSION_ID = PDS3
/* FILE DATA ELEMENTS */
RECORD_TYPE = STREAM
/* POINTERS TO DATA OBJECTS */
^COMPRESSED_FILE = "H5705_0000_IR3.JP2"
/* IDENTIFICATION DATA ELEMENTS */
DATA_SET_ID = "MEX-M-HRSC-5-REFDR-MAPPROJECTED-V3.0"
DATA_SET_NAME = "MARS EXPRESS HRSC MAP PROJECTED REFDR V3.0"
DETECTOR_ID = MEX_HRSC_IR
EVENT_TYPE = "MARS-REGIONAL-MAPPING-Im-Gl-Pf"
INSTRUMENT_HOST_ID = MEX
INSTRUMENT_HOST_NAME = "MARS EXPRESS"
INSTRUMENT_ID = HRSC
INSTRUMENT_NAME = "HIGH RESOLUTION STEREO CAMERA"
MISSION_NAME = "MARS EXPRESS"
MISSION_PHASE_NAME = ME_Phase_13
PROCESSING_LEVEL_ID = 3
PRODUCT_CREATION_TIME = 2016-05-15T20:04:19.000Z
PRODUCT_ID = "H5705_0000_IR3.JP2"
RELEASE_ID = 0065
REVISION_ID = 0000
/* QUALITY DATA ELEMENTS */
DATA_QUALITY_ID = 1
DATA_QUALITY_DESC = "Data calculated based on original SPICE kernels"
/* TIME DATA ELEMENTS */
SPACECRAFT_CLOCK_START_COUNT = "1/0161267416.08245"
SPACECRAFT_CLOCK_STOP_COUNT = "1/0161267679.21589"
START_TIME = 2008-06-11T12:31:54.685Z
STOP_TIME = 2008-06-11T12:34:26.578Z
/* ORBITAL DATA ELEMENTS */
ASCENDING_NODE_LONGITUDE = 109.79
MAXIMUM_RESOLUTION = 94.7
FOOTPRINT_POINT_LATITUDE = (76.327,76.4281,76.5075,76.5652,76.63, 76.6621,76.4986,76.2076,75.9172,75.6969 ,75.4023,75.1804,75.031,74.8818,74.7327 ,74.5822,74.4309,74.2799,74.1291, 73.9762,73.7468,73.594,73.3624,73.2076, 73.053,72.8184,72.662,72.5058,72.269, 72.1106,71.9525,71.7926,71.6327,71.4728 ,71.3112,71.1493,70.9879,70.8253, 70.6619,70.4989,70.3344,70.1693,70.0046 ,69.8387,69.6719,69.5056,69.2535, 69.0854,68.9177,68.8981,68.8778,68.8578 ,68.8236,68.8025,68.771,68.7434,68.7007 ,68.6691,68.7043,68.8701,69.0362, 69.2018,69.366,69.5305,69.694,69.8558, 70.0182,70.2613,70.4222,70.5835,70.7428 ,70.9018,71.1404,71.2977,71.4554, 71.6132,71.7688,71.9245,72.1574,72.3111 ,72.465,72.619,72.8469,72.9988,73.1509, 73.3008,73.4513,73.6016,73.7513,73.8993 ,74.0474,74.1952,74.4886,74.7079, 74.8541,75.1417,75.5009,75.7845,76.1378 ,76.327)
FOOTPRINT_POINT_LONGITUDE = (98.1441,99.8227,101.301,102.493, 103.999,104.834,105.191,105.413,105.625 ,105.779,105.979,106.124,106.219, 106.312,106.402,106.492,106.581,106.668 ,106.752,106.837,106.96,107.04,107.159, 107.236,107.312,107.424,107.497,107.569 ,107.676,107.745,107.813,107.88,107.947 ,108.012,108.076,108.14,108.202,108.264 ,108.325,108.385,108.444,108.502, 108.559,108.616,108.672,108.727,108.808 ,108.861,108.914,108.217,107.581,107.01 ,106.125,105.62,104.928,104.362,103.548 ,102.986,102.12,102.049,101.977,101.903 ,101.829,101.753,101.676,101.6,101.521, 101.398,101.315,101.23,101.145,101.058, 100.924,100.834,100.741,100.646,100.551 ,100.454,100.305,100.205,100.102, 99.9966,99.837,99.728,99.6166,99.5046, 99.3887,99.271,99.1516,99.0309,98.9077, 98.7829,98.5248,98.3249,98.188,97.9099, 97.5446,97.2415,96.8443,98.1441)
ORBIT_NUMBER = 5705
ORBITAL_ECCENTRICITY = 0.568
ORBITAL_INCLINATION = 86.76
ORBITAL_SEMIMAJOR_AXIS = 8639.06
PERIAPSIS_ALTITUDE = 358.38
PERIAPSIS_ARGUMENT_ANGLE = 74.86
PERIAPSIS_TIME = 2008-06-11T12:23:43.000Z
SPACECRAFT_ORIENTATION = (0.0,1.0,0.0)
^MEX_ORIENTATION_DESC = "MEX_ORIENTATION_DESC.TXT"
SPACECRAFT_POINTING_MODE = NADIR
^MEX_POINTING_DESC = "MEX_POINTING_DESC.TXT"
RIGHT_ASCENSION = -1e+32
DECLINATION = -1e+32
OFFSET_ANGLE = -1e+32
SPACECRAFT_SOLAR_DISTANCE = 2.48579e+08
TARGET_NAME = MARS
/* CAMERA DATA ELEMENTS */
DETECTOR_TEMPERATURE = 16.7393
FOCAL_PLANE_TEMPERATURE = 7.5638
INST_CMPRS_NAME = "DISCRETE COSINE TRANSFORMATION (DCT)"
INST_CMPRS_RATIO = 18.6128
INST_CMPRS_QUALITY = 0
INST_CMPRS_QUANTZ_TBL_ID = 0
INSTRUMENT_TEMPERATURE = 9.3989
LENS_TEMPERATURE = 7.9716
MACROPIXEL_SIZE = 4
MISSING_FRAMES = 0
PIXEL_SUBSAMPLING_FLAG = N
SIGNAL_CHAIN_ID = 2
/* RADIOMETRIC DATA ELEMENTS */
BANDWIDTH = 81.0
CENTER_FILTER_WAVELENGTH = 955.5
RADIANCE_OFFSET = 0.569324
RADIANCE_SCALING_FACTOR = 0.0102702
REFLECTANCE_SCALING_FACTOR = 0.00136909
MEX:REFLECTANCE_OFFSET = 0.0758952
/* IMAGE OBJECT DEFINITIONS */
OBJECT = IMAGE
  INTERCHANGE_FORMAT = BINARY
  LINES = 4824
  LINE_SAMPLES = 1945
  SAMPLE_TYPE = UNSIGNED_INTEGER
  SAMPLE_BITS = 8
  BANDS = 1
  BAND_STORAGE_TYPE = BAND_SEQUENTIAL
  MAXIMUM = 255
  MEAN = 111.601
  MINIMUM = 1
  STANDARD_DEVIATION = 24.4925
END_OBJECT = IMAGE
/* MAP OBJECT DEFINITIONS */
OBJECT = IMAGE_MAP_PROJECTION
  ^DATA_SET_MAP_PROJECTION_CATALOG= "DSMAP.CAT"
  A_AXIS_RADIUS = 3396.0
  B_AXIS_RADIUS = 3396.0
  C_AXIS_RADIUS = 3396.0
  CENTER_LATITUDE = 0.0
  CENTER_LONGITUDE = 104.0
  COORDINATE_SYSTEM_NAME = PLANETOGRAPHIC
  COORDINATE_SYSTEM_TYPE = "BODY-FIXED ROTATING"
  EASTERNMOST_LONGITUDE = 108.914
  FIRST_STANDARD_PARALLEL = "N/A"
  LINE_FIRST_PIXEL = 1
  LINE_LAST_PIXEL = 4824
  LINE_PROJECTION_OFFSET = 45496.625
  MAP_PROJECTION_ROTATION = 0.0
  MAP_PROJECTION_TYPE = SINUSOIDAL
  MAP_RESOLUTION = 592.713803866667
  MAP_SCALE = 0.1
  MAXIMUM_LATITUDE = 76.6621
  MINIMUM_LATITUDE = 68.6691
  POSITIVE_LONGITUDE_DIRECTION = EAST
  REFERENCE_LATITUDE = "N/A"
  REFERENCE_LONGITUDE = "N/A"
  SAMPLE_FIRST_PIXEL = 1
  SAMPLE_LAST_PIXEL = 1945
  SAMPLE_PROJECTION_OFFSET = 972.875
  SECOND_STANDARD_PARALLEL = "N/A"
  WESTERNMOST_LONGITUDE = 96.8443
END_OBJECT = IMAGE_MAP_PROJECTION
/* The JPEG2000 image data file associated with this label. */
OBJECT = COMPRESSED_FILE
  FILE_NAME = "H5705_0000_IR3.JP2"
  RECORD_TYPE = UNDEFINED
  FILE_RECORDS = UNK
  ENCODING_TYPE = "JP2"
  INTERCHANGE_FORMAT = BINARY
  UNCOMPRESSED_FILE_NAME = "H5705_0000_IR3.IMG"
  REQUIRED_STORAGE_BYTES = "9402130"
  ^DESCRIPTION = "JP2INFO.TXT"
END_OBJECT = COMPRESSED_FILE
END
