PDS_VERSION_ID = PDS3
/* FILE DATA ELEMENTS */
RECORD_TYPE = STREAM
/* POINTERS TO DATA OBJECTS */
^COMPRESSED_FILE = "H5705_0000_P23.JP2"
/* IDENTIFICATION DATA ELEMENTS */
DATA_SET_ID = "MEX-M-HRSC-5-REFDR-MAPPROJECTED-V3.0"
DATA_SET_NAME = "MARS EXPRESS HRSC MAP PROJECTED REFDR V3.0"
DETECTOR_ID = MEX_HRSC_P2
EVENT_TYPE = "MARS-REGIONAL-MAPPING-Im-Gl-Pf"
INSTRUMENT_HOST_ID = MEX
INSTRUMENT_HOST_NAME = "MARS EXPRESS"
INSTRUMENT_ID = HRSC
INSTRUMENT_NAME = "HIGH RESOLUTION STEREO CAMERA"
MISSION_NAME = "MARS EXPRESS"
MISSION_PHASE_NAME = ME_Phase_13
PROCESSING_LEVEL_ID = 3
PRODUCT_CREATION_TIME = 2016-05-15T20:04:19.000Z
PRODUCT_ID = "H5705_0000_P23.JP2"
RELEASE_ID = 0065
REVISION_ID = 0000
/* QUALITY DATA ELEMENTS */
DATA_QUALITY_ID = 1
DATA_QUALITY_DESC = "Data calculated based on original SPICE kernels"
/* TIME DATA ELEMENTS */
SPACECRAFT_CLOCK_START_COUNT = "1/0161267416.08245"
SPACECRAFT_CLOCK_STOP_COUNT = "1/0161267679.21589"
START_TIME = 2008-06-11T12:30:35.826Z
STOP_TIME = 2008-06-11T12:32:44.356Z
/* ORBITAL DATA ELEMENTS */
ASCENDING_NODE_LONGITUDE = 109.79
MAXIMUM_RESOLUTION = 41.8
FOOTPRINT_POINT_LATITUDE = (76.4501,76.538,76.5981,76.6427,76.7138 ,76.7679,76.8284,76.5976,76.3105, 75.8715,75.5786,75.3575,75.2082,75.0587 ,74.9094,74.7602,74.6111,74.4591,74.231 ,74.0029,73.851,73.6969,73.5421,73.3873 ,73.2326,73.078,72.9214,72.7639,72.6064 ,72.4491,72.2919,72.1319,71.972,71.7321 ,71.5723,71.3287,71.1663,71.0039, 70.7587,70.5933,70.4282,70.2633,70.0133 ,69.8456,69.678,69.5105,69.3406,69.1704 ,69.0004,68.8769,68.8533,68.8358, 68.8045,68.7807,68.7581,68.7342,68.7091 ,68.6791,68.6511,68.5982,68.7663, 68.9345,69.187,69.4357,69.6849,69.8508, 70.0139,70.1773,70.3398,70.5835,70.744, 70.904,71.0645,71.3042,71.4616,71.6191, 71.7768,72.0124,72.1673,72.3222,72.4773 ,72.7099,72.8621,73.0144,73.1667,73.319 ,73.4708,73.6198,73.7691,73.9185, 74.0679,74.291,74.5838,74.8765,75.095, 75.4535,75.883,76.0934,76.3036,76.4501)
FOOTPRINT_POINT_LONGITUDE = (97.3951,98.6838,99.6429,100.403, 101.727,102.852,104.274,104.67,104.893, 105.216,105.42,105.568,105.665,105.761, 105.854,105.946,106.035,106.124,106.255 ,106.382,106.464,106.545,106.626, 106.705,106.782,106.858,106.933,107.007 ,107.08,107.151,107.221,107.291,107.359 ,107.459,107.524,107.621,107.683, 107.745,107.837,107.898,107.957,108.014 ,108.1,108.157,108.212,108.266,108.32, 108.373,108.425,108.118,107.432,106.976 ,106.238,105.728,105.276,104.825, 104.375,103.87,103.422,102.62,102.548, 102.475,102.362,102.248,102.131,102.051 ,101.971,101.889,101.805,101.676,101.59 ,101.501,101.411,101.274,101.181, 101.086,100.989,100.841,100.741,100.639 ,100.535,100.374,100.267,100.157, 100.045,99.931,99.8143,99.6972,99.5778, 99.4559,99.3314,99.1406,98.8805,98.6091 ,98.3986,98.0382,97.5789,97.3426, 97.0982,97.3951)
ORBIT_NUMBER = 5705
ORBITAL_ECCENTRICITY = 0.568
ORBITAL_INCLINATION = 86.76
ORBITAL_SEMIMAJOR_AXIS = 8639.06
PERIAPSIS_ALTITUDE = 358.38
PERIAPSIS_ARGUMENT_ANGLE = 74.86
PERIAPSIS_TIME = 2008-06-11T12:23:43.000Z
SPACECRAFT_ORIENTATION = (0.0,1.0,0.0)
^MEX_ORIENTATION_DESC = "MEX_ORIENTATION_DESC.TXT"
SPACECRAFT_POINTING_MODE = NADIR
^MEX_POINTING_DESC = "MEX_POINTING_DESC.TXT"
RIGHT_ASCENSION = -1e+32
DECLINATION = -1e+32
OFFSET_ANGLE = -1e+32
SPACECRAFT_SOLAR_DISTANCE = 2.48579e+08
TARGET_NAME = MARS
/* CAMERA DATA ELEMENTS */
DETECTOR_TEMPERATURE = 18.1666
FOCAL_PLANE_TEMPERATURE = 7.5638
INST_CMPRS_NAME = "DISCRETE COSINE TRANSFORMATION (DCT)"
INST_CMPRS_RATIO = 7.43382
INST_CMPRS_QUALITY = 0
INST_CMPRS_QUANTZ_TBL_ID = 0
INSTRUMENT_TEMPERATURE = 9.3989
LENS_TEMPERATURE = 7.9716
MACROPIXEL_SIZE = 2
MISSING_FRAMES = 0
PIXEL_SUBSAMPLING_FLAG = N
SIGNAL_CHAIN_ID = 3
/* RADIOMETRIC DATA ELEMENTS */
BANDWIDTH = 177.0
CENTER_FILTER_WAVELENGTH = 676.5
RADIANCE_OFFSET = 2.64131
RADIANCE_SCALING_FACTOR = 0.0369677
REFLECTANCE_SCALING_FACTOR = 0.00121118
MEX:REFLECTANCE_OFFSET = 0.0865377
/* IMAGE OBJECT DEFINITIONS */
OBJECT = IMAGE
  INTERCHANGE_FORMAT = BINARY
  LINES = 9647
  LINE_SAMPLES = 3889
  SAMPLE_TYPE = UNSIGNED_INTEGER
  SAMPLE_BITS = 8
  BANDS = 1
  BAND_STORAGE_TYPE = BAND_SEQUENTIAL
  MAXIMUM = 255
  MEAN = 96.0662
  MINIMUM = 1
  STANDARD_DEVIATION = 26.3076
END_OBJECT = IMAGE
/* MAP OBJECT DEFINITIONS */
OBJECT = IMAGE_MAP_PROJECTION
  ^DATA_SET_MAP_PROJECTION_CATALOG= "DSMAP.CAT"
  A_AXIS_RADIUS = 3396.0
  B_AXIS_RADIUS = 3396.0
  C_AXIS_RADIUS = 3396.0
  CENTER_LATITUDE = 0.0
  CENTER_LONGITUDE = 104.0
  COORDINATE_SYSTEM_NAME = PLANETOGRAPHIC
  COORDINATE_SYSTEM_TYPE = "BODY-FIXED ROTATING"
  EASTERNMOST_LONGITUDE = 108.425
  FIRST_STANDARD_PARALLEL = "N/A"
  LINE_FIRST_PIXEL = 1
  LINE_LAST_PIXEL = 9647
  LINE_PROJECTION_OFFSET = 90993.75
  MAP_PROJECTION_ROTATION = 0.0
  MAP_PROJECTION_TYPE = SINUSOIDAL
  MAP_RESOLUTION = 1185.42760773333
  MAP_SCALE = 0.05
  MAXIMUM_LATITUDE = 76.8284
  MINIMUM_LATITUDE = 68.59820000000001
  POSITIVE_LONGITUDE_DIRECTION = EAST
  REFERENCE_LATITUDE = "N/A"
  REFERENCE_LONGITUDE = "N/A"
  SAMPLE_FIRST_PIXEL = 1
  SAMPLE_LAST_PIXEL = 3889
  SAMPLE_PROJECTION_OFFSET = 1946.25
  SECOND_STANDARD_PARALLEL = "N/A"
  WESTERNMOST_LONGITUDE = 97.09820000000001
END_OBJECT = IMAGE_MAP_PROJECTION
/* The JPEG2000 image data file associated with this label. */
OBJECT = COMPRESSED_FILE
  FILE_NAME = "H5705_0000_P23.JP2"
  RECORD_TYPE = UNDEFINED
  FILE_RECORDS = UNK
  ENCODING_TYPE = "JP2"
  INTERCHANGE_FORMAT = BINARY
  UNCOMPRESSED_FILE_NAME = "H5705_0000_P23.IMG"
  REQUIRED_STORAGE_BYTES = "37540517"
  ^DESCRIPTION = "JP2INFO.TXT"
END_OBJECT = COMPRESSED_FILE
END
