PDS_VERSION_ID = PDS3
/* FILE DATA ELEMENTS */
RECORD_TYPE = STREAM
/* POINTERS TO DATA OBJECTS */
^COMPRESSED_FILE = "H5710_0000_P13.JP2"
/* IDENTIFICATION DATA ELEMENTS */
DATA_SET_ID = "MEX-M-HRSC-5-REFDR-MAPPROJECTED-V3.0"
DATA_SET_NAME = "MARS EXPRESS HRSC MAP PROJECTED REFDR V3.0"
DETECTOR_ID = MEX_HRSC_P1
EVENT_TYPE = "MARS-REGIONAL-MAPPING-Eo-Ot"
INSTRUMENT_HOST_ID = MEX
INSTRUMENT_HOST_NAME = "MARS EXPRESS"
INSTRUMENT_ID = HRSC
INSTRUMENT_NAME = "HIGH RESOLUTION STEREO CAMERA"
MISSION_NAME = "MARS EXPRESS"
MISSION_PHASE_NAME = ME_Phase_13
PROCESSING_LEVEL_ID = 3
PRODUCT_CREATION_TIME = 2016-05-15T20:04:19.000Z
PRODUCT_ID = "H5710_0000_P13.JP2"
RELEASE_ID = 0065
REVISION_ID = 0000
/* QUALITY DATA ELEMENTS */
DATA_QUALITY_ID = 1
DATA_QUALITY_DESC = "Data calculated based on original SPICE kernels"
/* TIME DATA ELEMENTS */
SPACECRAFT_CLOCK_START_COUNT = "1/0161390228.08262"
SPACECRAFT_CLOCK_STOP_COUNT = "1/0161390399.00845"
START_TIME = 2008-06-12T22:38:06.783Z
STOP_TIME = 2008-06-12T22:39:47.724Z
/* ORBITAL DATA ELEMENTS */
ASCENDING_NODE_LONGITUDE = 109.68
MAXIMUM_RESOLUTION = 61.3
FOOTPRINT_POINT_LATITUDE = (78.8473,78.9299,79.0208,79.0601, 79.1101,79.1601,79.1734,79.3838,79.5079 ,79.6332,79.7583,79.8834,80.0082, 80.1329,80.2573,80.3816,80.5058,80.6299 ,80.7537,80.9392,81.1241,81.2471, 81.3699,81.4925,81.6149,81.737,81.8589, 81.9805,82.1019,82.223,82.3438,82.4643, 82.5845,82.7045,82.824,82.9433,83.0622, 83.24,83.358,83.4756,83.5927,83.7095, 83.8257,83.9414,84.1141,84.2855,84.4555 ,84.568,84.6803,84.7912,84.9016,85.1049 ,85.0161,84.8922,84.777,84.6257,84.5428 ,84.4062,84.3097,84.161,84.068,83.9263, 83.7337,83.586,83.4863,83.3857,83.2841, 83.1815,83.0781,82.9739,82.8689,82.7631 ,82.6566,82.5494,82.4415,82.3329, 82.2238,82.114,82.0037,81.8927,81.7813, 81.6692,81.5002,81.3302,81.159,80.9869, 80.8139,80.64,80.5236,80.4068,80.2309, 80.0543,79.8769,79.7583,79.6394,79.4605 ,79.2809,79.1609,78.9843,78.8473)
FOOTPRINT_POINT_LONGITUDE = (175.614,174.386,172.913,172.225, 171.301,170.308,169.199,169.462,169.623 ,169.789,169.96,170.135,170.314,170.497 ,170.686,170.878,171.076,171.28,171.489 ,171.813,172.151,172.383,172.622, 172.868,173.121,173.382,173.65,173.927, 174.211,174.505,174.807,175.119,175.441 ,175.774,176.117,176.473,176.84,177.415 ,177.816,178.23,178.66,179.106,179.567, 180.047,180.8,181.599,182.445,183.038, 183.661,184.303,184.975,186.307,187.982 ,190.081,191.841,193.974,195.046, 196.691,197.776,197.528,196.705,195.518 ,194.019,192.954,192.271,191.608, 190.965,190.342,189.736,189.149,188.579 ,188.025,187.487,186.965,186.458, 185.965,185.485,185.019,184.566,184.125 ,183.696,183.279,182.674,182.092, 181.533,180.995,180.478,179.98,179.658, 179.344,178.888,178.447,178.023,177.748 ,177.479,177.088,176.71,176.465,176.116 ,175.614)
ORBIT_NUMBER = 5710
ORBITAL_ECCENTRICITY = 0.567
ORBITAL_INCLINATION = 86.76
ORBITAL_SEMIMAJOR_AXIS = 8639.5
PERIAPSIS_ALTITUDE = 358.82
PERIAPSIS_ARGUMENT_ANGLE = 73.99
PERIAPSIS_TIME = 2008-06-12T22:36:21.000Z
SPACECRAFT_ORIENTATION = (0.0,1.0,0.0)
^MEX_ORIENTATION_DESC = "MEX_ORIENTATION_DESC.TXT"
SPACECRAFT_POINTING_MODE = NADIR
^MEX_POINTING_DESC = "MEX_POINTING_DESC.TXT"
RIGHT_ASCENSION = -1e+32
DECLINATION = -1e+32
OFFSET_ANGLE = -1e+32
SPACECRAFT_SOLAR_DISTANCE = 2.48515e+08
TARGET_NAME = MARS
/* CAMERA DATA ELEMENTS */
DETECTOR_TEMPERATURE = 16.9432
FOCAL_PLANE_TEMPERATURE = 7.3599
INST_CMPRS_NAME = "DISCRETE COSINE TRANSFORMATION (DCT)"
INST_CMPRS_RATIO = 3.72329
INST_CMPRS_QUALITY = 0
INST_CMPRS_QUANTZ_TBL_ID = 0
INSTRUMENT_TEMPERATURE = 11.0301
LENS_TEMPERATURE = 7.7677
MACROPIXEL_SIZE = 4
MISSING_FRAMES = 0
PIXEL_SUBSAMPLING_FLAG = N
SIGNAL_CHAIN_ID = 3
/* RADIOMETRIC DATA ELEMENTS */
BANDWIDTH = 174.0
CENTER_FILTER_WAVELENGTH = 675.0
RADIANCE_OFFSET = 1.8188
RADIANCE_SCALING_FACTOR = 0.0174985
REFLECTANCE_SCALING_FACTOR = 0.000581288
MEX:REFLECTANCE_OFFSET = 0.0604193
/* IMAGE OBJECT DEFINITIONS */
OBJECT = IMAGE
  INTERCHANGE_FORMAT = BINARY
  LINES = 7479
  LINE_SAMPLES = 4395
  SAMPLE_TYPE = UNSIGNED_INTEGER
  SAMPLE_BITS = 8
  BANDS = 1
  BAND_STORAGE_TYPE = BAND_SEQUENTIAL
  MAXIMUM = 255
  MEAN = 147.855
  MINIMUM = 1
  STANDARD_DEVIATION = 77.2871
END_OBJECT = IMAGE
/* MAP OBJECT DEFINITIONS */
OBJECT = IMAGE_MAP_PROJECTION
  ^DATA_SET_MAP_PROJECTION_CATALOG= "DSMAP.CAT"
  A_AXIS_RADIUS = 3396.0
  B_AXIS_RADIUS = 3396.0
  C_AXIS_RADIUS = 3396.0
  CENTER_LATITUDE = 0.0
  CENTER_LONGITUDE = 179.0
  COORDINATE_SYSTEM_NAME = PLANETOGRAPHIC
  COORDINATE_SYSTEM_TYPE = "BODY-FIXED ROTATING"
  EASTERNMOST_LONGITUDE = 197.776
  FIRST_STANDARD_PARALLEL = "N/A"
  LINE_FIRST_PIXEL = 1
  LINE_LAST_PIXEL = 7479
  LINE_PROJECTION_OFFSET = 100856.125
  MAP_PROJECTION_ROTATION = 0.0
  MAP_PROJECTION_TYPE = SINUSOIDAL
  MAP_RESOLUTION = 1185.42760773333
  MAP_SCALE = 0.05
  MAXIMUM_LATITUDE = 85.1049
  MINIMUM_LATITUDE = 78.8473
  POSITIVE_LONGITUDE_DIRECTION = EAST
  REFERENCE_LATITUDE = "N/A"
  REFERENCE_LONGITUDE = "N/A"
  SAMPLE_FIRST_PIXEL = 1
  SAMPLE_LAST_PIXEL = 4395
  SAMPLE_PROJECTION_OFFSET = 2152.375
  SECOND_STANDARD_PARALLEL = "N/A"
  WESTERNMOST_LONGITUDE = 169.199
END_OBJECT = IMAGE_MAP_PROJECTION
/* The JPEG2000 image data file associated with this label. */
OBJECT = COMPRESSED_FILE
  FILE_NAME = "H5710_0000_P13.JP2"
  RECORD_TYPE = UNDEFINED
  FILE_RECORDS = UNK
  ENCODING_TYPE = "JP2"
  INTERCHANGE_FORMAT = BINARY
  UNCOMPRESSED_FILE_NAME = "H5710_0000_P13.IMG"
  REQUIRED_STORAGE_BYTES = "32896575"
  ^DESCRIPTION = "JP2INFO.TXT"
END_OBJECT = COMPRESSED_FILE
END
