PDS_VERSION_ID = PDS3
/* FILE DATA ELEMENTS */
RECORD_TYPE = STREAM
/* POINTERS TO DATA OBJECTS */
^COMPRESSED_FILE = "H5711_0000_IR3.JP2"
/* IDENTIFICATION DATA ELEMENTS */
DATA_SET_ID = "MEX-M-HRSC-5-REFDR-MAPPROJECTED-V3.0"
DATA_SET_NAME = "MARS EXPRESS HRSC MAP PROJECTED REFDR V3.0"
DETECTOR_ID = MEX_HRSC_IR
EVENT_TYPE = "MARS-REGIONAL-MAPPING-Gl-Pf-Eo"
INSTRUMENT_HOST_ID = MEX
INSTRUMENT_HOST_NAME = "MARS EXPRESS"
INSTRUMENT_ID = HRSC
INSTRUMENT_NAME = "HIGH RESOLUTION STEREO CAMERA"
MISSION_NAME = "MARS EXPRESS"
MISSION_PHASE_NAME = ME_Phase_13
PROCESSING_LEVEL_ID = 3
PRODUCT_CREATION_TIME = 2016-05-15T20:04:19.000Z
PRODUCT_ID = "H5711_0000_IR3.JP2"
RELEASE_ID = 0065
REVISION_ID = 0000
/* QUALITY DATA ELEMENTS */
DATA_QUALITY_ID = 1
DATA_QUALITY_DESC = "Data calculated based on original SPICE kernels"
/* TIME DATA ELEMENTS */
SPACECRAFT_CLOCK_START_COUNT = "1/0161415184.08279"
SPACECRAFT_CLOCK_STOP_COUNT = "1/0161415437.47098"
START_TIME = 2008-06-13T05:34:39.178Z
STOP_TIME = 2008-06-13T05:37:05.829Z
/* ORBITAL DATA ELEMENTS */
ASCENDING_NODE_LONGITUDE = 109.67
MAXIMUM_RESOLUTION = 91.9
FOOTPRINT_POINT_LATITUDE = (78.4763,78.5948,78.6884,78.7568, 78.8342,78.8728,78.6548,78.5135,78.232, 77.9466,77.8034,77.5189,77.3014,77.1565 ,76.9396,76.7217,76.5748,76.428,76.2809 ,76.1316,75.9826,75.8341,75.6856, 75.5349,75.3086,75.1582,75.0062,74.8537 ,74.701,74.4711,74.3164,74.1619,73.9287 ,73.7721,73.6155,73.46,73.3021,73.1436, 72.9856,72.8263,72.6671,72.5075,72.2659 ,72.1041,71.8613,71.698,71.5351,71.3712 ,71.3003,71.2739,71.2499,71.2274, 71.2009,71.1751,71.1484,71.109,71.0789, 71.0513,71.0145,71.0694,71.231,71.4717, 71.6322,71.7899,71.9494,72.1081,72.2648 ,72.4218,72.5789,72.8113,72.9666,73.121 ,73.3509,73.5041,73.7322,73.8836, 74.0347,74.2607,74.4099,74.5596,74.7088 ,74.9294,75.0767,75.224,75.4416,75.5867 ,75.805,76.0199,76.163,76.3061,76.4483, 76.7275,76.8747,77.0161,77.2894,77.4938 ,77.7018,77.9738,78.3132,78.4763)
FOOTPRINT_POINT_LONGITUDE = (214.807,216.702,218.38,219.739,221.462 ,222.421,222.953,223.107,223.403, 223.687,223.825,224.092,224.286,224.411 ,224.595,224.775,224.892,225.005, 225.116,225.225,225.333,225.438,225.541 ,225.644,225.793,225.89,225.985,226.079 ,226.171,226.306,226.394,226.481, 226.607,226.69,226.771,226.852,226.931, 227.009,227.085,227.16,227.235,227.307, 227.415,227.485,227.588,227.655,227.722 ,227.787,226.914,226.159,225.543, 224.997,224.384,223.841,223.299,222.556 ,222.018,221.548,220.945,220.476, 220.383,220.242,220.145,220.05,219.949, 219.848,219.745,219.641,219.534,219.372 ,219.26,219.147,218.974,218.857,218.676 ,218.553,218.428,218.233,218.102, 217.968,217.831,217.623,217.48,217.335, 217.113,216.961,216.725,216.485,216.32, 216.152,215.981,215.638,215.434,215.245 ,214.877,214.591,214.278,213.855, 213.296,214.807)
ORBIT_NUMBER = 5711
ORBITAL_ECCENTRICITY = 0.568
ORBITAL_INCLINATION = 86.76
ORBITAL_SEMIMAJOR_AXIS = 8642.58
PERIAPSIS_ALTITUDE = 357.9
PERIAPSIS_ARGUMENT_ANGLE = 73.81
PERIAPSIS_TIME = 2008-06-13T05:26:49.000Z
SPACECRAFT_ORIENTATION = (0.0,1.0,0.0)
^MEX_ORIENTATION_DESC = "MEX_ORIENTATION_DESC.TXT"
SPACECRAFT_POINTING_MODE = NADIR
^MEX_POINTING_DESC = "MEX_POINTING_DESC.TXT"
RIGHT_ASCENSION = -1e+32
DECLINATION = -1e+32
OFFSET_ANGLE = -1e+32
SPACECRAFT_SOLAR_DISTANCE = 2.48502e+08
TARGET_NAME = MARS
/* CAMERA DATA ELEMENTS */
DETECTOR_TEMPERATURE = 17.1471
FOCAL_PLANE_TEMPERATURE = 7.5638
INST_CMPRS_NAME = "DISCRETE COSINE TRANSFORMATION (DCT)"
INST_CMPRS_RATIO = 23.8627
INST_CMPRS_QUALITY = 0
INST_CMPRS_QUANTZ_TBL_ID = 0
INSTRUMENT_TEMPERATURE = 10.8262
LENS_TEMPERATURE = 7.7677
MACROPIXEL_SIZE = 4
MISSING_FRAMES = 0
PIXEL_SUBSAMPLING_FLAG = N
SIGNAL_CHAIN_ID = 2
/* RADIOMETRIC DATA ELEMENTS */
BANDWIDTH = 81.0
CENTER_FILTER_WAVELENGTH = 955.5
RADIANCE_OFFSET = 0.739327
RADIANCE_SCALING_FACTOR = 0.00733357
REFLECTANCE_SCALING_FACTOR = 0.000977021
MEX:REFLECTANCE_OFFSET = 0.0984973
/* IMAGE OBJECT DEFINITIONS */
OBJECT = IMAGE
  INTERCHANGE_FORMAT = BINARY
  LINES = 4737
  LINE_SAMPLES = 2035
  SAMPLE_TYPE = UNSIGNED_INTEGER
  SAMPLE_BITS = 8
  BANDS = 1
  BAND_STORAGE_TYPE = BAND_SEQUENTIAL
  MAXIMUM = 255
  MEAN = 93.1389
  MINIMUM = 1
  STANDARD_DEVIATION = 22.4719
END_OBJECT = IMAGE
/* MAP OBJECT DEFINITIONS */
OBJECT = IMAGE_MAP_PROJECTION
  ^DATA_SET_MAP_PROJECTION_CATALOG= "DSMAP.CAT"
  A_AXIS_RADIUS = 3396.0
  B_AXIS_RADIUS = 3396.0
  C_AXIS_RADIUS = 3396.0
  CENTER_LATITUDE = 0.0
  CENTER_LONGITUDE = 222.0
  COORDINATE_SYSTEM_NAME = PLANETOGRAPHIC
  COORDINATE_SYSTEM_TYPE = "BODY-FIXED ROTATING"
  EASTERNMOST_LONGITUDE = 227.787
  FIRST_STANDARD_PARALLEL = "N/A"
  LINE_FIRST_PIXEL = 1
  LINE_LAST_PIXEL = 4737
  LINE_PROJECTION_OFFSET = 46805.625
  MAP_PROJECTION_ROTATION = 0.0
  MAP_PROJECTION_TYPE = SINUSOIDAL
  MAP_RESOLUTION = 592.713803866667
  MAP_SCALE = 0.1
  MAXIMUM_LATITUDE = 78.8728
  MINIMUM_LATITUDE = 71.0145
  POSITIVE_LONGITUDE_DIRECTION = EAST
  REFERENCE_LATITUDE = "N/A"
  REFERENCE_LONGITUDE = "N/A"
  SAMPLE_FIRST_PIXEL = 1
  SAMPLE_LAST_PIXEL = 2035
  SAMPLE_PROJECTION_OFFSET = 1018.875
  SECOND_STANDARD_PARALLEL = "N/A"
  WESTERNMOST_LONGITUDE = 213.296
END_OBJECT = IMAGE_MAP_PROJECTION
/* The JPEG2000 image data file associated with this label. */
OBJECT = COMPRESSED_FILE
  FILE_NAME = "H5711_0000_IR3.JP2"
  RECORD_TYPE = UNDEFINED
  FILE_RECORDS = UNK
  ENCODING_TYPE = "JP2"
  INTERCHANGE_FORMAT = BINARY
  UNCOMPRESSED_FILE_NAME = "H5711_0000_IR3.IMG"
  REQUIRED_STORAGE_BYTES = "9660145"
  ^DESCRIPTION = "JP2INFO.TXT"
END_OBJECT = COMPRESSED_FILE
END
