PDS_VERSION_ID = PDS3
/* FILE DATA ELEMENTS */
RECORD_TYPE = STREAM
/* POINTERS TO DATA OBJECTS */
^COMPRESSED_FILE = "H5713_0000_GR3.JP2"
/* IDENTIFICATION DATA ELEMENTS */
DATA_SET_ID = "MEX-M-HRSC-5-REFDR-MAPPROJECTED-V3.0"
DATA_SET_NAME = "MARS EXPRESS HRSC MAP PROJECTED REFDR V3.0"
DETECTOR_ID = MEX_HRSC_GREEN
EVENT_TYPE = "MARS-REGIONAL-MAPPING-Gl-La"
INSTRUMENT_HOST_ID = MEX
INSTRUMENT_HOST_NAME = "MARS EXPRESS"
INSTRUMENT_ID = HRSC
INSTRUMENT_NAME = "HIGH RESOLUTION STEREO CAMERA"
MISSION_NAME = "MARS EXPRESS"
MISSION_PHASE_NAME = ME_Phase_13
PROCESSING_LEVEL_ID = 3
PRODUCT_CREATION_TIME = 2016-05-15T20:04:19.000Z
PRODUCT_ID = "H5713_0000_GR3.JP2"
RELEASE_ID = 0065
REVISION_ID = 0000
/* QUALITY DATA ELEMENTS */
DATA_QUALITY_ID = 1
DATA_QUALITY_DESC = "Data calculated based on original SPICE kernels"
/* TIME DATA ELEMENTS */
SPACECRAFT_CLOCK_START_COUNT = "1/0161464329.07293"
SPACECRAFT_CLOCK_STOP_COUNT = "1/0161464588.36359"
START_TIME = 2008-06-13T19:12:59.303Z
STOP_TIME = 2008-06-13T19:15:40.389Z
/* ORBITAL DATA ELEMENTS */
ASCENDING_NODE_LONGITUDE = 109.62
MAXIMUM_RESOLUTION = 65.7
FOOTPRINT_POINT_LATITUDE = (85.2093,85.3713,85.5819,85.7349, 85.9221,86.2093,86.0075,85.7273,85.5106 ,85.3603,85.208,85.0542,84.8989,84.583, 84.4201,84.2555,84.09,83.9237,83.7566, 83.5004,83.3277,83.1545,82.9808,82.8066 ,82.5395,82.3604,82.0824,81.9026, 81.7188,81.4425,81.2581,81.0736,80.8854 ,80.6966,80.5079,80.3192,80.1279, 79.9349,79.7424,79.4526,79.1572,78.9604 ,78.7644,78.5654,78.3648,78.1642, 77.9638,77.6578,77.4537,77.2497,77.2039 ,77.1443,77.0983,77.0405,76.9827, 76.8815,76.7918,76.9899,77.2871,77.4848 ,77.6789,77.873,78.0669,78.2592,78.449, 78.6386,78.828,79.1078,79.2928,79.4775, 79.7526,79.9326,80.1123,80.2916,80.4701 ,80.6446,80.8187,80.9921,81.165,81.4193 ,81.6782,81.8444,82.0913,82.2516, 82.4108,82.5688,82.7257,82.8812,83.0324 ,83.1816,83.3294,83.4755,83.6197, 83.7606,84.0324,84.295,84.5455,84.7792, 84.9458,85.2093)
FOOTPRINT_POINT_LONGITUDE = (341.595,343.138,345.37,347.183,349.672 ,353.773,356.301,359.281,361.27,362.517 ,363.685,364.78,365.809,367.677,368.554 ,369.375,370.149,370.88,371.572,372.555 ,373.172,373.757,374.313,374.84,375.599 ,376.075,376.77,377.192,377.604,378.188 ,378.556,378.909,379.252,379.583,379.9, 380.205,380.5,380.785,381.063,381.452, 381.829,382.07,382.305,382.531,382.749, 382.96,383.163,383.459,383.648,383.831, 382.804,381.458,380.517,379.429,378.425 ,376.823,375.517,375.256,374.846, 374.562,374.273,373.975,373.665,373.347 ,373.022,372.685,372.333,371.797, 371.423,371.033,370.421,370.006,369.571 ,369.118,368.648,368.168,367.67,367.15, 366.608,365.766,364.846,364.219,363.23, 362.547,361.835,361.09,360.312,359.489, 358.664,357.794,356.883,355.931,354.933 ,353.897,351.707,349.303,346.677, 343.854,341.571,341.595)
ORBIT_NUMBER = 5713
ORBITAL_ECCENTRICITY = 0.568
ORBITAL_INCLINATION = 86.74
ORBITAL_SEMIMAJOR_AXIS = 8640.58
PERIAPSIS_ALTITUDE = 358.83
PERIAPSIS_ARGUMENT_ANGLE = 73.45
PERIAPSIS_TIME = 2008-06-13T19:07:50.000Z
SPACECRAFT_ORIENTATION = (0.0,1.0,0.0)
^MEX_ORIENTATION_DESC = "MEX_ORIENTATION_DESC.TXT"
SPACECRAFT_POINTING_MODE = NADIR
^MEX_POINTING_DESC = "MEX_POINTING_DESC.TXT"
RIGHT_ASCENSION = -1e+32
DECLINATION = -1e+32
OFFSET_ANGLE = -1e+32
SPACECRAFT_SOLAR_DISTANCE = 2.48475e+08
TARGET_NAME = MARS
/* CAMERA DATA ELEMENTS */
DETECTOR_TEMPERATURE = 17.7588
FOCAL_PLANE_TEMPERATURE = 7.3599
INST_CMPRS_NAME = "DISCRETE COSINE TRANSFORMATION (DCT)"
INST_CMPRS_RATIO = 18.9485
INST_CMPRS_QUALITY = 0
INST_CMPRS_QUANTZ_TBL_ID = 0
INSTRUMENT_TEMPERATURE = 10.4184
LENS_TEMPERATURE = 7.9716
MACROPIXEL_SIZE = 4
MISSING_FRAMES = 1
PIXEL_SUBSAMPLING_FLAG = N
SIGNAL_CHAIN_ID = 2
/* RADIOMETRIC DATA ELEMENTS */
BANDWIDTH = 88.0
CENTER_FILTER_WAVELENGTH = 538.0
RADIANCE_OFFSET = 1.15223
RADIANCE_SCALING_FACTOR = 0.0144593
REFLECTANCE_SCALING_FACTOR = 0.000768607
MEX:REFLECTANCE_OFFSET = 0.0612484
/* IMAGE OBJECT DEFINITIONS */
OBJECT = IMAGE
  INTERCHANGE_FORMAT = BINARY
  LINES = 11124
  LINE_SAMPLES = 6423
  SAMPLE_TYPE = UNSIGNED_INTEGER
  SAMPLE_BITS = 8
  BANDS = 1
  BAND_STORAGE_TYPE = BAND_SEQUENTIAL
  MAXIMUM = 255
  MEAN = 157.565
  MINIMUM = 1
  STANDARD_DEVIATION = 64.8861
END_OBJECT = IMAGE
/* MAP OBJECT DEFINITIONS */
OBJECT = IMAGE_MAP_PROJECTION
  ^DATA_SET_MAP_PROJECTION_CATALOG= "DSMAP.CAT"
  A_AXIS_RADIUS = 3396.0
  B_AXIS_RADIUS = 3396.0
  C_AXIS_RADIUS = 3396.0
  CENTER_LATITUDE = 0.0
  CENTER_LONGITUDE = 11.0
  COORDINATE_SYSTEM_NAME = PLANETOGRAPHIC
  COORDINATE_SYSTEM_TYPE = "BODY-FIXED ROTATING"
  EASTERNMOST_LONGITUDE = 23.831
  FIRST_STANDARD_PARALLEL = "N/A"
  LINE_FIRST_PIXEL = 1
  LINE_LAST_PIXEL = 11124
  LINE_PROJECTION_OFFSET = 102169.375
  MAP_PROJECTION_ROTATION = 0.0
  MAP_PROJECTION_TYPE = SINUSOIDAL
  MAP_RESOLUTION = 1185.42760773333
  MAP_SCALE = 0.05
  MAXIMUM_LATITUDE = 86.2093
  MINIMUM_LATITUDE = 76.79179999999999
  POSITIVE_LONGITUDE_DIRECTION = EAST
  REFERENCE_LATITUDE = "N/A"
  REFERENCE_LONGITUDE = "N/A"
  SAMPLE_FIRST_PIXEL = 1
  SAMPLE_LAST_PIXEL = 6423
  SAMPLE_PROJECTION_OFFSET = 3115.625
  SECOND_STANDARD_PARALLEL = "N/A"
  WESTERNMOST_LONGITUDE = -18.429
END_OBJECT = IMAGE_MAP_PROJECTION
/* The JPEG2000 image data file associated with this label. */
OBJECT = COMPRESSED_FILE
  FILE_NAME = "H5713_0000_GR3.JP2"
  RECORD_TYPE = UNDEFINED
  FILE_RECORDS = UNK
  ENCODING_TYPE = "JP2"
  INTERCHANGE_FORMAT = BINARY
  UNCOMPRESSED_FILE_NAME = "H5713_0000_GR3.IMG"
  REQUIRED_STORAGE_BYTES = "71481567"
  ^DESCRIPTION = "JP2INFO.TXT"
END_OBJECT = COMPRESSED_FILE
END
