PDS_VERSION_ID = PDS3
/* FILE DATA ELEMENTS */
RECORD_TYPE = STREAM
/* POINTERS TO DATA OBJECTS */
^COMPRESSED_FILE = "H5713_0000_ND3.JP2"
/* IDENTIFICATION DATA ELEMENTS */
DATA_SET_ID = "MEX-M-HRSC-5-REFDR-MAPPROJECTED-V3.0"
DATA_SET_NAME = "MARS EXPRESS HRSC MAP PROJECTED REFDR V3.0"
DETECTOR_ID = MEX_HRSC_NADIR
EVENT_TYPE = "MARS-REGIONAL-MAPPING-Gl-La"
INSTRUMENT_HOST_ID = MEX
INSTRUMENT_HOST_NAME = "MARS EXPRESS"
INSTRUMENT_ID = HRSC
INSTRUMENT_NAME = "HIGH RESOLUTION STEREO CAMERA"
MISSION_NAME = "MARS EXPRESS"
MISSION_PHASE_NAME = ME_Phase_13
PROCESSING_LEVEL_ID = 3
PRODUCT_CREATION_TIME = 2016-05-15T20:04:19.000Z
PRODUCT_ID = "H5713_0000_ND3.JP2"
RELEASE_ID = 0065
REVISION_ID = 0000
/* QUALITY DATA ELEMENTS */
DATA_QUALITY_ID = 1
DATA_QUALITY_DESC = "Data calculated based on original SPICE kernels"
/* TIME DATA ELEMENTS */
SPACECRAFT_CLOCK_START_COUNT = "1/0161464329.07293"
SPACECRAFT_CLOCK_STOP_COUNT = "1/0161464588.36359"
START_TIME = 2008-06-13T19:12:52.172Z
STOP_TIME = 2008-06-13T19:15:31.187Z
/* ORBITAL DATA ELEMENTS */
ASCENDING_NODE_LONGITUDE = 109.62
MAXIMUM_RESOLUTION = 16.3
FOOTPRINT_POINT_LATITUDE = (85.2128,85.4745,85.64,85.8428,86.0571, 86.2136,85.7977,85.5044,85.2026,85.0467 ,84.8879,84.7272,84.5654,84.4026, 84.2384,83.986,83.8157,83.6445,83.4727, 83.3002,83.0356,82.8578,82.6795,82.5008 ,82.2301,82.0464,81.8626,81.6784, 81.4941,81.2124,81.0236,80.8345,80.6454 ,80.357,80.1636,79.97,79.7766,79.5794, 79.3818,79.1841,78.9865,78.7856,78.5842 ,78.3826,78.1811,77.9758,77.6678, 77.4626,77.2543,77.1673,77.104,77.0388, 76.9921,76.9225,76.8426,76.9921,77.1914 ,77.3905,77.5896,77.8841,78.079,78.2737 ,78.4677,78.658,78.8481,79.0385,79.2278 ,79.4132,79.5983,79.7829,80.0583, 80.2381,80.4175,80.5963,80.8624,81.036, 81.2088,81.381,81.5524,81.7213,81.8872, 82.0522,82.2163,82.3792,82.5402,82.6971 ,82.8521,83.0069,83.1597,83.3847, 83.5298,83.673,83.8142,83.9532,84.0899, 84.2231,84.4771,84.7191,85.0011, 85.2128)
FOOTPRINT_POINT_LONGITUDE = (341.263,343.785,345.591,348.079, 351.123,353.747,358.604,361.344,363.742 ,364.846,365.893,366.866,367.785, 368.653,369.465,370.619,371.339,372.018 ,372.661,373.271,374.143,374.69,375.21, 375.705,376.407,376.855,377.282,377.69, 378.079,378.641,378.998,379.339,379.666 ,380.141,380.441,380.728,381.009, 381.277,381.538,381.788,382.03,382.267, 382.501,382.721,382.933,383.141,383.439 ,383.629,383.816,381.99,380.671,379.447 ,378.637,377.513,376.322,375.308, 375.036,374.755,374.464,374.014,373.702 ,373.38,373.047,372.707,372.354,371.993 ,371.615,371.229,370.83,370.412,369.765 ,369.317,368.85,368.365,367.604,367.079 ,366.532,365.962,365.368,364.754, 364.121,363.461,362.771,362.05,361.301, 360.531,359.72,358.884,358.003,356.609, 355.644,354.633,353.573,352.463,351.299 ,350.088,347.532,344.729,340.863, 341.263)
ORBIT_NUMBER = 5713
ORBITAL_ECCENTRICITY = 0.568
ORBITAL_INCLINATION = 86.74
ORBITAL_SEMIMAJOR_AXIS = 8640.58
PERIAPSIS_ALTITUDE = 358.83
PERIAPSIS_ARGUMENT_ANGLE = 73.45
PERIAPSIS_TIME = 2008-06-13T19:07:50.000Z
SPACECRAFT_ORIENTATION = (0.0,1.0,0.0)
^MEX_ORIENTATION_DESC = "MEX_ORIENTATION_DESC.TXT"
SPACECRAFT_POINTING_MODE = NADIR
^MEX_POINTING_DESC = "MEX_POINTING_DESC.TXT"
RIGHT_ASCENSION = -1e+32
DECLINATION = -1e+32
OFFSET_ANGLE = -1e+32
SPACECRAFT_SOLAR_DISTANCE = 2.48475e+08
TARGET_NAME = MARS
/* CAMERA DATA ELEMENTS */
DETECTOR_TEMPERATURE = 17.7588
FOCAL_PLANE_TEMPERATURE = 7.3599
INST_CMPRS_NAME = "DISCRETE COSINE TRANSFORMATION (DCT)"
INST_CMPRS_RATIO = 7.21911
INST_CMPRS_QUALITY = 0
INST_CMPRS_QUANTZ_TBL_ID = 0
INSTRUMENT_TEMPERATURE = 10.4184
LENS_TEMPERATURE = 7.9716
MACROPIXEL_SIZE = 1
MISSING_FRAMES = 0
PIXEL_SUBSAMPLING_FLAG = N
SIGNAL_CHAIN_ID = 0
/* RADIOMETRIC DATA ELEMENTS */
BANDWIDTH = 177.0
CENTER_FILTER_WAVELENGTH = 677.5
RADIANCE_OFFSET = 2.5082
RADIANCE_SCALING_FACTOR = 0.0333334
REFLECTANCE_SCALING_FACTOR = 0.00109328
MEX:REFLECTANCE_OFFSET = 0.0822647
/* IMAGE OBJECT DEFINITIONS */
OBJECT = IMAGE
  INTERCHANGE_FORMAT = BINARY
  LINES = 44494
  LINE_SAMPLES = 25692
  SAMPLE_TYPE = UNSIGNED_INTEGER
  SAMPLE_BITS = 8
  BANDS = 1
  BAND_STORAGE_TYPE = BAND_SEQUENTIAL
  MAXIMUM = 254
  MEAN = 168.447
  MINIMUM = 1
  STANDARD_DEVIATION = 57.931
END_OBJECT = IMAGE
/* MAP OBJECT DEFINITIONS */
OBJECT = IMAGE_MAP_PROJECTION
  ^DATA_SET_MAP_PROJECTION_CATALOG= "DSMAP.CAT"
  A_AXIS_RADIUS = 3396.0
  B_AXIS_RADIUS = 3396.0
  C_AXIS_RADIUS = 3396.0
  CENTER_LATITUDE = 0.0
  CENTER_LONGITUDE = 11.0
  COORDINATE_SYSTEM_NAME = PLANETOGRAPHIC
  COORDINATE_SYSTEM_TYPE = "BODY-FIXED ROTATING"
  EASTERNMOST_LONGITUDE = 23.816
  FIRST_STANDARD_PARALLEL = "N/A"
  LINE_FIRST_PIXEL = 1
  LINE_LAST_PIXEL = 44494
  LINE_PROJECTION_OFFSET = 408679.0
  MAP_PROJECTION_ROTATION = 0.0
  MAP_PROJECTION_TYPE = SINUSOIDAL
  MAP_RESOLUTION = 4741.71043093333
  MAP_SCALE = 0.0125
  MAXIMUM_LATITUDE = 86.2136
  MINIMUM_LATITUDE = 76.8426
  POSITIVE_LONGITUDE_DIRECTION = EAST
  REFERENCE_LATITUDE = "N/A"
  REFERENCE_LONGITUDE = "N/A"
  SAMPLE_FIRST_PIXEL = 1
  SAMPLE_LAST_PIXEL = 25692
  SAMPLE_PROJECTION_OFFSET = 12464.0
  SECOND_STANDARD_PARALLEL = "N/A"
  WESTERNMOST_LONGITUDE = -19.137
END_OBJECT = IMAGE_MAP_PROJECTION
/* The JPEG2000 image data file associated with this label. */
OBJECT = COMPRESSED_FILE
  FILE_NAME = "H5713_0000_ND3.JP2"
  RECORD_TYPE = UNDEFINED
  FILE_RECORDS = UNK
  ENCODING_TYPE = "JP2"
  INTERCHANGE_FORMAT = BINARY
  UNCOMPRESSED_FILE_NAME = "H5713_0000_ND3.IMG"
  REQUIRED_STORAGE_BYTES = "1143216924"
  ^DESCRIPTION = "JP2INFO.TXT"
END_OBJECT = COMPRESSED_FILE
END
