PDS_VERSION_ID = PDS3
/* FILE DATA ELEMENTS */
RECORD_TYPE = STREAM
/* POINTERS TO DATA OBJECTS */
^COMPRESSED_FILE = "H5715_0000_P23.JP2"
/* IDENTIFICATION DATA ELEMENTS */
DATA_SET_ID = "MEX-M-HRSC-5-REFDR-MAPPROJECTED-V3.0"
DATA_SET_NAME = "MARS EXPRESS HRSC MAP PROJECTED REFDR V3.0"
DETECTOR_ID = MEX_HRSC_P2
EVENT_TYPE = "MARS-REGIONAL-MAPPING-Gl-Eo-Ot"
INSTRUMENT_HOST_ID = MEX
INSTRUMENT_HOST_NAME = "MARS EXPRESS"
INSTRUMENT_ID = HRSC
INSTRUMENT_NAME = "HIGH RESOLUTION STEREO CAMERA"
MISSION_NAME = "MARS EXPRESS"
MISSION_PHASE_NAME = ME_Phase_13
PROCESSING_LEVEL_ID = 3
PRODUCT_CREATION_TIME = 2016-05-15T20:04:19.000Z
PRODUCT_ID = "H5715_0000_P23.JP2"
RELEASE_ID = 0065
REVISION_ID = 0000
/* QUALITY DATA ELEMENTS */
DATA_QUALITY_ID = 2
DATA_QUALITY_DESC = "Data calculated based on photogrammetrically improved orbit and attitude data"
/* TIME DATA ELEMENTS */
SPACECRAFT_CLOCK_START_COUNT = "1/0161513614.09057"
SPACECRAFT_CLOCK_STOP_COUNT = "1/0161513833.34253"
START_TIME = 2008-06-14T08:53:51.326Z
STOP_TIME = 2008-06-14T08:55:45.951Z
/* ORBITAL DATA ELEMENTS */
ASCENDING_NODE_LONGITUDE = 109.58
MAXIMUM_RESOLUTION = 72.1
FOOTPRINT_POINT_LATITUDE = (84.7473,84.9217,85.0809,85.1897, 85.2865,85.4224,85.591,85.4818,85.2532, 84.9592,84.6549,84.4079,84.1581,83.9062 ,83.7765,83.6461,83.5153,83.3839, 83.2523,83.1202,82.9878,82.8552,82.7193 ,82.5829,82.4462,82.3092,82.1721, 82.0347,81.897,81.7573,81.6161,81.4746, 81.3331,81.1913,81.0495,80.9075,80.7629 ,80.6174,80.4719,80.3262,80.1805, 79.9617,79.8131,79.6639,79.5146,79.3652 ,79.2158,79.0662,78.9143,78.7616, 78.6837,78.6268,78.5861,78.5205,78.4595 ,78.4151,78.3096,78.2355,78.383,78.5301 ,78.7461,78.8898,79.0332,79.1765, 79.3195,79.4609,79.6005,79.7398,79.879, 80.0178,80.1563,80.2946,80.4294,80.5639 ,80.6981,80.8319,80.9654,81.0985, 81.2305,81.3597,81.4883,81.6165,81.7441 ,81.8712,81.9978,82.1855,82.3076, 82.4289,82.5496,82.6696,82.7888,82.9072 ,83.1405,83.3655,83.5866,83.8032,84.066 ,84.2655,84.5065,84.7473)
FOOTPRINT_POINT_LONGITUDE = (147.932,149.821,151.728,153.15,154.511 ,156.593,159.522,161.184,163.02,165.112 ,166.971,168.312,169.537,170.659, 171.198,171.715,172.211,172.689,173.146 ,173.585,174.008,174.415,174.814,175.2, 175.571,175.929,176.274,176.606,176.928 ,177.242,177.549,177.846,178.132, 178.409,178.678,178.937,179.192,179.441 ,179.682,179.915,180.142,180.469, 180.682,180.89,181.092,181.288,181.478, 181.664,181.846,182.024,181.077,179.845 ,179.032,177.824,176.788,176.078,174.52 ,173.493,173.243,172.987,172.597, 172.329,172.053,171.769,171.477,171.179 ,170.877,170.566,170.246,169.917, 169.577,169.228,168.876,168.514,168.141 ,167.756,167.359,166.95,166.53,166.105, 165.666,165.213,164.746,164.263,163.765 ,162.99,162.462,161.917,161.353,160.77, 160.167,159.543,158.235,156.862,155.39, 153.813,151.683,149.879,147.439, 147.932)
ORBIT_NUMBER = 5715
ORBITAL_ECCENTRICITY = 0.568
ORBITAL_INCLINATION = 86.74
ORBITAL_SEMIMAJOR_AXIS = 8643.23
PERIAPSIS_ALTITUDE = 358.66
PERIAPSIS_ARGUMENT_ANGLE = 73.12
PERIAPSIS_TIME = 2008-06-14T08:48:57.000Z
SPACECRAFT_ORIENTATION = (0.0,1.0,0.0)
^MEX_ORIENTATION_DESC = "MEX_ORIENTATION_DESC.TXT"
SPACECRAFT_POINTING_MODE = NADIR
^MEX_POINTING_DESC = "MEX_POINTING_DESC.TXT"
RIGHT_ASCENSION = -1e+32
DECLINATION = -1e+32
OFFSET_ANGLE = -1e+32
SPACECRAFT_SOLAR_DISTANCE = 2.48448e+08
TARGET_NAME = MARS
/* CAMERA DATA ELEMENTS */
DETECTOR_TEMPERATURE = 18.1666
FOCAL_PLANE_TEMPERATURE = 7.3599
INST_CMPRS_NAME = "DISCRETE COSINE TRANSFORMATION (DCT)"
INST_CMPRS_RATIO = 4.00924
INST_CMPRS_QUALITY = 0
INST_CMPRS_QUANTZ_TBL_ID = 0
INSTRUMENT_TEMPERATURE = 10.6223
LENS_TEMPERATURE = 7.7677
MACROPIXEL_SIZE = 4
MISSING_FRAMES = 0
PIXEL_SUBSAMPLING_FLAG = N
SIGNAL_CHAIN_ID = 3
/* RADIOMETRIC DATA ELEMENTS */
BANDWIDTH = 177.0
CENTER_FILTER_WAVELENGTH = 676.5
RADIANCE_OFFSET = 3.22409
RADIANCE_SCALING_FACTOR = 0.01954
REFLECTANCE_SCALING_FACTOR = 0.000639518
MEX:REFLECTANCE_OFFSET = 0.10552
/* IMAGE OBJECT DEFINITIONS */
OBJECT = IMAGE
  INTERCHANGE_FORMAT = BINARY
  LINES = 8638
  LINE_SAMPLES = 5376
  SAMPLE_TYPE = UNSIGNED_INTEGER
  SAMPLE_BITS = 8
  BANDS = 1
  BAND_STORAGE_TYPE = BAND_SEQUENTIAL
  MAXIMUM = 255
  MEAN = 152.703
  MINIMUM = 1
  STANDARD_DEVIATION = 84.944
END_OBJECT = IMAGE
/* MAP OBJECT DEFINITIONS */
OBJECT = IMAGE_MAP_PROJECTION
  ^DATA_SET_MAP_PROJECTION_CATALOG= "DSMAP.CAT"
  A_AXIS_RADIUS = 3396.0
  B_AXIS_RADIUS = 3396.0
  C_AXIS_RADIUS = 3396.0
  CENTER_LATITUDE = 0.0
  CENTER_LONGITUDE = 170.0
  COORDINATE_SYSTEM_NAME = PLANETOGRAPHIC
  COORDINATE_SYSTEM_TYPE = "BODY-FIXED ROTATING"
  EASTERNMOST_LONGITUDE = 182.024
  FIRST_STANDARD_PARALLEL = "N/A"
  LINE_FIRST_PIXEL = 1
  LINE_LAST_PIXEL = 8638
  LINE_PROJECTION_OFFSET = 101396.625
  MAP_PROJECTION_ROTATION = 0.0
  MAP_PROJECTION_TYPE = SINUSOIDAL
  MAP_RESOLUTION = 1185.42760773333
  MAP_SCALE = 0.05
  MAXIMUM_LATITUDE = 85.59099999999999
  MINIMUM_LATITUDE = 78.2355
  POSITIVE_LONGITUDE_DIRECTION = EAST
  REFERENCE_LATITUDE = "N/A"
  REFERENCE_LONGITUDE = "N/A"
  SAMPLE_FIRST_PIXEL = 1
  SAMPLE_LAST_PIXEL = 5376
  SAMPLE_PROJECTION_OFFSET = 2590.375
  SECOND_STANDARD_PARALLEL = "N/A"
  WESTERNMOST_LONGITUDE = 147.439
END_OBJECT = IMAGE_MAP_PROJECTION
/* The JPEG2000 image data file associated with this label. */
OBJECT = COMPRESSED_FILE
  FILE_NAME = "H5715_0000_P23.JP2"
  RECORD_TYPE = UNDEFINED
  FILE_RECORDS = UNK
  ENCODING_TYPE = "JP2"
  INTERCHANGE_FORMAT = BINARY
  UNCOMPRESSED_FILE_NAME = "H5715_0000_P23.IMG"
  REQUIRED_STORAGE_BYTES = "46464768"
  ^DESCRIPTION = "JP2INFO.TXT"
END_OBJECT = COMPRESSED_FILE
END
