PDS_VERSION_ID = PDS3
/* FILE DATA ELEMENTS */
RECORD_TYPE = STREAM
/* POINTERS TO DATA OBJECTS */
^COMPRESSED_FILE = "H5726_0000_BL3.JP2"
/* IDENTIFICATION DATA ELEMENTS */
DATA_SET_ID = "MEX-M-HRSC-5-REFDR-MAPPROJECTED-V3.0"
DATA_SET_NAME = "MARS EXPRESS HRSC MAP PROJECTED REFDR V3.0"
DETECTOR_ID = MEX_HRSC_BLUE
EVENT_TYPE = "MARS-REGIONAL-MAPPING-Gl-La"
INSTRUMENT_HOST_ID = MEX
INSTRUMENT_HOST_NAME = "MARS EXPRESS"
INSTRUMENT_ID = HRSC
INSTRUMENT_NAME = "HIGH RESOLUTION STEREO CAMERA"
MISSION_NAME = "MARS EXPRESS"
MISSION_PHASE_NAME = ME_Phase_13
PROCESSING_LEVEL_ID = 3
PRODUCT_CREATION_TIME = 2016-05-15T20:04:19.000Z
PRODUCT_ID = "H5726_0000_BL3.JP2"
RELEASE_ID = 0065
REVISION_ID = 0000
/* QUALITY DATA ELEMENTS */
DATA_QUALITY_ID = 1
DATA_QUALITY_DESC = "Data calculated based on original SPICE kernels"
/* TIME DATA ELEMENTS */
SPACECRAFT_CLOCK_START_COUNT = "1/0161784365.07291"
SPACECRAFT_CLOCK_STOP_COUNT = "1/0161784527.56760"
START_TIME = 2008-06-17T12:06:36.532Z
STOP_TIME = 2008-06-17T12:08:05.051Z
/* ORBITAL DATA ELEMENTS */
ASCENDING_NODE_LONGITUDE = 109.37
MAXIMUM_RESOLUTION = 59.8
FOOTPRINT_POINT_LATITUDE = (78.2101,78.2563,78.3034,78.3482, 78.3905,78.4303,78.4676,78.5259,78.6387 ,78.7515,78.8638,78.9762,79.0882, 79.2009,79.3133,79.4819,79.6505,79.7626 ,79.8743,79.9864,80.0982,80.2101, 80.3218,80.4335,80.5452,80.6567,80.8239 ,80.9354,81.1024,81.2139,81.3799, 81.4908,81.6016,81.7122,81.8228,81.9333 ,82.0437,82.1539,82.264,82.374,82.5387, 82.7031,82.8671,83.0308,83.1396,83.3026 ,83.4652,83.6272,83.735,83.8962,84.0568 ,84.0155,83.9298,83.8433,83.7867,83.698 ,83.6303,83.5476,83.4455,83.2528,83.058 ,82.8611,82.7619,82.6124,82.5121, 82.4115,82.3104,82.209,82.1072,82.0051, 81.9026,81.7998,81.6967,81.5933,81.4896 ,81.3856,81.2813,81.1245,81.0195, 80.9144,80.809,80.6505,80.5446,80.4385, 80.2789,80.1189,80.012,79.9049,79.7441, 79.6366,79.475,79.3127,79.1504,78.9342, 78.8254,78.7166,78.6076,78.4984,78.3893 ,78.2101)
FOOTPRINT_POINT_LONGITUDE = (10.9547,10.1545,9.28959,8.41294, 7.52576,6.62741,5.71635,4.90033,4.99892 ,5.09841,5.20441,5.31135,5.42262, 5.53049,5.64219,5.8137,5.98909,6.11157, 6.24057,6.36675,6.49926,6.6322,6.76956, 6.90934,7.05246,7.19907,7.42608,7.58038 ,7.81956,7.98118,8.24309,8.4194,8.60011 ,8.78591,8.97675,9.17229,9.37351, 9.58029,9.79294,10.0117,10.3518,10.7073 ,11.0791,11.4683,11.7384,12.1595, 12.6015,13.0661,13.3894,13.8946,14.4279 ,15.6284,17.5996,19.39,20.478,22.0671, 23.1987,24.4996,25.9798,24.9581,23.9937 ,23.0826,22.6458,22.0129,21.6051, 21.2082,20.8219,20.4457,20.0794,19.7224 ,19.3746,19.0357,18.7053,18.383,18.0689 ,17.7624,17.4633,17.0285,16.7467, 16.4719,16.2035,15.8124,15.5592,15.3119 ,14.9516,14.603,14.3764,14.1553,13.8334 ,13.6236,13.3176,13.0195,12.7318,12.365 ,12.185,12.0092,11.8364,11.6672,11.5015 ,10.9547)
ORBIT_NUMBER = 5726
ORBITAL_ECCENTRICITY = 0.568
ORBITAL_INCLINATION = 86.74
ORBITAL_SEMIMAJOR_AXIS = 8644.47
PERIAPSIS_ALTITUDE = 358.93
PERIAPSIS_ARGUMENT_ANGLE = 71.17
PERIAPSIS_TIME = 2008-06-17T12:04:46.000Z
SPACECRAFT_ORIENTATION = (0.0,1.0,0.0)
^MEX_ORIENTATION_DESC = "MEX_ORIENTATION_DESC.TXT"
SPACECRAFT_POINTING_MODE = ACROSSTRACK
^MEX_POINTING_DESC = "MEX_POINTING_DESC.TXT"
RIGHT_ASCENSION = -1e+32
DECLINATION = -1e+32
OFFSET_ANGLE = 0.458
SPACECRAFT_SOLAR_DISTANCE = 2.48292e+08
TARGET_NAME = MARS
/* CAMERA DATA ELEMENTS */
DETECTOR_TEMPERATURE = 18.1666
FOCAL_PLANE_TEMPERATURE = 7.7677
INST_CMPRS_NAME = "DISCRETE COSINE TRANSFORMATION (DCT)"
INST_CMPRS_RATIO = 21.6947
INST_CMPRS_QUALITY = 0
INST_CMPRS_QUANTZ_TBL_ID = 0
INSTRUMENT_TEMPERATURE = 10.6223
LENS_TEMPERATURE = 8.1755
MACROPIXEL_SIZE = 4
MISSING_FRAMES = 0
PIXEL_SUBSAMPLING_FLAG = N
SIGNAL_CHAIN_ID = 2
/* RADIOMETRIC DATA ELEMENTS */
BANDWIDTH = 76.0
CENTER_FILTER_WAVELENGTH = 444.0
RADIANCE_OFFSET = 0.319478
RADIANCE_SCALING_FACTOR = 0.00588842
REFLECTANCE_SCALING_FACTOR = 0.000372974
MEX:REFLECTANCE_OFFSET = 0.0202358
/* IMAGE OBJECT DEFINITIONS */
OBJECT = IMAGE
  INTERCHANGE_FORMAT = BINARY
  LINES = 6902
  LINE_SAMPLES = 3542
  SAMPLE_TYPE = UNSIGNED_INTEGER
  SAMPLE_BITS = 8
  BANDS = 1
  BAND_STORAGE_TYPE = BAND_SEQUENTIAL
  MAXIMUM = 255
  MEAN = 167.728
  MINIMUM = 1
  STANDARD_DEVIATION = 65.1454
END_OBJECT = IMAGE
/* MAP OBJECT DEFINITIONS */
OBJECT = IMAGE_MAP_PROJECTION
  ^DATA_SET_MAP_PROJECTION_CATALOG= "DSMAP.CAT"
  A_AXIS_RADIUS = 3396.0
  B_AXIS_RADIUS = 3396.0
  C_AXIS_RADIUS = 3396.0
  CENTER_LATITUDE = 0.0
  CENTER_LONGITUDE = 12.0
  COORDINATE_SYSTEM_NAME = PLANETOGRAPHIC
  COORDINATE_SYSTEM_TYPE = "BODY-FIXED ROTATING"
  EASTERNMOST_LONGITUDE = 25.9798
  FIRST_STANDARD_PARALLEL = "N/A"
  LINE_FIRST_PIXEL = 1
  LINE_LAST_PIXEL = 6902
  LINE_PROJECTION_OFFSET = 99628.625
  MAP_PROJECTION_ROTATION = 0.0
  MAP_PROJECTION_TYPE = SINUSOIDAL
  MAP_RESOLUTION = 1185.42760773333
  MAP_SCALE = 0.05
  MAXIMUM_LATITUDE = 84.0568
  MINIMUM_LATITUDE = 78.2101
  POSITIVE_LONGITUDE_DIRECTION = EAST
  REFERENCE_LATITUDE = "N/A"
  REFERENCE_LONGITUDE = "N/A"
  SAMPLE_FIRST_PIXEL = 1
  SAMPLE_LAST_PIXEL = 3542
  SAMPLE_PROJECTION_OFFSET = 1653.125
  SECOND_STANDARD_PARALLEL = "N/A"
  WESTERNMOST_LONGITUDE = 4.90033
END_OBJECT = IMAGE_MAP_PROJECTION
/* The JPEG2000 image data file associated with this label. */
OBJECT = COMPRESSED_FILE
  FILE_NAME = "H5726_0000_BL3.JP2"
  RECORD_TYPE = UNDEFINED
  FILE_RECORDS = UNK
  ENCODING_TYPE = "JP2"
  INTERCHANGE_FORMAT = BINARY
  UNCOMPRESSED_FILE_NAME = "H5726_0000_BL3.IMG"
  REQUIRED_STORAGE_BYTES = "24468136"
  ^DESCRIPTION = "JP2INFO.TXT"
END_OBJECT = COMPRESSED_FILE
END
