PDS_VERSION_ID = PDS3
/* FILE DATA ELEMENTS */
RECORD_TYPE = STREAM
/* POINTERS TO DATA OBJECTS */
^COMPRESSED_FILE = "H5726_0000_GR3.JP2"
/* IDENTIFICATION DATA ELEMENTS */
DATA_SET_ID = "MEX-M-HRSC-5-REFDR-MAPPROJECTED-V3.0"
DATA_SET_NAME = "MARS EXPRESS HRSC MAP PROJECTED REFDR V3.0"
DETECTOR_ID = MEX_HRSC_GREEN
EVENT_TYPE = "MARS-REGIONAL-MAPPING-Gl-La"
INSTRUMENT_HOST_ID = MEX
INSTRUMENT_HOST_NAME = "MARS EXPRESS"
INSTRUMENT_ID = HRSC
INSTRUMENT_NAME = "HIGH RESOLUTION STEREO CAMERA"
MISSION_NAME = "MARS EXPRESS"
MISSION_PHASE_NAME = ME_Phase_13
PROCESSING_LEVEL_ID = 3
PRODUCT_CREATION_TIME = 2016-05-15T20:04:19.000Z
PRODUCT_ID = "H5726_0000_GR3.JP2"
RELEASE_ID = 0065
REVISION_ID = 0000
/* QUALITY DATA ELEMENTS */
DATA_QUALITY_ID = 1
DATA_QUALITY_DESC = "Data calculated based on original SPICE kernels"
/* TIME DATA ELEMENTS */
SPACECRAFT_CLOCK_START_COUNT = "1/0161784365.07291"
SPACECRAFT_CLOCK_STOP_COUNT = "1/0161784527.56760"
START_TIME = 2008-06-17T12:06:48.151Z
STOP_TIME = 2008-06-17T12:08:17.554Z
/* ORBITAL DATA ELEMENTS */
ASCENDING_NODE_LONGITUDE = 109.37
MAXIMUM_RESOLUTION = 60.2
FOOTPRINT_POINT_LATITUDE = (78.2863,78.3337,78.3841,78.4263, 78.4658,78.5028,78.524,78.6359,78.7478, 78.8597,79.0275,79.1951,79.3066,79.4181 ,79.5296,79.6409,79.7522,79.919,80.0301 ,80.1412,80.2521,80.4183,80.5843, 80.6949,80.8054,80.9157,81.0259,81.1911 ,81.3011,81.411,81.5208,81.6305,81.74, 81.8494,81.9587,82.0678,82.1768,82.2857 ,82.3944,82.5029,82.6114,82.7196, 82.8277,82.9356,83.0971,83.2582,83.4189 ,83.5257,83.6855,83.8448,84.0564, 84.0109,83.9309,83.8452,83.7599,83.6452 ,83.5434,83.4475,83.2099,83.0174, 82.8229,82.6265,82.4284,82.3288,82.2287 ,82.1283,82.0275,81.9264,81.8249, 81.7231,81.621,81.5186,81.4159,81.3129, 81.2096,81.0542,80.9503,80.8461,80.7416 ,80.637,80.5321,80.427,80.3213,80.1628, 80.0572,79.9512,79.7914,79.6316,79.4714 ,79.3111,79.1501,79.0427,78.9349, 78.7727,78.6646,78.5566,78.4483,78.3399 ,78.2314,78.2863)
FOOTPRINT_POINT_LONGITUDE = (10.6133,9.74267,8.74805,7.85307, 6.94663,6.0281,4.87244,4.97026,5.06825, 5.17161,5.3313,5.49615,5.60505,5.71579, 5.83177,5.94658,6.06675,6.25701,6.38121 ,6.51453,6.64695,6.85237,7.06439, 7.20984,7.35971,7.51133,7.665,7.9034, 8.07446,8.24582,8.42024,8.59925,8.78324 ,8.97209,9.1655,9.36448,9.56875,9.77898 ,9.99505,10.2169,10.4458,10.6814, 10.9241,11.1735,11.5629,11.9708,12.3992 ,12.6957,13.1596,13.6472,14.338,15.6768 ,17.559,19.3783,21.0264,23.0396,24.6666 ,26.0703,24.8136,23.8702,22.978,22.1331 ,21.3325,20.9479,20.5731,20.208,19.8522 ,19.5053,19.1671,18.8373,18.5155, 18.2016,17.8953,17.5963,17.3044,16.8794 ,16.6043,16.3355,16.0729,15.8162, 15.5653,15.32,15.0804,14.7304,14.5032, 14.281,13.9569,13.6427,13.3383,13.0429, 12.7568,12.5708,12.3887,12.1225,11.9491 ,11.7789,11.6122,11.4486,11.2882, 10.6133)
ORBIT_NUMBER = 5726
ORBITAL_ECCENTRICITY = 0.568
ORBITAL_INCLINATION = 86.74
ORBITAL_SEMIMAJOR_AXIS = 8644.47
PERIAPSIS_ALTITUDE = 358.93
PERIAPSIS_ARGUMENT_ANGLE = 71.17
PERIAPSIS_TIME = 2008-06-17T12:04:46.000Z
SPACECRAFT_ORIENTATION = (0.0,1.0,0.0)
^MEX_ORIENTATION_DESC = "MEX_ORIENTATION_DESC.TXT"
SPACECRAFT_POINTING_MODE = ACROSSTRACK
^MEX_POINTING_DESC = "MEX_POINTING_DESC.TXT"
RIGHT_ASCENSION = -1e+32
DECLINATION = -1e+32
OFFSET_ANGLE = 0.458
SPACECRAFT_SOLAR_DISTANCE = 2.48292e+08
TARGET_NAME = MARS
/* CAMERA DATA ELEMENTS */
DETECTOR_TEMPERATURE = 18.1666
FOCAL_PLANE_TEMPERATURE = 7.7677
INST_CMPRS_NAME = "DISCRETE COSINE TRANSFORMATION (DCT)"
INST_CMPRS_RATIO = 12.6487
INST_CMPRS_QUALITY = 0
INST_CMPRS_QUANTZ_TBL_ID = 0
INSTRUMENT_TEMPERATURE = 10.6223
LENS_TEMPERATURE = 8.1755
MACROPIXEL_SIZE = 4
MISSING_FRAMES = 0
PIXEL_SUBSAMPLING_FLAG = N
SIGNAL_CHAIN_ID = 2
/* RADIOMETRIC DATA ELEMENTS */
BANDWIDTH = 88.0
CENTER_FILTER_WAVELENGTH = 538.0
RADIANCE_OFFSET = 0.767175
RADIANCE_SCALING_FACTOR = 0.00875209
REFLECTANCE_SCALING_FACTOR = 0.000464543
MEX:REFLECTANCE_OFFSET = 0.0407201
/* IMAGE OBJECT DEFINITIONS */
OBJECT = IMAGE
  INTERCHANGE_FORMAT = BINARY
  LINES = 6902
  LINE_SAMPLES = 3542
  SAMPLE_TYPE = UNSIGNED_INTEGER
  SAMPLE_BITS = 8
  BANDS = 1
  BAND_STORAGE_TYPE = BAND_SEQUENTIAL
  MAXIMUM = 255
  MEAN = 171.128
  MINIMUM = 1
  STANDARD_DEVIATION = 62.2227
END_OBJECT = IMAGE
/* MAP OBJECT DEFINITIONS */
OBJECT = IMAGE_MAP_PROJECTION
  ^DATA_SET_MAP_PROJECTION_CATALOG= "DSMAP.CAT"
  A_AXIS_RADIUS = 3396.0
  B_AXIS_RADIUS = 3396.0
  C_AXIS_RADIUS = 3396.0
  CENTER_LATITUDE = 0.0
  CENTER_LONGITUDE = 12.0
  COORDINATE_SYSTEM_NAME = PLANETOGRAPHIC
  COORDINATE_SYSTEM_TYPE = "BODY-FIXED ROTATING"
  EASTERNMOST_LONGITUDE = 26.0703
  FIRST_STANDARD_PARALLEL = "N/A"
  LINE_FIRST_PIXEL = 1
  LINE_LAST_PIXEL = 6902
  LINE_PROJECTION_OFFSET = 99628.625
  MAP_PROJECTION_ROTATION = 0.0
  MAP_PROJECTION_TYPE = SINUSOIDAL
  MAP_RESOLUTION = 1185.42760773333
  MAP_SCALE = 0.05
  MAXIMUM_LATITUDE = 84.0564
  MINIMUM_LATITUDE = 78.23139999999999
  POSITIVE_LONGITUDE_DIRECTION = EAST
  REFERENCE_LATITUDE = "N/A"
  REFERENCE_LONGITUDE = "N/A"
  SAMPLE_FIRST_PIXEL = 1
  SAMPLE_LAST_PIXEL = 3542
  SAMPLE_PROJECTION_OFFSET = 1653.125
  SECOND_STANDARD_PARALLEL = "N/A"
  WESTERNMOST_LONGITUDE = 4.87244
END_OBJECT = IMAGE_MAP_PROJECTION
/* The JPEG2000 image data file associated with this label. */
OBJECT = COMPRESSED_FILE
  FILE_NAME = "H5726_0000_GR3.JP2"
  RECORD_TYPE = UNDEFINED
  FILE_RECORDS = UNK
  ENCODING_TYPE = "JP2"
  INTERCHANGE_FORMAT = BINARY
  UNCOMPRESSED_FILE_NAME = "H5726_0000_GR3.IMG"
  REQUIRED_STORAGE_BYTES = "24468136"
  ^DESCRIPTION = "JP2INFO.TXT"
END_OBJECT = COMPRESSED_FILE
END
