PDS_VERSION_ID = PDS3
/* FILE DATA ELEMENTS */
RECORD_TYPE = STREAM
/* POINTERS TO DATA OBJECTS */
^COMPRESSED_FILE = "H5726_0000_S13.JP2"
/* IDENTIFICATION DATA ELEMENTS */
DATA_SET_ID = "MEX-M-HRSC-5-REFDR-MAPPROJECTED-V3.0"
DATA_SET_NAME = "MARS EXPRESS HRSC MAP PROJECTED REFDR V3.0"
DETECTOR_ID = MEX_HRSC_S1
EVENT_TYPE = "MARS-REGIONAL-MAPPING-Gl-La"
INSTRUMENT_HOST_ID = MEX
INSTRUMENT_HOST_NAME = "MARS EXPRESS"
INSTRUMENT_ID = HRSC
INSTRUMENT_NAME = "HIGH RESOLUTION STEREO CAMERA"
MISSION_NAME = "MARS EXPRESS"
MISSION_PHASE_NAME = ME_Phase_13
PROCESSING_LEVEL_ID = 3
PRODUCT_CREATION_TIME = 2016-05-15T20:04:19.000Z
PRODUCT_ID = "H5726_0000_S13.JP2"
RELEASE_ID = 0065
REVISION_ID = 0000
/* QUALITY DATA ELEMENTS */
DATA_QUALITY_ID = 1
DATA_QUALITY_DESC = "Data calculated based on original SPICE kernels"
/* TIME DATA ELEMENTS */
SPACECRAFT_CLOCK_START_COUNT = "1/0161784365.07291"
SPACECRAFT_CLOCK_STOP_COUNT = "1/0161784527.56760"
START_TIME = 2008-06-17T12:07:17.077Z
STOP_TIME = 2008-06-17T12:08:49.465Z
/* ORBITAL DATA ELEMENTS */
ASCENDING_NODE_LONGITUDE = 109.37
MAXIMUM_RESOLUTION = 32.6
FOOTPRINT_POINT_LATITUDE = (78.3821,78.4303,78.4755,78.5176, 78.5564,78.5919,78.6222,78.4974,78.6677 ,78.7803,78.8946,79.0655,79.1786, 79.3472,79.4596,79.5726,79.6839,79.7968 ,79.9101,80.0784,80.1904,80.3581, 80.5255,80.6926,80.8039,80.915,81.0809, 81.2469,81.3575,81.523,81.633,81.7978, 81.9074,82.0169,82.1261,82.2352,82.344, 82.507,82.6695,82.8316,82.9932,83.1007, 83.2615,83.4219,83.6879,83.8491,84.0516 ,84.0105,83.9354,83.8936,83.8154, 83.7682,83.7069,83.6561,83.6037,83.55, 83.4426,83.3462,83.2492,83.1524,82.9607 ,82.8156,82.6694,82.522,82.3241,82.1243 ,82.0239,81.923,81.8218,81.7202,81.6183 ,81.4646,81.3618,81.2065,81.1029, 80.9992,80.895,80.7904,80.6856,80.5805, 80.475,80.3666,80.1553,80.0499,79.8895, 79.7813,79.6744,79.5666,79.4063,79.2989 ,79.191,79.0824,78.9735,78.8611,78.6983 ,78.5897,78.4808,78.3713,78.2618, 78.3821)
FOOTPRINT_POINT_LONGITUDE = (10.9903,10.0502,9.09685,8.13049, 7.15261,6.16115,5.22023,4.70081,4.84578 ,4.94173,5.04714,5.20731,5.31416,5.4748 ,5.58509,5.70102,5.81258,5.93414, 6.06055,6.24931,6.37796,6.57671,6.78217 ,6.99467,7.14123,7.29072,7.51869, 7.75804,7.92324,8.17794,8.35231,8.62308 ,8.80988,9.00111,9.19729,9.39881, 9.60577,9.92745,10.2631,10.6141,10.9804 ,11.234,11.6292,12.0439,12.7801,13.2594 ,13.8997,15.0857,17.0143,18.0252, 19.7438,20.7012,21.8747,22.793,23.6931, 24.5767,26.2221,25.6945,25.182,24.6878, 23.7571,23.0916,22.4525,21.8382,21.0557 ,20.3124,19.9547,19.6058,19.2655, 18.9334,18.6095,18.1378,17.8326,17.3873 ,17.0998,16.8194,16.5447,16.2762, 16.0139,15.7574,15.5063,15.2563,14.7828 ,14.5545,14.2185,13.9988,13.786,13.5766 ,13.273,13.0754,12.8813,12.6905,12.5034 ,12.3159,12.0491,11.8755,11.7052, 11.5378,11.3735,10.9903)
ORBIT_NUMBER = 5726
ORBITAL_ECCENTRICITY = 0.568
ORBITAL_INCLINATION = 86.74
ORBITAL_SEMIMAJOR_AXIS = 8644.47
PERIAPSIS_ALTITUDE = 358.93
PERIAPSIS_ARGUMENT_ANGLE = 71.17
PERIAPSIS_TIME = 2008-06-17T12:04:46.000Z
SPACECRAFT_ORIENTATION = (0.0,1.0,0.0)
^MEX_ORIENTATION_DESC = "MEX_ORIENTATION_DESC.TXT"
SPACECRAFT_POINTING_MODE = ACROSSTRACK
^MEX_POINTING_DESC = "MEX_POINTING_DESC.TXT"
RIGHT_ASCENSION = -1e+32
DECLINATION = -1e+32
OFFSET_ANGLE = 0.458
SPACECRAFT_SOLAR_DISTANCE = 2.48292e+08
TARGET_NAME = MARS
/* CAMERA DATA ELEMENTS */
DETECTOR_TEMPERATURE = 16.5354
FOCAL_PLANE_TEMPERATURE = 7.7677
INST_CMPRS_NAME = "DISCRETE COSINE TRANSFORMATION (DCT)"
INST_CMPRS_RATIO = 9.70392
INST_CMPRS_QUALITY = 0
INST_CMPRS_QUANTZ_TBL_ID = 0
INSTRUMENT_TEMPERATURE = 10.6223
LENS_TEMPERATURE = 8.1755
MACROPIXEL_SIZE = 2
MISSING_FRAMES = 0
PIXEL_SUBSAMPLING_FLAG = N
SIGNAL_CHAIN_ID = 1
/* RADIOMETRIC DATA ELEMENTS */
BANDWIDTH = 180.0
CENTER_FILTER_WAVELENGTH = 677.0
RADIANCE_OFFSET = 2.13208
RADIANCE_SCALING_FACTOR = 0.018735
REFLECTANCE_SCALING_FACTOR = 0.00060259
MEX:REFLECTANCE_OFFSET = 0.0685757
/* IMAGE OBJECT DEFINITIONS */
OBJECT = IMAGE
  INTERCHANGE_FORMAT = BINARY
  LINES = 13803
  LINE_SAMPLES = 7084
  SAMPLE_TYPE = UNSIGNED_INTEGER
  SAMPLE_BITS = 8
  BANDS = 1
  BAND_STORAGE_TYPE = BAND_SEQUENTIAL
  MAXIMUM = 254
  MEAN = 169.063
  MINIMUM = 1
  STANDARD_DEVIATION = 56.0259
END_OBJECT = IMAGE
/* MAP OBJECT DEFINITIONS */
OBJECT = IMAGE_MAP_PROJECTION
  ^DATA_SET_MAP_PROJECTION_CATALOG= "DSMAP.CAT"
  A_AXIS_RADIUS = 3396.0
  B_AXIS_RADIUS = 3396.0
  C_AXIS_RADIUS = 3396.0
  CENTER_LATITUDE = 0.0
  CENTER_LONGITUDE = 12.0
  COORDINATE_SYSTEM_NAME = PLANETOGRAPHIC
  COORDINATE_SYSTEM_TYPE = "BODY-FIXED ROTATING"
  EASTERNMOST_LONGITUDE = 26.2221
  FIRST_STANDARD_PARALLEL = "N/A"
  LINE_FIRST_PIXEL = 1
  LINE_LAST_PIXEL = 13803
  LINE_PROJECTION_OFFSET = 199257.75
  MAP_PROJECTION_ROTATION = 0.0
  MAP_PROJECTION_TYPE = SINUSOIDAL
  MAP_RESOLUTION = 2370.85521546667
  MAP_SCALE = 0.025
  MAXIMUM_LATITUDE = 84.05159999999999
  MINIMUM_LATITUDE = 78.26179999999999
  POSITIVE_LONGITUDE_DIRECTION = EAST
  REFERENCE_LATITUDE = "N/A"
  REFERENCE_LONGITUDE = "N/A"
  SAMPLE_FIRST_PIXEL = 1
  SAMPLE_LAST_PIXEL = 7084
  SAMPLE_PROJECTION_OFFSET = 3306.75
  SECOND_STANDARD_PARALLEL = "N/A"
  WESTERNMOST_LONGITUDE = 4.70081
END_OBJECT = IMAGE_MAP_PROJECTION
/* The JPEG2000 image data file associated with this label. */
OBJECT = COMPRESSED_FILE
  FILE_NAME = "H5726_0000_S13.JP2"
  RECORD_TYPE = UNDEFINED
  FILE_RECORDS = UNK
  ENCODING_TYPE = "JP2"
  INTERCHANGE_FORMAT = BINARY
  UNCOMPRESSED_FILE_NAME = "H5726_0000_S13.IMG"
  REQUIRED_STORAGE_BYTES = "97808788"
  ^DESCRIPTION = "JP2INFO.TXT"
END_OBJECT = COMPRESSED_FILE
END
